BEGIN:VCALENDAR
VERSION:2.0
PRODID:-//MAX - ECPv6.15.17.1//NONSGML v1.0//EN
CALSCALE:GREGORIAN
METHOD:PUBLISH
X-ORIGINAL-URL:https://metroatlantaexchange.org
X-WR-CALDESC:Events for MAX
REFRESH-INTERVAL;VALUE=DURATION:PT1H
X-Robots-Tag:noindex
X-PUBLISHED-TTL:PT1H
BEGIN:VTIMEZONE
TZID:America/New_York
BEGIN:DAYLIGHT
TZOFFSETFROM:-0500
TZOFFSETTO:-0400
TZNAME:EDT
DTSTART:20240310T070000
END:DAYLIGHT
BEGIN:STANDARD
TZOFFSETFROM:-0400
TZOFFSETTO:-0500
TZNAME:EST
DTSTART:20241103T060000
END:STANDARD
BEGIN:DAYLIGHT
TZOFFSETFROM:-0500
TZOFFSETTO:-0400
TZNAME:EDT
DTSTART:20250309T070000
END:DAYLIGHT
BEGIN:STANDARD
TZOFFSETFROM:-0400
TZOFFSETTO:-0500
TZNAME:EST
DTSTART:20251102T060000
END:STANDARD
BEGIN:DAYLIGHT
TZOFFSETFROM:-0500
TZOFFSETTO:-0400
TZNAME:EDT
DTSTART:20260308T070000
END:DAYLIGHT
BEGIN:STANDARD
TZOFFSETFROM:-0400
TZOFFSETTO:-0500
TZNAME:EST
DTSTART:20261101T060000
END:STANDARD
END:VTIMEZONE
BEGIN:VEVENT
DTSTART;TZID=America/New_York:20250921T080000
DTEND;TZID=America/New_York:20250925T170000
DTSTAMP:20260422T173048
CREATED:20250824T195503Z
LAST-MODIFIED:20250824T195503Z
UID:10035125-1758441600-1758819600@metroatlantaexchange.org
SUMMARY:National Conference of State Legislatures (NCSL): ASLCS 2025 Professional Development Seminar
DESCRIPTION:The National Conference of State Legislatures (NCSL) is hosting an ASLCS 2025 Professional Development Seminar starting Sunday\, September 21st through Thursday\, September 25th\, from 8:00 AM to 5:00 PM each day\, at the Drury Plaza Hotel. \nThe American Society of Legislative Clerks and Secretaries (ASLCS) is hosting its annual professional development seminar for principal clerks and secretaries and their staffs. The meeting brings together U.S. and international participants to learn important skills and procedures\, build relationships and take away new tools and ideas to enhance the effectiveness of state legislatures. \nClick here to learn more and register.
URL:https://metroatlantaexchange.org/event/national-conference-of-state-legislatures-ncsl-aslcs-2025-professional-development-seminar/
LOCATION:Drury Plaza Hotel\, 828 Paseo De Paralta\, Santa Fe\, NM\, 87501\, United States
CATEGORIES:Conferences,In-Person Event,Workforce Developer
END:VEVENT
BEGIN:VEVENT
DTSTART;TZID=America/New_York:20250925T090000
DTEND;TZID=America/New_York:20250925T131500
DTSTAMP:20260422T173048
CREATED:20250824T200017Z
LAST-MODIFIED:20250824T200017Z
UID:10035129-1758790800-1758806100@metroatlantaexchange.org
SUMMARY:Brookings: BPEA Fall 2025 Conference
DESCRIPTION:Brookings is hosting the BPEA Fall 2025 Conference virtually on Thursday\, September 25th\, from 1:00 PM to 5:15 PM and Friday\, September 26th\, from 9:00 AM to 1:15 PM. \nThe Brookings Papers on Economic Activity (BPEA) is a semi-annual academic conference and journal that pairs rigorous research with real-time policy analysis to address urgent economic challenges of the day. The conference proceedings will be open to anyone who wishes to observe the vanguard of economic thought around global economic issues. \nClick here to learn more and register.
URL:https://metroatlantaexchange.org/event/brookings-bpea-fall-2025-conference/
LOCATION:GA
CATEGORIES:Conferences,Virtual Event,Workforce Developer
END:VEVENT
END:VCALENDAR