BEGIN:VCALENDAR
VERSION:2.0
PRODID:-//MAX - ECPv6.15.17.1//NONSGML v1.0//EN
CALSCALE:GREGORIAN
METHOD:PUBLISH
X-WR-CALNAME:MAX
X-ORIGINAL-URL:https://metroatlantaexchange.org
X-WR-CALDESC:Events for MAX
REFRESH-INTERVAL;VALUE=DURATION:PT1H
X-Robots-Tag:noindex
X-PUBLISHED-TTL:PT1H
BEGIN:VTIMEZONE
TZID:America/New_York
BEGIN:DAYLIGHT
TZOFFSETFROM:-0500
TZOFFSETTO:-0400
TZNAME:EDT
DTSTART:20240310T070000
END:DAYLIGHT
BEGIN:STANDARD
TZOFFSETFROM:-0400
TZOFFSETTO:-0500
TZNAME:EST
DTSTART:20241103T060000
END:STANDARD
BEGIN:DAYLIGHT
TZOFFSETFROM:-0500
TZOFFSETTO:-0400
TZNAME:EDT
DTSTART:20250309T070000
END:DAYLIGHT
BEGIN:STANDARD
TZOFFSETFROM:-0400
TZOFFSETTO:-0500
TZNAME:EST
DTSTART:20251102T060000
END:STANDARD
BEGIN:DAYLIGHT
TZOFFSETFROM:-0500
TZOFFSETTO:-0400
TZNAME:EDT
DTSTART:20260308T070000
END:DAYLIGHT
BEGIN:STANDARD
TZOFFSETFROM:-0400
TZOFFSETTO:-0500
TZNAME:EST
DTSTART:20261101T060000
END:STANDARD
END:VTIMEZONE
BEGIN:VEVENT
DTSTART;TZID=America/New_York:20250904T080000
DTEND;TZID=America/New_York:20251106T170000
DTSTAMP:20260422T225143
CREATED:20250805T185853Z
LAST-MODIFIED:20250805T185853Z
UID:10034983-1756972800-1762448400@metroatlantaexchange.org
SUMMARY:National League of Cities (NLC): NCLU - Local Solutions to End Homelessness
DESCRIPTION:The National League of Cities (NLC) is hosting an NLCU: Local Solutions to End Homelessness session starting Thursday\, September 4th through Thursday\, November 6th. \nGain a comprehensive understanding of the complex factors driving homelessness in U.S. cities and explore evidence-based solutions to create meaningful change in your community. This course is specifically designed for local leaders seeking to develop and implement effective solutions. \nThis five-week course features five virtual learning sessions led by a facilitator with expertise in homelessness\, public health and evaluations. You can also leverage weekly office hours to gain expert insights into addressing homelessness in your community. \nClick here to register.
URL:https://metroatlantaexchange.org/event/national-league-of-cities-nlc-nclu-local-solutions-to-end-homelessness/
LOCATION:GA
CATEGORIES:Virtual Event,Workforce Developer
ORGANIZER;CN="National League of Cities":MAILTO:info@nlc.org
END:VEVENT
BEGIN:VEVENT
DTSTART;TZID=America/New_York:20250925T090000
DTEND;TZID=America/New_York:20250925T131500
DTSTAMP:20260422T225143
CREATED:20250824T200017Z
LAST-MODIFIED:20250824T200017Z
UID:10035129-1758790800-1758806100@metroatlantaexchange.org
SUMMARY:Brookings: BPEA Fall 2025 Conference
DESCRIPTION:Brookings is hosting the BPEA Fall 2025 Conference virtually on Thursday\, September 25th\, from 1:00 PM to 5:15 PM and Friday\, September 26th\, from 9:00 AM to 1:15 PM. \nThe Brookings Papers on Economic Activity (BPEA) is a semi-annual academic conference and journal that pairs rigorous research with real-time policy analysis to address urgent economic challenges of the day. The conference proceedings will be open to anyone who wishes to observe the vanguard of economic thought around global economic issues. \nClick here to learn more and register.
URL:https://metroatlantaexchange.org/event/brookings-bpea-fall-2025-conference/
LOCATION:GA
CATEGORIES:Conferences,Virtual Event,Workforce Developer
END:VEVENT
BEGIN:VEVENT
DTSTART;TZID=America/New_York:20250925T110000
DTEND;TZID=America/New_York:20250925T130000
DTSTAMP:20260422T225143
CREATED:20250902T221629Z
LAST-MODIFIED:20250902T221629Z
UID:10035311-1758798000-1758805200@metroatlantaexchange.org
SUMMARY:Emory Healthcare: Registered Nurse Live Chat
DESCRIPTION:Emory Healthcare hosts a Registered Nurse Live Chat every Thursday\, from 11:00 AM to 1:00 PM. \nEmory Healthcare invites you to an exclusive opportunity to live chat with the nurse recruitment team. Whether you’re actively job hunting or just exploring\, this is your moment to ask questions\, get real answers and explore why Emory is a top destination for nursing careers in Georgia. \nClick here to learn more and register.
URL:https://metroatlantaexchange.org/event/emory-healthcare-registered-nurse-live-chat/2025-09-25/
LOCATION:GA
CATEGORIES:Career Development,Job Seeker,Virtual Event
END:VEVENT
BEGIN:VEVENT
DTSTART;TZID=America/New_York:20250925T110000
DTEND;TZID=America/New_York:20250925T150000
DTSTAMP:20260422T225143
CREATED:20250824T002835Z
LAST-MODIFIED:20250824T002835Z
UID:10035056-1758798000-1758812400@metroatlantaexchange.org
SUMMARY:CareerEco: Seasonal Surge - Holiday Hiring and Gig Work Fair
DESCRIPTION:CareerEco is hosting a Seasonal Surge: Holiday Hiring and Gig Work Fair on Thursday\, September 25th\, from 11:00 AM to 3:00 PM. \nThis event will connect jobseekers with employers nationwide offering short-term\, part-time and gig-based opportunities for the busy holiday season. From retail and hospitality to customer service and delivery\, this fair is your gateway to building experience\, gaining opportunity\, and exploring new industries. \nClick here to learn more and register.
URL:https://metroatlantaexchange.org/event/careereco-seasonal-surge-holiday-hiring-and-gig-work-fair/
LOCATION:GA
CATEGORIES:Job Seeker,Virtual Event
ORGANIZER;CN="CareerEco":MAILTO:Events@CareerEco.com
END:VEVENT
BEGIN:VEVENT
DTSTART;TZID=America/New_York:20250925T110000
DTEND;TZID=America/New_York:20250925T150000
DTSTAMP:20260422T225143
CREATED:20250824T173813Z
LAST-MODIFIED:20250824T173813Z
UID:10035057-1758798000-1758812400@metroatlantaexchange.org
SUMMARY:JobFairX: Atlanta Technology Virtual Job Fair
DESCRIPTION:JobFairX is hosting an Atlanta Technology Virtual Job Fair on Thursday\, September 25th\, from 11:00 AM to 3:00 PM. \nAt JobFairX\, we match job seekers like you with employers who have registered for the virtual job fair. When you sign up and create a profile\, we collect information about your qualifications\, skills\, and preferences. Our advanced matching algorithm analyzes this data to identify suitable job opportunities. If your qualifications align with a job\, you’ll receive an email invitation to schedule an interview with the employer during the fair. Our streamlined process saves you time on your job search. \nClick here to register.
URL:https://metroatlantaexchange.org/event/jobfairx-atlanta-technology-virtual-job-fair-3/
LOCATION:GA
CATEGORIES:Job Seeker,Virtual Event
END:VEVENT
BEGIN:VEVENT
DTSTART;TZID=America/New_York:20250925T140000
DTEND;TZID=America/New_York:20250925T153000
DTSTAMP:20260422T225143
CREATED:20250824T200146Z
LAST-MODIFIED:20250824T200146Z
UID:10035130-1758808800-1758814200@metroatlantaexchange.org
SUMMARY:WorkforceGPS: CareerOneStop for Ex-Offender Job Seekers
DESCRIPTION:WorkforceGPS is hosting a CareerOneStop for Ex-Offender Job Seekers webinar on Thursday\, September 25th\, from 2:00 PM to 3:30 PM. \nPeople with a criminal record may face barriers to employment. Learn how to use the CareerOneStop website\, and its portal for Ex-offender Job Seekers\, to help your customers. This webinar walks you through tools and curricula that address barriers and provides the foundation for a successful job search. Presenters also offer resources to help customers explore career options\, build a long-term future with training and credentials\, and locate the support they may need for their reentry process. \nClick here to learn more and register.
URL:https://metroatlantaexchange.org/event/workforcegps-careeronestop-for-ex-offender-job-seekers/
LOCATION:GA
CATEGORIES:Virtual Event,Workforce Developer
END:VEVENT
END:VCALENDAR