BEGIN:VCALENDAR
VERSION:2.0
PRODID:-//MAX - ECPv6.15.17.1//NONSGML v1.0//EN
CALSCALE:GREGORIAN
METHOD:PUBLISH
X-ORIGINAL-URL:https://metroatlantaexchange.org
X-WR-CALDESC:Events for MAX
REFRESH-INTERVAL;VALUE=DURATION:PT1H
X-Robots-Tag:noindex
X-PUBLISHED-TTL:PT1H
BEGIN:VTIMEZONE
TZID:America/New_York
BEGIN:DAYLIGHT
TZOFFSETFROM:-0500
TZOFFSETTO:-0400
TZNAME:EDT
DTSTART:20240310T070000
END:DAYLIGHT
BEGIN:STANDARD
TZOFFSETFROM:-0400
TZOFFSETTO:-0500
TZNAME:EST
DTSTART:20241103T060000
END:STANDARD
BEGIN:DAYLIGHT
TZOFFSETFROM:-0500
TZOFFSETTO:-0400
TZNAME:EDT
DTSTART:20250309T070000
END:DAYLIGHT
BEGIN:STANDARD
TZOFFSETFROM:-0400
TZOFFSETTO:-0500
TZNAME:EST
DTSTART:20251102T060000
END:STANDARD
BEGIN:DAYLIGHT
TZOFFSETFROM:-0500
TZOFFSETTO:-0400
TZNAME:EDT
DTSTART:20260308T070000
END:DAYLIGHT
BEGIN:STANDARD
TZOFFSETFROM:-0400
TZOFFSETTO:-0500
TZNAME:EST
DTSTART:20261101T060000
END:STANDARD
END:VTIMEZONE
BEGIN:VEVENT
DTSTART;TZID=America/New_York:20250904T080000
DTEND;TZID=America/New_York:20251106T170000
DTSTAMP:20260422T191453
CREATED:20250805T185853Z
LAST-MODIFIED:20250805T185853Z
UID:10034983-1756972800-1762448400@metroatlantaexchange.org
SUMMARY:National League of Cities (NLC): NCLU - Local Solutions to End Homelessness
DESCRIPTION:The National League of Cities (NLC) is hosting an NLCU: Local Solutions to End Homelessness session starting Thursday\, September 4th through Thursday\, November 6th. \nGain a comprehensive understanding of the complex factors driving homelessness in U.S. cities and explore evidence-based solutions to create meaningful change in your community. This course is specifically designed for local leaders seeking to develop and implement effective solutions. \nThis five-week course features five virtual learning sessions led by a facilitator with expertise in homelessness\, public health and evaluations. You can also leverage weekly office hours to gain expert insights into addressing homelessness in your community. \nClick here to register.
URL:https://metroatlantaexchange.org/event/national-league-of-cities-nlc-nclu-local-solutions-to-end-homelessness/
LOCATION:GA
CATEGORIES:Virtual Event,Workforce Developer
ORGANIZER;CN="National League of Cities":MAILTO:info@nlc.org
END:VEVENT
BEGIN:VEVENT
DTSTART;TZID=America/New_York:20250926T080000
DTEND;TZID=America/New_York:20250928T170000
DTSTAMP:20260422T191453
CREATED:20250824T181540Z
LAST-MODIFIED:20250824T181540Z
UID:10035081-1758873600-1759078800@metroatlantaexchange.org
SUMMARY:Gentlemen's Network: TGN Symposium Fest 2025
DESCRIPTION:The Gentlemen’s Network is hosting its TGN Symposium Fest 2025 starting Friday\, September 26th though Sunday\, September 28th\, at the Renaissance Concourse Atlanta Airport Hotel. \nThe Symposium Festival is one of the LGBTQ+ community’s best kept secrets. It is an exciting and celebrated event that has something to offer every attendee. SGL men of color from across the country come together for four days of empowerment\, networking\, inspiration\, and entertainment. The Symposium Festival is not just another pride party\, but a time of education and impartation. What makes this event unique is that the event has the perfect balance of learning and fun. Attendees take part in various social events centered around empowerment throughout the weekend\, and on Saturday experience a day-long conference packed with workshops and speakers on business\, career\, finance\, health and wellness\, and sexual identity. \nClick here to learn more and register.
URL:https://metroatlantaexchange.org/event/gentlemens-network-tgn-symposium-fest-2025/
LOCATION:Renaissance Concourse Atlanta Airport Hotel\, 1 Hartsfield Center Parkway\, Atlanta\, GA\, 30354\, United States
CATEGORIES:Career Development,In-Person Event,Job Seeker
END:VEVENT
BEGIN:VEVENT
DTSTART;TZID=America/New_York:20250926T090000
DTEND;TZID=America/New_York:20250926T220000
DTSTAMP:20260422T191453
CREATED:20250824T182419Z
LAST-MODIFIED:20250824T182419Z
UID:10035082-1758877200-1758924000@metroatlantaexchange.org
SUMMARY:HBCU Pre-Law LLC: 12th Annual National HBCU Pre-Law Summit and Law Expo 2025
DESCRIPTION:HBCU Pre-Law LLC is hosting its 12th Annual National HBCU Pre-Law Summit and Law Expo 2025 on Friday\, September 26th and Saturday\, September 27th\, from 9:00 AM to 10:00 PM\, at the Clark Atlanta University. \nJoin us in the exciting city of Atlanta\, Georgia for this amazing in-person event where aspiring lawyers can network\, access needed resources and gain invaluable information and insights about law school admission\, law school\, and the legal profession. Connect with law school representatives\, legal professionals\, and fellow students and alumni from our nation’s Historically Black Colleges and Universities (HBCUs). Participate in a mock law school class\, workshops\, panel discussions\, and keynote sessions to enhance your understanding of law school preparation\, law school admission\, the law school experience\, the bar exam\, and legal career options. This event addresses the unique issues\, concerns\, and challenges that HBCU students face. It also provides students with access to information about our nation’s six (6) HBCU law schools as viable options for legal education. Aspiring lawyers will also have the opportunity to connect with many other law schools from across the country. \nClick here to learn more and register.
URL:https://metroatlantaexchange.org/event/hbcu-pre-law-llc-12th-annual-national-hbcu-pre-law-summit-and-law-expo-2025/
LOCATION:Clark Atlanta University\, 223 James P. Brawley Drive\, SW\, Atlanta\, GA\, 30314\, United States
CATEGORIES:Career Development,Conferences,In-Person Event,Job Seeker,Student
END:VEVENT
BEGIN:VEVENT
DTSTART;TZID=America/New_York:20250926T100000
DTEND;TZID=America/New_York:20250926T110000
DTSTAMP:20260422T191453
CREATED:20250902T230612Z
LAST-MODIFIED:20250902T230612Z
UID:10035325-1758880800-1758884400@metroatlantaexchange.org
SUMMARY:Goodwill of North Georgia: Resume Workshop
DESCRIPTION:Goodwill of North Georgia is hosting an in-person Resume Workshop on Friday\, September 26th\, from 10:00 AM to 11:00 AM\, at the Woodstock Career Center. \nFor more information\, call 770-874-0901. \nClick here to learn more and register.
URL:https://metroatlantaexchange.org/event/goodwill-of-north-georgia-resume-workshop-2/
LOCATION:Goodwill of North Georgia – Woodstock Career Center\, 9425 Highway 92\, Woodstock\, GA\, 30188\, United States
CATEGORIES:Career Development,In-Person Event,Job Seeker
GEO:34.0872637;-84.5325399
X-APPLE-STRUCTURED-LOCATION;VALUE=URI;X-ADDRESS=Goodwill of North Georgia – Woodstock Career Center 9425 Highway 92 Woodstock GA 30188 United States;X-APPLE-RADIUS=500;X-TITLE=9425 Highway 92:geo:-84.5325399,34.0872637
END:VEVENT
BEGIN:VEVENT
DTSTART;TZID=America/New_York:20250926T110000
DTEND;TZID=America/New_York:20250926T120000
DTSTAMP:20260422T191453
CREATED:20250902T230835Z
LAST-MODIFIED:20250902T230835Z
UID:10035326-1758884400-1758888000@metroatlantaexchange.org
SUMMARY:Goodwill of North Georgia: Interviewing Workshop
DESCRIPTION:Goodwill of North Georgia is hosting an in-person Interviewing Workshop on Friday\, September 26th\, from 11:00 AM to 12:00 PM\, at the East Athens Career Center. \nFor more information\, call 706-395-1558. \nClick here to learn more and register.
URL:https://metroatlantaexchange.org/event/goodwill-of-north-georgia-interviewing-workshop/
LOCATION:Goodwill of North Georgia – East Athens Career Center\, 4070 Lexington Road\, Athens\, GA\, 30605\, United States
CATEGORIES:Career Development,In-Person Event,Job Seeker
END:VEVENT
BEGIN:VEVENT
DTSTART;TZID=America/New_York:20250926T110000
DTEND;TZID=America/New_York:20250926T130000
DTSTAMP:20260422T191453
CREATED:20250802T180154Z
LAST-MODIFIED:20250802T180305Z
UID:10034896-1758884400-1758891600@metroatlantaexchange.org
SUMMARY:Goodwill of North Georgia: On-Site Application Assistance Workshop
DESCRIPTION:Goodwill of North Georgia is hosting an On-Site Application Assistance Workshop every Friday\, from 11:00 AM to 1:00 PM\, at the South DeKalb Career Center. \nFor more information\, call 404-728-8605. \nClick here to learn more and register.
URL:https://metroatlantaexchange.org/event/goodwill-of-north-georgia-on-site-application-assistance-workshop-2/2025-09-26/
LOCATION:Goodwill of North Georgia – South DeKalb Career Center\, 1295 Columbia Drive\, Decatur\, GA\, 30032\, United States
CATEGORIES:Career Development,In-Person Event,Job Seeker
GEO:33.7510576;-84.2656565
X-APPLE-STRUCTURED-LOCATION;VALUE=URI;X-ADDRESS=Goodwill of North Georgia – South DeKalb Career Center 1295 Columbia Drive Decatur GA 30032 United States;X-APPLE-RADIUS=500;X-TITLE=1295 Columbia Drive:geo:-84.2656565,33.7510576
END:VEVENT
BEGIN:VEVENT
DTSTART;TZID=America/New_York:20250926T120000
DTEND;TZID=America/New_York:20250926T130000
DTSTAMP:20260422T191453
CREATED:20250824T200332Z
LAST-MODIFIED:20250824T200332Z
UID:10035131-1758888000-1758891600@metroatlantaexchange.org
SUMMARY:National Association of Colleges and Employers (NACE): How the Future Hires You: 2025 Trends in Tech Student Recruitment on
DESCRIPTION:The National Association of Colleges and Employers (NACE) is hosting a webinar on How the Future Hires You: 2025 Trends in Tech Student Recruitment on Friday\, September 26th\, from 12:00 PM to 1:00 PM. \nDiscover real-time insights from RTC’s 2025 Recruiting Experience Report\, based on what more than 3\,400 students in tech are experiencing right now. From AI prep and interview stress\, to what makes them accept or decline offers\, you’ll learn what today’s top employers are doing to stand out\, or lag behind. Walk away with fresh\, data-backed strategies to make your hiring more inclusive\, transparent\, and effective. \nClick here to learn more and register.
URL:https://metroatlantaexchange.org/event/national-association-of-colleges-and-employers-nace-how-the-future-hires-you-2025-trends-in-tech-student-recruitment-on/
LOCATION:GA
CATEGORIES:Virtual Event,Workforce Developer
END:VEVENT
BEGIN:VEVENT
DTSTART;TZID=America/New_York:20250926T140000
DTEND;TZID=America/New_York:20250926T150000
DTSTAMP:20260422T191453
CREATED:20250824T200449Z
LAST-MODIFIED:20250824T200449Z
UID:10035132-1758895200-1758898800@metroatlantaexchange.org
SUMMARY:Chmura: Upskilling for the Future: Navigating Workforce Trends and WIOA
DESCRIPTION:Chmura is hosting an Upskilling for the Future: Navigating Workforce Trends and WIOA webinar on Friday\, September 26th\, from 2:00 PM to 3:00 PM. \nHear about workforce development and strategies to successfully upskill your workforce. Learn how to prepare for the future with special consideration toward the Workforce Innovation and Opportunity Act (WIOA). See how JobsEQ and Chmura’s consulting team can provide the data and insights needed to get ahead of upcoming changes in the economy and drive successful workforce development strategies. \nClick here to learn more and register.
URL:https://metroatlantaexchange.org/event/chmura-upskilling-for-the-future-navigating-workforce-trends-and-wioa/
LOCATION:GA
CATEGORIES:Virtual Event,Workforce Developer
END:VEVENT
END:VCALENDAR