BEGIN:VCALENDAR
VERSION:2.0
PRODID:-//MAX - ECPv6.15.17.1//NONSGML v1.0//EN
CALSCALE:GREGORIAN
METHOD:PUBLISH
X-ORIGINAL-URL:https://metroatlantaexchange.org
X-WR-CALDESC:Events for MAX
REFRESH-INTERVAL;VALUE=DURATION:PT1H
X-Robots-Tag:noindex
X-PUBLISHED-TTL:PT1H
BEGIN:VTIMEZONE
TZID:America/New_York
BEGIN:DAYLIGHT
TZOFFSETFROM:-0500
TZOFFSETTO:-0400
TZNAME:EDT
DTSTART:20240310T070000
END:DAYLIGHT
BEGIN:STANDARD
TZOFFSETFROM:-0400
TZOFFSETTO:-0500
TZNAME:EST
DTSTART:20241103T060000
END:STANDARD
BEGIN:DAYLIGHT
TZOFFSETFROM:-0500
TZOFFSETTO:-0400
TZNAME:EDT
DTSTART:20250309T070000
END:DAYLIGHT
BEGIN:STANDARD
TZOFFSETFROM:-0400
TZOFFSETTO:-0500
TZNAME:EST
DTSTART:20251102T060000
END:STANDARD
BEGIN:DAYLIGHT
TZOFFSETFROM:-0500
TZOFFSETTO:-0400
TZNAME:EDT
DTSTART:20260308T070000
END:DAYLIGHT
BEGIN:STANDARD
TZOFFSETFROM:-0400
TZOFFSETTO:-0500
TZNAME:EST
DTSTART:20261101T060000
END:STANDARD
END:VTIMEZONE
BEGIN:VEVENT
DTSTART;TZID=America/New_York:20250904T080000
DTEND;TZID=America/New_York:20251106T170000
DTSTAMP:20260422T191502
CREATED:20250805T185853Z
LAST-MODIFIED:20250805T185853Z
UID:10034983-1756972800-1762448400@metroatlantaexchange.org
SUMMARY:National League of Cities (NLC): NCLU - Local Solutions to End Homelessness
DESCRIPTION:The National League of Cities (NLC) is hosting an NLCU: Local Solutions to End Homelessness session starting Thursday\, September 4th through Thursday\, November 6th. \nGain a comprehensive understanding of the complex factors driving homelessness in U.S. cities and explore evidence-based solutions to create meaningful change in your community. This course is specifically designed for local leaders seeking to develop and implement effective solutions. \nThis five-week course features five virtual learning sessions led by a facilitator with expertise in homelessness\, public health and evaluations. You can also leverage weekly office hours to gain expert insights into addressing homelessness in your community. \nClick here to register.
URL:https://metroatlantaexchange.org/event/national-league-of-cities-nlc-nclu-local-solutions-to-end-homelessness/
LOCATION:GA
CATEGORIES:Virtual Event,Workforce Developer
ORGANIZER;CN="National League of Cities":MAILTO:info@nlc.org
END:VEVENT
BEGIN:VEVENT
DTSTART;TZID=America/New_York:20250928T080000
DTEND;TZID=America/New_York:20251001T170000
DTSTAMP:20260422T191502
CREATED:20250824T201642Z
LAST-MODIFIED:20250824T201642Z
UID:10035133-1759046400-1759338000@metroatlantaexchange.org
SUMMARY:Southeastern Employment and Training Association (SETA): 2025 Fall Conference
DESCRIPTION:The Southeastern Employment and Training Association (SETA) is hosting its 2025 Fall Conference from Sunday\, September 28th through Wednesday\, October 1st\, at the Beau Rivage Resort. \nTwice annually\, Southeast workforce development experts gather for networking\, learning\, and enjoyment. These events offer invaluable chances to forge connections\, advance careers\, and enhance organizational strategies. Attendees engage in business meetings to discuss concerns\, share ideas\, and participate in SETA decision-making\, including leadership election. \nClick here to learn more and register.
URL:https://metroatlantaexchange.org/event/southeastern-employment-and-training-association-seta-2025-fall-conference-2/
LOCATION:Beau Rivage Resort\, 875 Beach Boulevard\, Biloxi\, Mississippi\, 39530
CATEGORIES:Conferences,In-Person Event,Workforce Developer
END:VEVENT
BEGIN:VEVENT
DTSTART;TZID=America/New_York:20250929T100000
DTEND;TZID=America/New_York:20250929T120000
DTSTAMP:20260422T191502
CREATED:20250901T235624Z
LAST-MODIFIED:20250901T235624Z
UID:10035206-1759140000-1759147200@metroatlantaexchange.org
SUMMARY:Goodwill of North Georgia: New Leaf Hiring Event
DESCRIPTION:Goodwill of North Georgia is hosting a New Leaf Hiring Event every Monday\, starting September 8th\, from 10:00 AM to 12:00 PM\, at the South DeKalb Career Center. \nPositions open include Drivers and Customer Service Representatives. For more information\, call 404-728-8605. \nClick here to learn more and register.
URL:https://metroatlantaexchange.org/event/goodwill-of-north-georgia-new-leaf-hiring-event/2025-09-29/
LOCATION:Goodwill of North Georgia – South DeKalb Career Center\, 1295 Columbia Drive\, Decatur\, GA\, 30032\, United States
CATEGORIES:In-Person Event,Job Seeker
GEO:33.7510576;-84.2656565
X-APPLE-STRUCTURED-LOCATION;VALUE=URI;X-ADDRESS=Goodwill of North Georgia – South DeKalb Career Center 1295 Columbia Drive Decatur GA 30032 United States;X-APPLE-RADIUS=500;X-TITLE=1295 Columbia Drive:geo:-84.2656565,33.7510576
END:VEVENT
BEGIN:VEVENT
DTSTART;TZID=America/New_York:20250929T100000
DTEND;TZID=America/New_York:20250929T120000
DTSTAMP:20260422T191502
CREATED:20250902T220445Z
LAST-MODIFIED:20250902T220519Z
UID:10035246-1759140000-1759147200@metroatlantaexchange.org
SUMMARY:Goodwill of North Georgia: Resume Assistance Day
DESCRIPTION:Goodwill of North Georgia is hosting an in-person Resume Assistance Day every Monday\, from 10:00 AM to 12:00 PM\, at the Oakwood Career Center. \nFor more information\, call 770-538-4209. \nClick here to learn more and register.
URL:https://metroatlantaexchange.org/event/goodwill-of-north-georgia-resume-assistance-day/2025-09-29/
LOCATION:Goodwill of North Georgia – Oakwood Career Center\, 3715 Mundy Mill Road\, Oakwood\, GA\, 30566\, United States
CATEGORIES:Career Development,In-Person Event,Job Seeker
GEO:34.2290795;-83.8701636
X-APPLE-STRUCTURED-LOCATION;VALUE=URI;X-ADDRESS=Goodwill of North Georgia – Oakwood Career Center 3715 Mundy Mill Road Oakwood GA 30566 United States;X-APPLE-RADIUS=500;X-TITLE=3715 Mundy Mill Road:geo:-83.8701636,34.2290795
END:VEVENT
BEGIN:VEVENT
DTSTART;TZID=America/New_York:20250929T103000
DTEND;TZID=America/New_York:20250929T113000
DTSTAMP:20260422T191502
CREATED:20250802T173236Z
LAST-MODIFIED:20250802T173328Z
UID:10034859-1759141800-1759145400@metroatlantaexchange.org
SUMMARY:Goodwill of North Georgia: Training Information Session
DESCRIPTION:Goodwill of North Georgia is hosting a Training Information Session every Monday\, from 10:30 AM to 11:30 AM\, at the East Athens Career Center. \nFor more information\, call 706-395-1558. \nClick here to learn more and register.
URL:https://metroatlantaexchange.org/event/goodwill-of-north-georgia-training-information-session/2025-09-29/
LOCATION:Goodwill of North Georgia – East Athens Career Center\, 4070 Lexington Road\, Athens\, GA\, 30605\, United States
CATEGORIES:Career Development,In-Person Event,Job Seeker
END:VEVENT
BEGIN:VEVENT
DTSTART;TZID=America/New_York:20250929T103000
DTEND;TZID=America/New_York:20250929T143000
DTSTAMP:20260422T191502
CREATED:20250802T172917Z
LAST-MODIFIED:20250802T173007Z
UID:10034838-1759141800-1759156200@metroatlantaexchange.org
SUMMARY:Goodwill of North Georgia: GED Class
DESCRIPTION:Goodwill of North Georgia is hosting a GED Class\, facilitated by Athens Tech\, every Monday through Thursday\, from 10:30 AM to 2:30 PM\, at the East Athens Career Center. \nFor more information\, call 706-395-1558. \nClick here to learn more and register.
URL:https://metroatlantaexchange.org/event/goodwill-of-north-georgia-ged-class-2/2025-09-29/
LOCATION:Goodwill of North Georgia – East Athens Career Center\, 4070 Lexington Road\, Athens\, GA\, 30605\, United States
CATEGORIES:Career Development,In-Person Event,Job Seeker
END:VEVENT
BEGIN:VEVENT
DTSTART;TZID=America/New_York:20250929T110000
DTEND;TZID=America/New_York:20250929T130000
DTSTAMP:20260422T191502
CREATED:20250802T173513Z
LAST-MODIFIED:20250802T173513Z
UID:10034868-1759143600-1759150800@metroatlantaexchange.org
SUMMARY:Goodwill of North Georgia: On-Site Resume Assistance Workshop
DESCRIPTION:Goodwill of North Georgia is hosting an On-Site Resume Assistance Workshop every Monday\, from 11:00 AM to 1:00 PM\, at the South DeKalb Career Center. \nFor more information\, call 404-728-8605. \nClick here to learn more and register.
URL:https://metroatlantaexchange.org/event/goodwill-of-north-georgia-on-site-resume-assistance-workshop-2/2025-09-29/
LOCATION:Goodwill of North Georgia – South DeKalb Career Center\, 1295 Columbia Drive\, Decatur\, GA\, 30032\, United States
CATEGORIES:Career Development,In-Person Event,Job Seeker
GEO:33.7510576;-84.2656565
X-APPLE-STRUCTURED-LOCATION;VALUE=URI;X-ADDRESS=Goodwill of North Georgia – South DeKalb Career Center 1295 Columbia Drive Decatur GA 30032 United States;X-APPLE-RADIUS=500;X-TITLE=1295 Columbia Drive:geo:-84.2656565,33.7510576
END:VEVENT
BEGIN:VEVENT
DTSTART;TZID=America/New_York:20250929T130000
DTEND;TZID=America/New_York:20251001T170000
DTSTAMP:20260422T191502
CREATED:20250824T201852Z
LAST-MODIFIED:20250824T201852Z
UID:10035134-1759150800-1759338000@metroatlantaexchange.org
SUMMARY:Association for Talent Development (ATD): ATD Core4 Conference
DESCRIPTION:The Association for Talent Development (ATD) is hosting ATD Core4 Conference starting Monday\, September 29th\, starting at 1:00 PM\, through Wednesday\, October 1st\, at the Renaissance Orlando at Sea World. \nThis year\, Core4 is more accessible than ever. You can attend in person in vibrant Orlando\, Florida\, where you’ll enjoy face-to-face networking\, highly interactive sessions\, book signings\, career-building activities\, and the energy of learning alongside your peers. Can’t travel? No problem! Join us online for a specially curated experience featuring streamed sessions and interactive virtual learning. Core4 is the premier conference for building and refining the core skills every learning and development professional needs to succeed: Evaluating Impact\, Instructional Design\, Training Delivery and Facilitation\, and Emerging Trends. Whether you’re new to the field or are an experienced professional looking to stay at the top of your game\, this event will help you advance your career through new ideas\, perspectives\, skill development\, and\, most importantly\, professional connections with others in the L&D field. \nClick here to register.
URL:https://metroatlantaexchange.org/event/association-for-talent-development-atd-atd-core4-conference/
LOCATION:Renaissance Orlando SeaWorld\, 6677 Sea Harbor Drive\, Orlando\, FL\, 32821\, United States
CATEGORIES:Conferences,In-Person Event,Workforce Developer
GEO:28.4118585;-81.469179
X-APPLE-STRUCTURED-LOCATION;VALUE=URI;X-ADDRESS=Renaissance Orlando SeaWorld 6677 Sea Harbor Drive Orlando FL 32821 United States;X-APPLE-RADIUS=500;X-TITLE=6677 Sea Harbor Drive:geo:-81.469179,28.4118585
END:VEVENT
BEGIN:VEVENT
DTSTART;TZID=America/New_York:20250929T140000
DTEND;TZID=America/New_York:20250929T150000
DTSTAMP:20260422T191502
CREATED:20250824T202035Z
LAST-MODIFIED:20250824T202035Z
UID:10035135-1759154400-1759158000@metroatlantaexchange.org
SUMMARY:National Association of Counties (NACo): New BRECC Toolkit: Coal Communities’ Pathways for Economic Diversification
DESCRIPTION:The National Association of Counties (NACo) is hosting New BRECC Toolkit: Coal Communities’ Pathways for Economic Diversification on Monday\, September 29th\, from 2:00 PM to 3:00 PM. \nJoin the BRECC National Network to learn how coal counties are diversifying their economies through increasing housing supply\, providing innovative workforce development opportunities and revitalizing downtowns. NACo will unveil our new economic diversification toolkit with six proven strategies for coal and other rural communities. \nClick here to learn more and register.
URL:https://metroatlantaexchange.org/event/national-association-of-counties-naco-new-brecc-toolkit-coal-communities-pathways-for-economic-diversification/
LOCATION:GA
CATEGORIES:Virtual Event,Workforce Developer
END:VEVENT
END:VCALENDAR