BEGIN:VCALENDAR
VERSION:2.0
PRODID:-//MAX - ECPv6.15.17.1//NONSGML v1.0//EN
CALSCALE:GREGORIAN
METHOD:PUBLISH
X-ORIGINAL-URL:https://metroatlantaexchange.org
X-WR-CALDESC:Events for MAX
REFRESH-INTERVAL;VALUE=DURATION:PT1H
X-Robots-Tag:noindex
X-PUBLISHED-TTL:PT1H
BEGIN:VTIMEZONE
TZID:America/New_York
BEGIN:DAYLIGHT
TZOFFSETFROM:-0500
TZOFFSETTO:-0400
TZNAME:EDT
DTSTART:20240310T070000
END:DAYLIGHT
BEGIN:STANDARD
TZOFFSETFROM:-0400
TZOFFSETTO:-0500
TZNAME:EST
DTSTART:20241103T060000
END:STANDARD
BEGIN:DAYLIGHT
TZOFFSETFROM:-0500
TZOFFSETTO:-0400
TZNAME:EDT
DTSTART:20250309T070000
END:DAYLIGHT
BEGIN:STANDARD
TZOFFSETFROM:-0400
TZOFFSETTO:-0500
TZNAME:EST
DTSTART:20251102T060000
END:STANDARD
BEGIN:DAYLIGHT
TZOFFSETFROM:-0500
TZOFFSETTO:-0400
TZNAME:EDT
DTSTART:20260308T070000
END:DAYLIGHT
BEGIN:STANDARD
TZOFFSETFROM:-0400
TZOFFSETTO:-0500
TZNAME:EST
DTSTART:20261101T060000
END:STANDARD
END:VTIMEZONE
BEGIN:VEVENT
DTSTART;TZID=America/New_York:20250904T080000
DTEND;TZID=America/New_York:20251106T170000
DTSTAMP:20260422T225055
CREATED:20250805T185853Z
LAST-MODIFIED:20250805T185853Z
UID:10034983-1756972800-1762448400@metroatlantaexchange.org
SUMMARY:National League of Cities (NLC): NCLU - Local Solutions to End Homelessness
DESCRIPTION:The National League of Cities (NLC) is hosting an NLCU: Local Solutions to End Homelessness session starting Thursday\, September 4th through Thursday\, November 6th. \nGain a comprehensive understanding of the complex factors driving homelessness in U.S. cities and explore evidence-based solutions to create meaningful change in your community. This course is specifically designed for local leaders seeking to develop and implement effective solutions. \nThis five-week course features five virtual learning sessions led by a facilitator with expertise in homelessness\, public health and evaluations. You can also leverage weekly office hours to gain expert insights into addressing homelessness in your community. \nClick here to register.
URL:https://metroatlantaexchange.org/event/national-league-of-cities-nlc-nclu-local-solutions-to-end-homelessness/
LOCATION:GA
CATEGORIES:Virtual Event,Workforce Developer
ORGANIZER;CN="National League of Cities":MAILTO:info@nlc.org
END:VEVENT
BEGIN:VEVENT
DTSTART;TZID=America/New_York:20250928T080000
DTEND;TZID=America/New_York:20251001T170000
DTSTAMP:20260422T225055
CREATED:20250824T201642Z
LAST-MODIFIED:20250824T201642Z
UID:10035133-1759046400-1759338000@metroatlantaexchange.org
SUMMARY:Southeastern Employment and Training Association (SETA): 2025 Fall Conference
DESCRIPTION:The Southeastern Employment and Training Association (SETA) is hosting its 2025 Fall Conference from Sunday\, September 28th through Wednesday\, October 1st\, at the Beau Rivage Resort. \nTwice annually\, Southeast workforce development experts gather for networking\, learning\, and enjoyment. These events offer invaluable chances to forge connections\, advance careers\, and enhance organizational strategies. Attendees engage in business meetings to discuss concerns\, share ideas\, and participate in SETA decision-making\, including leadership election. \nClick here to learn more and register.
URL:https://metroatlantaexchange.org/event/southeastern-employment-and-training-association-seta-2025-fall-conference-2/
LOCATION:Beau Rivage Resort\, 875 Beach Boulevard\, Biloxi\, Mississippi\, 39530
CATEGORIES:Conferences,In-Person Event,Workforce Developer
END:VEVENT
BEGIN:VEVENT
DTSTART;TZID=America/New_York:20250929T130000
DTEND;TZID=America/New_York:20251001T170000
DTSTAMP:20260422T225055
CREATED:20250824T201852Z
LAST-MODIFIED:20250824T201852Z
UID:10035134-1759150800-1759338000@metroatlantaexchange.org
SUMMARY:Association for Talent Development (ATD): ATD Core4 Conference
DESCRIPTION:The Association for Talent Development (ATD) is hosting ATD Core4 Conference starting Monday\, September 29th\, starting at 1:00 PM\, through Wednesday\, October 1st\, at the Renaissance Orlando at Sea World. \nThis year\, Core4 is more accessible than ever. You can attend in person in vibrant Orlando\, Florida\, where you’ll enjoy face-to-face networking\, highly interactive sessions\, book signings\, career-building activities\, and the energy of learning alongside your peers. Can’t travel? No problem! Join us online for a specially curated experience featuring streamed sessions and interactive virtual learning. Core4 is the premier conference for building and refining the core skills every learning and development professional needs to succeed: Evaluating Impact\, Instructional Design\, Training Delivery and Facilitation\, and Emerging Trends. Whether you’re new to the field or are an experienced professional looking to stay at the top of your game\, this event will help you advance your career through new ideas\, perspectives\, skill development\, and\, most importantly\, professional connections with others in the L&D field. \nClick here to register.
URL:https://metroatlantaexchange.org/event/association-for-talent-development-atd-atd-core4-conference/
LOCATION:Renaissance Orlando SeaWorld\, 6677 Sea Harbor Drive\, Orlando\, FL\, 32821\, United States
CATEGORIES:Conferences,In-Person Event,Workforce Developer
GEO:28.4118585;-81.469179
X-APPLE-STRUCTURED-LOCATION;VALUE=URI;X-ADDRESS=Renaissance Orlando SeaWorld 6677 Sea Harbor Drive Orlando FL 32821 United States;X-APPLE-RADIUS=500;X-TITLE=6677 Sea Harbor Drive:geo:-81.469179,28.4118585
END:VEVENT
BEGIN:VEVENT
DTSTART;TZID=America/New_York:20250930T100000
DTEND;TZID=America/New_York:20251002T170000
DTSTAMP:20260422T225055
CREATED:20250824T202247Z
LAST-MODIFIED:20250824T202247Z
UID:10035136-1759226400-1759424400@metroatlantaexchange.org
SUMMARY:National Conference of State Legislatures (NCSL): 2025 NLPES Professional Development Seminar
DESCRIPTION:The National Conference of State Legislatures (NCSL) is hosting a 2025 NLPES Professional Development Seminar starting Tuesday\, September 30th\, beginning at 10:00 AM\, through Thursday\, October 2nd\, at the Best Western Premier Helena Great Northern Hotel. \nThe National Legislative Program Evaluation Society (NLPES) hosts the only national training event designed exclusively for state legislative staff who work in program evaluation and performance auditing. This seminar offers professional development opportunities for program evaluators and performance auditors of all skill levels. Participate in informative presentations and engage in roundtable discussions with colleagues working on similar issues. Learn new approaches\, share ideas and network with your peers from other states.  The seminar agenda will include a great mix of plenary speakers and concurrent sessions with ample opportunity for panel presentations and discussions about contemporary issues in legislative program evaluation and performance auditing. \nClick here to learn more and register.
URL:https://metroatlantaexchange.org/event/national-conference-of-state-legislatures-ncsl-2025-nlpes-professional-development-seminar/
LOCATION:Best Western Premier Helena Great Northern Hotel\, 835 Great Northern Boulevard\, Helena\, MT\, 59601\, United States
CATEGORIES:Conferences,In-Person Event,Workforce Developer
END:VEVENT
BEGIN:VEVENT
DTSTART;TZID=America/New_York:20251001T080000
DTEND;TZID=America/New_York:20251002T170000
DTSTAMP:20260422T225055
CREATED:20250506T162420Z
LAST-MODIFIED:20250506T162420Z
UID:10033728-1759305600-1759424400@metroatlantaexchange.org
SUMMARY:Georgia Chamber of Commerce: Rural Prosperity Summit
DESCRIPTION:The Georgia Chamber of Commerce is hosting its annual Rural Prosperity Summit on Wednesday\, October 1st and Thursday\, October 2nd\, at the UGA Tifton Campus Conference Center. \nThe Rural Prosperity Summit convenes hundreds of Georgia business\, political\, and community leaders dedicated to creating vibrant\, robust communities throughout the state. The two-day event will feature speakers\, practitioner panels and small group conversations presenting possible solutions for challenges facing today’s struggling rural communities. The event offers attendees an opportunity to share new ideas and make connections. \nClick here to register.
URL:https://metroatlantaexchange.org/event/georgia-chamber-of-commerce-rural-prosperity-summit-2/
LOCATION:UGA Tifton Campus Conference Center\, 15 R D C Road\, Tifton\, GA\, 31794\, United States
CATEGORIES:Conferences,In-Person Event,Workforce Developer
END:VEVENT
BEGIN:VEVENT
DTSTART;TZID=America/New_York:20251001T093000
DTEND;TZID=America/New_York:20251001T113000
DTSTAMP:20260422T225055
CREATED:20250824T202746Z
LAST-MODIFIED:20250824T202746Z
UID:10035139-1759311000-1759318200@metroatlantaexchange.org
SUMMARY:Aspen Institute: United Against Fraud - How America Will Defeat Scams
DESCRIPTION:The Aspen Institute is hosting United Against Fraud: How America Will Defeat Scams on Wednesday\, October 1st\, from 9:30 AM to 11:30 AM. \nJoin this webinar for the first look at its recommended national strategy to stop fraud and scams. This event will bring together leaders from industry\, government\, law enforcement\, and advocacy organizations to preview key priorities that enhance national security\, protect consumers\, and build resilience against scammers. As the cost of fraud and scams continues to rise\, this proposed strategy—and Task Force leaders’ commitment to action—represents a pivotal step toward creating a stronger\, more cohesive\, and more secure national response that will save citizens billions of dollars and disrupt transnational crime. \nClick here to learn more and register.
URL:https://metroatlantaexchange.org/event/aspen-institute-united-against-fraud-how-america-will-defeat-scams/
LOCATION:GA
CATEGORIES:Virtual Event,Workforce Developer
END:VEVENT
BEGIN:VEVENT
DTSTART;TZID=America/New_York:20251001T120000
DTEND;TZID=America/New_York:20251001T123000
DTSTAMP:20260422T225055
CREATED:20250824T185539Z
LAST-MODIFIED:20250824T185539Z
UID:10035093-1759320000-1759321800@metroatlantaexchange.org
SUMMARY:Society for Human Resource Management (SHRM) – Atlanta: Info Session - Ask an Expert
DESCRIPTION:The Society for Human Resource Management (SHRM) – Atlanta is hosting a virtual Info Session – Ask an Expert on Wednesday\, October 1st\, from 12:00 PM to 12:30 PM. \nJoin us for an engaging info session where you’ll discover how SHRM-Atlanta’s Ask an Expert can benefit you now or in the future. During the program\, you’ll get to meet some of the professionals from Thread\, which powers the service\, and learn about how our benefit differs from others you may have experienced. \nClick here to learn more and register.
URL:https://metroatlantaexchange.org/event/society-for-human-resource-management-shrm-atlanta-info-session-ask-an-expert/
LOCATION:GA
CATEGORIES:Virtual Event,Workforce Developer
ORGANIZER;CN="The Society for Human Resource Management":MAILTO:info@shrmatlanta.org
END:VEVENT
BEGIN:VEVENT
DTSTART;TZID=America/New_York:20251001T130000
DTEND;TZID=America/New_York:20251001T140000
DTSTAMP:20260422T225055
CREATED:20250824T202856Z
LAST-MODIFIED:20250824T202856Z
UID:10035140-1759323600-1759327200@metroatlantaexchange.org
SUMMARY:National Association of Colleges and Employers (NACE): Keeping Gen Z Engaged in Internships
DESCRIPTION:The National Association of Colleges and Employers (NACE) is hosting a webinar on Keeping Gen Z Engaged in Internships on Wednesday\, October 1st\, from 1:00 PM to 2:00 PM. \nThis is the first session of NACE’s 2025 Disability Signature Series: Celebrating Value and Talent. In this candid panel discussion\, students\, each bringing unique perspectives as they navigate the space with disabilities\, will share their firsthand insights on what makes internships meaningful and motivating. Whether they are currently in an internship or reflecting on a recent one\, these panelists will offer honest feedback on what works\, what doesn’t\, and how organizations can better connect with and support Gen Z talent. \nClick here to learn more and register.
URL:https://metroatlantaexchange.org/event/national-association-of-colleges-and-employers-nace-keeping-gen-z-engaged-in-internships/
LOCATION:GA
CATEGORIES:Virtual Event,Workforce Developer
END:VEVENT
END:VCALENDAR