BEGIN:VCALENDAR
VERSION:2.0
PRODID:-//MAX - ECPv6.15.17.1//NONSGML v1.0//EN
CALSCALE:GREGORIAN
METHOD:PUBLISH
X-ORIGINAL-URL:https://metroatlantaexchange.org
X-WR-CALDESC:Events for MAX
REFRESH-INTERVAL;VALUE=DURATION:PT1H
X-Robots-Tag:noindex
X-PUBLISHED-TTL:PT1H
BEGIN:VTIMEZONE
TZID:America/New_York
BEGIN:DAYLIGHT
TZOFFSETFROM:-0500
TZOFFSETTO:-0400
TZNAME:EDT
DTSTART:20240310T070000
END:DAYLIGHT
BEGIN:STANDARD
TZOFFSETFROM:-0400
TZOFFSETTO:-0500
TZNAME:EST
DTSTART:20241103T060000
END:STANDARD
BEGIN:DAYLIGHT
TZOFFSETFROM:-0500
TZOFFSETTO:-0400
TZNAME:EDT
DTSTART:20250309T070000
END:DAYLIGHT
BEGIN:STANDARD
TZOFFSETFROM:-0400
TZOFFSETTO:-0500
TZNAME:EST
DTSTART:20251102T060000
END:STANDARD
BEGIN:DAYLIGHT
TZOFFSETFROM:-0500
TZOFFSETTO:-0400
TZNAME:EDT
DTSTART:20260308T070000
END:DAYLIGHT
BEGIN:STANDARD
TZOFFSETFROM:-0400
TZOFFSETTO:-0500
TZNAME:EST
DTSTART:20261101T060000
END:STANDARD
END:VTIMEZONE
BEGIN:VEVENT
DTSTART;TZID=America/New_York:20251004T080000
DTEND;TZID=America/New_York:20251010T170000
DTSTAMP:20260422T210804
CREATED:20250824T203313Z
LAST-MODIFIED:20250824T203313Z
UID:10035143-1759564800-1760115600@metroatlantaexchange.org
SUMMARY:Aspen Institute: Aspen Executive Seminar on Leadership\, Values and the Good Society
DESCRIPTION:The Aspen Institute is hosting the Aspen Executive Seminar on Leadership\, Values and the Good Society starting Saturday\, October 4th through Friday\, October 10th\, at the Aspen Meadows Resort. \nThe Aspen Institute was founded on the conviction that a better society requires better leaders who are more self-aware\, more self-correcting\, and more humane. The Aspen Executive Seminar on Leadership\, Values\, and the Good Society challenges senior leaders engage with the ideas and ideals that have shaped our world. Using our signature\, text-based dialogue\, the Aspen Executive Seminar equips leaders from all sectors and experiences to answers to enduring questions of leadership\, including: “How do I lead well and live justly in a good society?” along with the more immediate leadership questions\, including: “What inner resources can I draw from to build a culture of trust\, accountability\, and innovation in my teams and at my workplace?” \nClick here to learn more and register.
URL:https://metroatlantaexchange.org/event/aspen-institute-aspen-executive-seminar-on-leadership-values-and-the-good-society/
LOCATION:Aspen Meadows Resort\, 845 Meadows Road\, Aspen\, CO\, 81611\, United States
CATEGORIES:Conferences,In-Person Event,Workforce Developer
END:VEVENT
BEGIN:VEVENT
DTSTART;TZID=America/New_York:20251005T080000
DTEND;TZID=America/New_York:20251008T170000
DTSTAMP:20260422T210804
CREATED:20250824T203459Z
LAST-MODIFIED:20250824T213423Z
UID:10035144-1759651200-1759942800@metroatlantaexchange.org
SUMMARY:National Conference of State Legislatures (NCSL): 2025 LRL Professional Development Seminar
DESCRIPTION:The National Conference of State Legislatures (NCSL) is hosting the 2025 LRL Professional Development Seminar starting Sunday\, October 5th through Wednesday\, October 8th\, from 8:00 AM to 5:00 PM\, at the Nassau Inn – Palmer Square. \nGet ready for an enriching and immersive experience at the 2025 LRL Professional Development Seminar in Princeton\, N.J.! Join us for an unforgettable seminar filled with learning\, networking and discovery in the beautiful surroundings of Princeton and beyond. This seminar is a golden opportunity for state library professionals to come together and enhance the effectiveness and efficiency of state legislatures through cutting-edge technology. \nClick here to learn more and register.
URL:https://metroatlantaexchange.org/event/national-conference-of-state-legislatures-ncsl-2025-lrl-professional-development-seminar-starting/
LOCATION:Nassau Inn – Palmer Square\, 10 Palmer Square\, Princton\, NJ\, 08542\, United States
CATEGORIES:Conferences,In-Person Event,Workforce Developer
END:VEVENT
BEGIN:VEVENT
DTSTART;TZID=America/New_York:20251005T080000
DTEND;TZID=America/New_York:20251008T170000
DTSTAMP:20260422T210804
CREATED:20250824T203633Z
LAST-MODIFIED:20250824T203633Z
UID:10035145-1759651200-1759942800@metroatlantaexchange.org
SUMMARY:National Conference of State Legislatures (NCSL): 2025 RELACS Professional Development Seminar
DESCRIPTION:The National Conference of State Legislatures (NCSL) is hosting the 2025 RELACS Professional Development Seminar starting Sunday\, October 5th through Wednesday\, October 8th\, from 8:00 AM to 5:00 PM\, at the Madison Concourse Hotel. \nThe RELACS Professional Development Seminar brings together staff who are critical to the legislative process including researchers\, editors\, legal\, code revision\, bill drafting\, committee and policy analysis. The 2025 seminar features sessions on important legislative issues\, soft skills\, best practices\, and opportunities for networking.  This year’s meeting takes place in Madison\, Wis.\, at the Madison Concourse and at the state Capitol and aims to bring together participants to hear new information\, learn important skills\, build relationships and take away new tools and ideas to enhance the effectiveness of state legislatures. \nClick here to learn more and register.
URL:https://metroatlantaexchange.org/event/national-conference-of-state-legislatures-ncsl-2025-relacs-professional-development-seminar/
LOCATION:Madison Concourse Hotel\, 1 West Dayton Street\, Madison\, WI\, 53703\, United States
CATEGORIES:Conferences,In-Person Event,Workforce Developer
END:VEVENT
END:VCALENDAR