BEGIN:VCALENDAR
VERSION:2.0
PRODID:-//MAX - ECPv6.15.17.1//NONSGML v1.0//EN
CALSCALE:GREGORIAN
METHOD:PUBLISH
X-ORIGINAL-URL:https://metroatlantaexchange.org
X-WR-CALDESC:Events for MAX
REFRESH-INTERVAL;VALUE=DURATION:PT1H
X-Robots-Tag:noindex
X-PUBLISHED-TTL:PT1H
BEGIN:VTIMEZONE
TZID:America/New_York
BEGIN:DAYLIGHT
TZOFFSETFROM:-0500
TZOFFSETTO:-0400
TZNAME:EDT
DTSTART:20240310T070000
END:DAYLIGHT
BEGIN:STANDARD
TZOFFSETFROM:-0400
TZOFFSETTO:-0500
TZNAME:EST
DTSTART:20241103T060000
END:STANDARD
BEGIN:DAYLIGHT
TZOFFSETFROM:-0500
TZOFFSETTO:-0400
TZNAME:EDT
DTSTART:20250309T070000
END:DAYLIGHT
BEGIN:STANDARD
TZOFFSETFROM:-0400
TZOFFSETTO:-0500
TZNAME:EST
DTSTART:20251102T060000
END:STANDARD
BEGIN:DAYLIGHT
TZOFFSETFROM:-0500
TZOFFSETTO:-0400
TZNAME:EDT
DTSTART:20260308T070000
END:DAYLIGHT
BEGIN:STANDARD
TZOFFSETFROM:-0400
TZOFFSETTO:-0500
TZNAME:EST
DTSTART:20261101T060000
END:STANDARD
END:VTIMEZONE
BEGIN:VEVENT
DTSTART;TZID=America/New_York:20251019T080000
DTEND;TZID=America/New_York:20251024T170000
DTSTAMP:20260422T210817
CREATED:20250824T205450Z
LAST-MODIFIED:20250824T205450Z
UID:10035157-1760860800-1761325200@metroatlantaexchange.org
SUMMARY:National Conference of State Legislatures (NCSL): 2025 NLSSA Annual Training Conference
DESCRIPTION:The National Conference of State Legislatures (NCSL) is hosting a 2025 NLSSA Annual Training Conference starting Sunday\, October 19th through Friday\, October 24th\, from 8:00 AM to 5:00 PM\, at Embassy Suites by Hilton. \nThis conference brings together U.S. and international participants to learn important skills and procedures\, build relationships and take away new tools and ideas to enhance the effectiveness of state legislatures. \nClick here to learn more and register.
URL:https://metroatlantaexchange.org/event/national-conference-of-state-legislatures-ncsl-2025-nlssa-annual-training-conference/
LOCATION:Embassy Suites by Hilton – Indianapolis\, 110 West Washington Street\, Indianapolis\, IN\, 46204\, United States
CATEGORIES:Conferences,In-Person Event,Workforce Developer
END:VEVENT
BEGIN:VEVENT
DTSTART;TZID=America/New_York:20251020T080000
DTEND;TZID=America/New_York:20251022T170000
DTSTAMP:20260422T210817
CREATED:20241222T213346Z
LAST-MODIFIED:20241222T213346Z
UID:10032999-1760947200-1761152400@metroatlantaexchange.org
SUMMARY:Association for Talent Development: ATD OrgDev Conference
DESCRIPTION:The Association for Talent Development is hosting an ATD OrgDev Conference starting Monday\, October 20th through Wednesday\, October 22nd\, 2025\, in Houston\, Texas. \nJoin us to discover strategies and guidelines for organization development programs with award-winning OD insights and practitioners at ATD’s OrgDev conference. Learn from leading experts in culture and belonging\, talent strategy and management\, leadership and employee development\, and gain insight to bridge organizational gaps and build strategic business partnerships. Leave with an action plan to create intentional programs tied to your organization’s goals and visions. \nClick here to learn more and register.
URL:https://metroatlantaexchange.org/event/association-for-talent-development-atd-orgdev-conference/
LOCATION:GA
CATEGORIES:Conferences,In-Person Event,Workforce Developer
END:VEVENT
BEGIN:VEVENT
DTSTART;TZID=America/New_York:20251020T080000
DTEND;TZID=America/New_York:20251022T170000
DTSTAMP:20260422T210817
CREATED:20250824T205609Z
LAST-MODIFIED:20250824T205609Z
UID:10035158-1760947200-1761152400@metroatlantaexchange.org
SUMMARY:Manufacturing Institute: 2025 Workforce Summit
DESCRIPTION:The Manufacturing Institute is hosting the 2025 Workforce Summit starting Monday\, October 20th through Wednesday\, October 22nd\, at the Westin Charlotte. \nWith hundreds of thousands of open positions to fill on average each month for the past year\, manufacturing in the United States faces a workforce crisis. This annual convening will elevate local and national talent solutions\, amplify innovative training strategies and provide attendees with opportunities to explore community partnership models in action for our most persistent workforce challenges. Join us at the showcase event each year for anyone involved in manufacturing workforce development: the Manufacturing Institute’s Workforce Summit. With a program and attendee base led by manufacturers and supported by education and community partners\, the Workforce Summit is where the industry gathers to both showcase solutions and guide the next year’s focus areas. \nClick here to register.
URL:https://metroatlantaexchange.org/event/manufacturing-institute-2025-workforce-summit/
LOCATION:The Westin Charlotte\, 601 S. College Street\, Charlotte\, NC\, 28202\, United States
CATEGORIES:Conferences,In-Person Event,Workforce Developer
GEO:35.2215512;-80.8473977
X-APPLE-STRUCTURED-LOCATION;VALUE=URI;X-ADDRESS=The Westin Charlotte 601 S. College Street Charlotte NC 28202 United States;X-APPLE-RADIUS=500;X-TITLE=601 S. College Street:geo:-80.8473977,35.2215512
END:VEVENT
END:VCALENDAR