BEGIN:VCALENDAR
VERSION:2.0
PRODID:-//MAX - ECPv6.15.17.1//NONSGML v1.0//EN
CALSCALE:GREGORIAN
METHOD:PUBLISH
X-ORIGINAL-URL:https://metroatlantaexchange.org
X-WR-CALDESC:Events for MAX
REFRESH-INTERVAL;VALUE=DURATION:PT1H
X-Robots-Tag:noindex
X-PUBLISHED-TTL:PT1H
BEGIN:VTIMEZONE
TZID:America/New_York
BEGIN:DAYLIGHT
TZOFFSETFROM:-0500
TZOFFSETTO:-0400
TZNAME:EDT
DTSTART:20240310T070000
END:DAYLIGHT
BEGIN:STANDARD
TZOFFSETFROM:-0400
TZOFFSETTO:-0500
TZNAME:EST
DTSTART:20241103T060000
END:STANDARD
BEGIN:DAYLIGHT
TZOFFSETFROM:-0500
TZOFFSETTO:-0400
TZNAME:EDT
DTSTART:20250309T070000
END:DAYLIGHT
BEGIN:STANDARD
TZOFFSETFROM:-0400
TZOFFSETTO:-0500
TZNAME:EST
DTSTART:20251102T060000
END:STANDARD
BEGIN:DAYLIGHT
TZOFFSETFROM:-0500
TZOFFSETTO:-0400
TZNAME:EDT
DTSTART:20260308T070000
END:DAYLIGHT
BEGIN:STANDARD
TZOFFSETFROM:-0400
TZOFFSETTO:-0500
TZNAME:EST
DTSTART:20261101T060000
END:STANDARD
END:VTIMEZONE
BEGIN:VEVENT
DTSTART;TZID=America/New_York:20250904T080000
DTEND;TZID=America/New_York:20251106T170000
DTSTAMP:20260423T020553
CREATED:20250805T185853Z
LAST-MODIFIED:20250805T185853Z
UID:10034983-1756972800-1762448400@metroatlantaexchange.org
SUMMARY:National League of Cities (NLC): NCLU - Local Solutions to End Homelessness
DESCRIPTION:The National League of Cities (NLC) is hosting an NLCU: Local Solutions to End Homelessness session starting Thursday\, September 4th through Thursday\, November 6th. \nGain a comprehensive understanding of the complex factors driving homelessness in U.S. cities and explore evidence-based solutions to create meaningful change in your community. This course is specifically designed for local leaders seeking to develop and implement effective solutions. \nThis five-week course features five virtual learning sessions led by a facilitator with expertise in homelessness\, public health and evaluations. You can also leverage weekly office hours to gain expert insights into addressing homelessness in your community. \nClick here to register.
URL:https://metroatlantaexchange.org/event/national-league-of-cities-nlc-nclu-local-solutions-to-end-homelessness/
LOCATION:GA
CATEGORIES:Virtual Event,Workforce Developer
ORGANIZER;CN="National League of Cities":MAILTO:info@nlc.org
END:VEVENT
BEGIN:VEVENT
DTSTART;TZID=America/New_York:20251103T080000
DTEND;TZID=America/New_York:20251105T170000
DTSTAMP:20260423T020553
CREATED:20250824T211434Z
LAST-MODIFIED:20250824T211434Z
UID:10035170-1762156800-1762362000@metroatlantaexchange.org
SUMMARY:National Conference of State Legislatures (NCSL): 2025 LSPA Professional Development Seminar
DESCRIPTION:The National Conference of State Legislatures (NCSL) is hosting a 2025 LSPA Professional Development Seminar starting Monday\, November 3rd through Wednesday\, November 5th\, from 8:00 AM to 5:00 PM\, at the Hampton Inn and Suites. \nImmerse yourself in the dynamic world of working in legislative leadership\, caucus member and district offices at the 2025 and LSPA Professional Development Seminar in beautiful Phoenix. Over three enriching days\, join fellow legislative staff members from across the nation for engaging sessions and interactive workshops designed to elevate your skills and expand your horizons. Exploring both hard and soft skills necessary to thrive in the legislative environment\, this seminar offers a diverse array of topics tailored to meet the evolving needs of legislative professionals. Most of our time will be spent in the Arizona capitol learning with and from your legislative staff peers from across the nation. Networking time\, tours and other outings are planned. \nClick here to learn more and register.
URL:https://metroatlantaexchange.org/event/national-conference-of-state-legislatures-ncsl-2025-lspa-professional-development-seminar/
LOCATION:Hampton Inn and Suites – Phoenix\, 77 East Polk Street\, Phoenix\, AZ\, 85004\, United States
CATEGORIES:Career Development,In-Person Event,Workforce Developer
END:VEVENT
END:VCALENDAR