BEGIN:VCALENDAR
VERSION:2.0
PRODID:-//MAX - ECPv6.15.17.1//NONSGML v1.0//EN
CALSCALE:GREGORIAN
METHOD:PUBLISH
X-WR-CALNAME:MAX
X-ORIGINAL-URL:https://metroatlantaexchange.org
X-WR-CALDESC:Events for MAX
REFRESH-INTERVAL;VALUE=DURATION:PT1H
X-Robots-Tag:noindex
X-PUBLISHED-TTL:PT1H
BEGIN:VTIMEZONE
TZID:America/New_York
BEGIN:DAYLIGHT
TZOFFSETFROM:-0500
TZOFFSETTO:-0400
TZNAME:EDT
DTSTART:20240310T070000
END:DAYLIGHT
BEGIN:STANDARD
TZOFFSETFROM:-0400
TZOFFSETTO:-0500
TZNAME:EST
DTSTART:20241103T060000
END:STANDARD
BEGIN:DAYLIGHT
TZOFFSETFROM:-0500
TZOFFSETTO:-0400
TZNAME:EDT
DTSTART:20250309T070000
END:DAYLIGHT
BEGIN:STANDARD
TZOFFSETFROM:-0400
TZOFFSETTO:-0500
TZNAME:EST
DTSTART:20251102T060000
END:STANDARD
BEGIN:DAYLIGHT
TZOFFSETFROM:-0500
TZOFFSETTO:-0400
TZNAME:EDT
DTSTART:20260308T070000
END:DAYLIGHT
BEGIN:STANDARD
TZOFFSETFROM:-0400
TZOFFSETTO:-0500
TZNAME:EST
DTSTART:20261101T060000
END:STANDARD
END:VTIMEZONE
BEGIN:VEVENT
DTSTART;TZID=America/New_York:20251112T083000
DTEND;TZID=America/New_York:20251112T133000
DTSTAMP:20260423T021529
CREATED:20250805T171824Z
LAST-MODIFIED:20250805T171824Z
UID:10034951-1762936200-1762954200@metroatlantaexchange.org
SUMMARY:Georgia Chamber of Commerce: 2025 Economic Inclusion Summit
DESCRIPTION:The Georgia Chamber of Commerce is hosting its 2025 Economic Inclusion Summit on Wednesday\, November 12th\, from 8:30 AM to 1:30 PM\, at the Georgia International Convention Center. \nAs Georgia continues to become more diverse\, our state’s leaders must seek to understand\, engage in\, and accept the responsibility to work towards an inclusive environment. Join business professionals from all over the state as we hear from speakers and panelists on topics ranging from shifting cultures in the workplace to the success and failures of diversity and inclusion experts. Together\, we can spark meaningful conversations and gain a better understanding of cultures\, perspectives\, and experiences. \nThis event will allow participants to grow their network with individuals and organizations who share the commitment to making diversity and inclusion a strategic priority for business success and community prosperity. \nClick here to learn more and register.
URL:https://metroatlantaexchange.org/event/georgia-chamber-of-commerce-2025-economic-inclusion-summit/
LOCATION:Georgia International Convention Center\, 2000 Convention Center Concourse\,\, Atlanta\, GA\, 30337\, United States
CATEGORIES:Conferences,In-Person Event,Workforce Developer
GEO:33.6456779;-84.4574981
X-APPLE-STRUCTURED-LOCATION;VALUE=URI;X-ADDRESS=Georgia International Convention Center 2000 Convention Center Concourse Atlanta GA 30337 United States;X-APPLE-RADIUS=500;X-TITLE=2000 Convention Center Concourse\,:geo:-84.4574981,33.6456779
END:VEVENT
BEGIN:VEVENT
DTSTART;TZID=America/New_York:20251112T090000
DTEND;TZID=America/New_York:20251112T113000
DTSTAMP:20260423T021529
CREATED:20251109T013725Z
LAST-MODIFIED:20251109T013725Z
UID:10035519-1762938000-1762947000@metroatlantaexchange.org
SUMMARY:United Way of Greater Atlanta: AAP Meeting of the Minds
DESCRIPTION:United Way of Greater Atlanta is hosting an AAP Meeting of the Minds on Wednesday\, November 12th\, from 9:00 AM to 11:30 AM\, at Comcast Regional Headquarters. \nJoin the United Way of Greater Atlanta for a dynamic gathering designed to connect business leaders and employee resource group (ERG) officers for a moment of inspiration\, collaboration\, and impact. Spend the morning hearing from a keynote speaker\, exchanging best practices\, sparking new ideas\, and building relationships with current and potential partners who share your commitment to equity and community. \nClick here to learn more and register.
URL:https://metroatlantaexchange.org/event/united-way-of-greater-atlanta-aap-meeting-of-the-minds/
LOCATION:Comcast Building\, 2605 Circle 75 Parkway\, Atlanta\, GA\, 30339\, United States
CATEGORIES:In-Person Event,Workforce Developer
END:VEVENT
BEGIN:VEVENT
DTSTART;TZID=America/New_York:20251112T120000
DTEND;TZID=America/New_York:20251112T130000
DTSTAMP:20260423T021529
CREATED:20251109T013929Z
LAST-MODIFIED:20251109T013929Z
UID:10035520-1762948800-1762952400@metroatlantaexchange.org
SUMMARY:Georgia Career Development Association: NCDA Webinar - Digital Innovations and the Future of the Talent Marketplace
DESCRIPTION:The Georgia Career Development Association is hosting an NCDA Webinar: Digital Innovations and the Future of the Talent Marketplace on Wednesday\, November 12th\, from 12:00 PM to 1:00 PM. \nThis dynamic webinar explores how digital innovations are transforming the talent marketplace and reshaping the roles of key stakeholders in the career development ecosystem. Education providers\, employers\, job seekers\, and career counselors are each playing increasingly interconnected roles in creating a more skills-focused environment. Attend the webinar to learn about the role of technology\, such as Learning and Employment Records (LERs) and digital wallets\, in enabling this transformation. Tools like these provide individuals with verifiable\, portable credentials that document skills and achievements across learning and work environments. The session emphasizes the importance of building a learner/worker-centered ecosystem where trusted\, portable\, skills-based records support lifelong learning and bridge the gap between education and employment. \nClick here to learn more and register.
URL:https://metroatlantaexchange.org/event/georgia-career-development-association-ncda-webinar-digital-innovations-and-the-future-of-the-talent-marketplace/
LOCATION:GA
CATEGORIES:In-Person Event,Workforce Developer
END:VEVENT
BEGIN:VEVENT
DTSTART;TZID=America/New_York:20251112T130000
DTEND;TZID=America/New_York:20251112T140000
DTSTAMP:20260423T021529
CREATED:20251109T021416Z
LAST-MODIFIED:20251109T021416Z
UID:10035536-1762952400-1762956000@metroatlantaexchange.org
SUMMARY:National Association of Colleges and Employers (NACE): Mission Next - Empowering Veteran Transitions from Service to Success
DESCRIPTION:The National Association of Colleges and Employers (NACE) is hosting Mission Next: Empowering Veteran Transitions from Service to Success on Wednesday\, November 12th\, from 1:00 PM to 2:00 PM. \nThis dynamic and interactive virtual session equips college career counselors and employers with insights\, inspiration\, and actionable strategies to support military veterans’ successful transition from service to civilian careers. Discover best practices for translating military skills\, fostering veteran-ready workplaces\, and building collaborative pathways that empower veterans to thrive in education and employment. \nClick here to learn more and register.
URL:https://metroatlantaexchange.org/event/national-association-of-colleges-and-employers-nace-mission-next-empowering-veteran-transitions-from-service-to-success/
LOCATION:GA
CATEGORIES:Virtual Event,Workforce Developer
END:VEVENT
BEGIN:VEVENT
DTSTART;TZID=America/New_York:20251112T130000
DTEND;TZID=America/New_York:20251112T140000
DTSTAMP:20260423T021529
CREATED:20251109T021618Z
LAST-MODIFIED:20251109T021618Z
UID:10035537-1762952400-1762956000@metroatlantaexchange.org
SUMMARY:Society for Human Resource Management (SHRM): Solving the Caregiving Gap
DESCRIPTION:The Society for Human Resource Management (SHRM) is hosting a webinar on Solving the Caregiving Gap on Wednesday\, November 12th\, starting at 1:00 PM. \nAmerica’s workforce is aging\, and caregiving responsibilities are surging. HR professionals face a complex challenge: supporting employees who are caring for children with special needs\, spouses with chronic illness\, or aging parents with dementia. The demands are intense\, and traditional approaches fall short — leaving both employees and organizations at risk. Join this SHRM-hosted webinar to gain clarity on the realities of workplace caregiving and discover actionable strategies to address this urgent need. You’ll be moved beyond compliance to focus on practical\, human-centered solutions that drive retention\, engagement\, and organizational resilience. \nClick here to learn more and register.
URL:https://metroatlantaexchange.org/event/society-for-human-resource-management-shrm-solving-the-caregiving-gap/
LOCATION:GA
CATEGORIES:Virtual Event,Workforce Developer
ORGANIZER;CN="The Society for Human Resource Management":MAILTO:info@shrmatlanta.org
END:VEVENT
BEGIN:VEVENT
DTSTART;TZID=America/New_York:20251112T140000
DTEND;TZID=America/New_York:20251112T150000
DTSTAMP:20260423T021529
CREATED:20250903T213351Z
LAST-MODIFIED:20250903T213351Z
UID:10035352-1762956000-1762959600@metroatlantaexchange.org
SUMMARY:National Association of Counties (NACo): Checks\, Balances\, and Firewalls: Navigating Governance
DESCRIPTION:The National Association of Counties (NACo) is hosting a webinar on Checks\, Balances\, and Firewalls: Navigating Governance on Wednesday\, November 12th\, from 2:00 PM to 3:00 PM. \nThis session explores the intersection where securing election operations meets digital realities. In an interconnected world\, where officials face increased cyber threats and scrutiny\, governance forms the backbone of order. This training unravels the fundamentals of governance to strengthen democracy in the digital age\, with a particular focus on supply chain and data management. \nClick here to learn more and register.
URL:https://metroatlantaexchange.org/event/national-association-of-counties-naco-checks-balances-and-firewalls-navigating-governance/
LOCATION:GA
CATEGORIES:Virtual Event,Workforce Developer
END:VEVENT
BEGIN:VEVENT
DTSTART;TZID=America/New_York:20251112T140000
DTEND;TZID=America/New_York:20251112T150000
DTSTAMP:20260423T021529
CREATED:20251109T021741Z
LAST-MODIFIED:20251109T021741Z
UID:10035538-1762956000-1762959600@metroatlantaexchange.org
SUMMARY:Society for Human Resource Management (SHRM): Top 20 Skills for Career and Business Success
DESCRIPTION:The Society for Human Resource Management (SHRM) is hosting a webinar on the Top 20 Skills for Career and Business Success on Wednesday\, November 12th\, starting at 2:00 PM. \nThroughout his career\, Dean Karrel has hired and trained hundreds of sales professionals\, and his online courses have reached more than 1.5 million learners. In his coaching and training\, he focuses on the top 20 skills that consistently show up in the most successful businesspeople. In this webinar\, Karrel will walk you through these key traits – not ones tied to advanced degrees or impressive job titles\, but practical\, powerful skills rooted in strong social and interpersonal abilities. When you cultivate and refine these 20 qualities\, you gain a distinct edge – not just in your career\, but in your overall business success. \nClick here to learn more and register.
URL:https://metroatlantaexchange.org/event/society-for-human-resource-management-shrm-top-20-skills-for-career-and-business-success/
LOCATION:GA
CATEGORIES:Virtual Event,Workforce Developer
ORGANIZER;CN="The Society for Human Resource Management":MAILTO:info@shrmatlanta.org
END:VEVENT
END:VCALENDAR