BEGIN:VCALENDAR
VERSION:2.0
PRODID:-//MAX - ECPv6.15.17.1//NONSGML v1.0//EN
CALSCALE:GREGORIAN
METHOD:PUBLISH
X-WR-CALNAME:MAX
X-ORIGINAL-URL:https://metroatlantaexchange.org
X-WR-CALDESC:Events for MAX
REFRESH-INTERVAL;VALUE=DURATION:PT1H
X-Robots-Tag:noindex
X-PUBLISHED-TTL:PT1H
BEGIN:VTIMEZONE
TZID:America/New_York
BEGIN:DAYLIGHT
TZOFFSETFROM:-0500
TZOFFSETTO:-0400
TZNAME:EDT
DTSTART:20240310T070000
END:DAYLIGHT
BEGIN:STANDARD
TZOFFSETFROM:-0400
TZOFFSETTO:-0500
TZNAME:EST
DTSTART:20241103T060000
END:STANDARD
BEGIN:DAYLIGHT
TZOFFSETFROM:-0500
TZOFFSETTO:-0400
TZNAME:EDT
DTSTART:20250309T070000
END:DAYLIGHT
BEGIN:STANDARD
TZOFFSETFROM:-0400
TZOFFSETTO:-0500
TZNAME:EST
DTSTART:20251102T060000
END:STANDARD
BEGIN:DAYLIGHT
TZOFFSETFROM:-0500
TZOFFSETTO:-0400
TZNAME:EDT
DTSTART:20260308T070000
END:DAYLIGHT
BEGIN:STANDARD
TZOFFSETFROM:-0400
TZOFFSETTO:-0500
TZNAME:EST
DTSTART:20261101T060000
END:STANDARD
END:VTIMEZONE
BEGIN:VEVENT
DTSTART;TZID=America/New_York:20251118T080000
DTEND;TZID=America/New_York:20251118T170000
DTSTAMP:20260423T021529
CREATED:20250824T212335Z
LAST-MODIFIED:20250824T212335Z
UID:10035175-1763452800-1763485200@metroatlantaexchange.org
SUMMARY:Aspen Institute: 2025 Aspen Cyber Summit
DESCRIPTION:The Aspen Institute is hosting its 2025 Aspen Cyber Summit on Tuesday\, November 18th\, at the Reach\, at the Kennedy Center for the Performing Arts. \nThere will also be a virtual option to attend the event. Cybersecurity is a global problem with local impacts. From ensuring clean drinking water to protecting financial transactions to supporting free and fair elections\, digital security involves everyone\, everywhere. The Aspen Cyber Summit is the nation’s premier annual technology and cybersecurity policy gathering. Since 2016\, this flagship Aspen Institute conference has hosted the most consequential cybersecurity discussions of our time. Our stage features global cybersecurity and national security experts\, senior government leaders from the White House and allied nations\, members of Congress\, Fortune 100 executives\, and thinkers from civil society. Now in its 10th year\, the event brings together leading national and international voices from government\, industry\, and civil society to create a safer world\, online and off. \nClick here to learn more and register.
URL:https://metroatlantaexchange.org/event/aspen-institute-2025-aspen-cyber-summit/
LOCATION:the Reach\, at the Kennedy Center for the Performing Arts\, 2700 F Street\, NW\, Washington\, DC\, 20566\, United States
CATEGORIES:Conferences,In-Person Event,Virtual Event,Workforce Developer
END:VEVENT
BEGIN:VEVENT
DTSTART;TZID=America/New_York:20251118T080000
DTEND;TZID=America/New_York:20251119T170000
DTSTAMP:20260423T021529
CREATED:20250805T172031Z
LAST-MODIFIED:20250805T172031Z
UID:10034952-1763452800-1763571600@metroatlantaexchange.org
SUMMARY:University of Georgia: Georgia's 2025 Workforce Conference
DESCRIPTION:The University of Georgia\, in partnership with the Carl Vinson Institute of Government is hosting Georgia’s 2025 Workforce Conference on Tuesday\, November 18th and Wednesday\, November 19th\, at the University of Georgia Center for Continuing Education & Hotel. \nJoin us for our two-day Georgia’s Workforce Conference to learn about innovative strategies and programs Georgia companies\, communities and organizations are using to address talent development needs and build long-term workforce pipelines. Georgia’s Workforce Conference will bring together partners in workforce development\, education\, business and economic development to explore promising practices and emerging ideas to solve talent challenges around the state. \nClick here to learn more and register.
URL:https://metroatlantaexchange.org/event/university-of-georgia-georgias-2025-workforce-conference-2/
LOCATION:University of Georgia Center for Continuing Education\, 1197 South Lumpkin Street\, Athens\, GA\, 30602\, United States
CATEGORIES:Conferences,In-Person Event,Workforce Developer
GEO:33.9448561;-83.3779435
X-APPLE-STRUCTURED-LOCATION;VALUE=URI;X-ADDRESS=University of Georgia Center for Continuing Education 1197 South Lumpkin Street Athens GA 30602 United States;X-APPLE-RADIUS=500;X-TITLE=1197 South Lumpkin Street:geo:-83.3779435,33.9448561
END:VEVENT
BEGIN:VEVENT
DTSTART;TZID=America/New_York:20251118T090000
DTEND;TZID=America/New_York:20251118T103000
DTSTAMP:20260423T021529
CREATED:20251109T015027Z
LAST-MODIFIED:20251109T015027Z
UID:10035525-1763456400-1763461800@metroatlantaexchange.org
SUMMARY:Georgia Center for Nonprofits: Orientation to Nonprofit Board Service
DESCRIPTION:The Georgia Center for Nonprofits is hosting an Orientation to Nonprofit Board Service on Tuesday\, November 18th\, from 9:00 AM to 10:30 AM. \nServing on a nonprofit board can present unique opportunities and challenges for leaders with experience in other sectors. In this session\, the Georgia Center for Nonprofits offers our members a thorough overview on the fundamentals of nonprofit board service\, which can help jump-start your new or existing board. Those working with or serving on nonprofit boards are encouraged to join us for this discussion\, which will cover basic legal and fiduciary responsibilities\, key annual obligations\, expectations around fundraising\, roles and responsibilities\, and the latest trends and challenges facing nonprofit boards. \nClick here to learn more and register.
URL:https://metroatlantaexchange.org/event/georgia-center-for-nonprofits-orientation-to-nonprofit-board-service/
LOCATION:GA
CATEGORIES:Virtual Event,Workforce Developer
END:VEVENT
BEGIN:VEVENT
DTSTART;TZID=America/New_York:20251118T120000
DTEND;TZID=America/New_York:20251118T130000
DTSTAMP:20260423T021529
CREATED:20251109T015253Z
LAST-MODIFIED:20251109T015253Z
UID:10035526-1763467200-1763470800@metroatlantaexchange.org
SUMMARY:Society for Human Resource Management (SHRM) – Atlanta: Supporting Caregivers in the Workplace: A Health and Wellness Perspective for HR Leaders
DESCRIPTION:The Society for Human Resource Management (SHRM) – Atlanta is hosting a webinar on Supporting Caregivers in the Workplace: A Health and Wellness Perspective for HR Leaders on Tuesday\, November 18th\, from 12:00 PM to 1:00 PM. \nCaregiving is one of the most significant yet often invisible factors influencing employee well-being and organizational performance. With millions of employees balancing professional responsibilities with the care of children\, aging parents\, or loved ones with health needs\, HR leaders are uniquely positioned to shape policies that promote both compassion and productivity. Led by a physician and industry experts specializing in organizational wellbeing and population health management\, this webinar bridges the gap between medical insight and HR strategy. Participants will gain a deeper understanding of the physical\, emotional\, and psychological stressors caregivers experience and learn evidence-based approaches to support them. The session will highlight interventions that improve employee engagement\, reduce burnout\, and foster a workplace culture grounded in empathy\, flexibility\, and inclusion. \nClick here to learn more and register.
URL:https://metroatlantaexchange.org/event/society-for-human-resource-management-shrm-atlanta-supporting-caregivers-in-the-workplace-a-health-and-wellness-perspective-for-hr-leaders/
LOCATION:GA
CATEGORIES:Virtual Event,Workforce Developer
ORGANIZER;CN="The Society for Human Resource Management":MAILTO:info@shrmatlanta.org
END:VEVENT
END:VCALENDAR