BEGIN:VCALENDAR
VERSION:2.0
PRODID:-//MAX - ECPv6.15.17.1//NONSGML v1.0//EN
CALSCALE:GREGORIAN
METHOD:PUBLISH
X-WR-CALNAME:MAX
X-ORIGINAL-URL:https://metroatlantaexchange.org
X-WR-CALDESC:Events for MAX
REFRESH-INTERVAL;VALUE=DURATION:PT1H
X-Robots-Tag:noindex
X-PUBLISHED-TTL:PT1H
BEGIN:VTIMEZONE
TZID:America/New_York
BEGIN:DAYLIGHT
TZOFFSETFROM:-0500
TZOFFSETTO:-0400
TZNAME:EDT
DTSTART:20240310T070000
END:DAYLIGHT
BEGIN:STANDARD
TZOFFSETFROM:-0400
TZOFFSETTO:-0500
TZNAME:EST
DTSTART:20241103T060000
END:STANDARD
BEGIN:DAYLIGHT
TZOFFSETFROM:-0500
TZOFFSETTO:-0400
TZNAME:EDT
DTSTART:20250309T070000
END:DAYLIGHT
BEGIN:STANDARD
TZOFFSETFROM:-0400
TZOFFSETTO:-0500
TZNAME:EST
DTSTART:20251102T060000
END:STANDARD
BEGIN:DAYLIGHT
TZOFFSETFROM:-0500
TZOFFSETTO:-0400
TZNAME:EDT
DTSTART:20260308T070000
END:DAYLIGHT
BEGIN:STANDARD
TZOFFSETFROM:-0400
TZOFFSETTO:-0500
TZNAME:EST
DTSTART:20261101T060000
END:STANDARD
END:VTIMEZONE
BEGIN:VEVENT
DTSTART;TZID=America/New_York:20251121T090000
DTEND;TZID=America/New_York:20251121T100000
DTSTAMP:20260423T001844
CREATED:20251103T043719Z
LAST-MODIFIED:20251103T043719Z
UID:10035373-1763715600-1763719200@metroatlantaexchange.org
SUMMARY:MAX Minutes with For Momentum
DESCRIPTION:The Metro Atlanta eXchange for Workforce Solutions is hosting MAX Minutes with For Momentum on Friday\, November 21th\, at 9:00 AM\, via \nOver the last year\, the social impact sector is navigating an era defined by uncertainty and rapid policy shifts. We’ve witnessed firsthand how these pressures are compelling both companies and nonprofits to adapt with remarkable speed. \nFor Momentum’s latest research combined with decades of industry expertise developing hundreds of corporate and nonprofit partnerships will guide you on how to navigate this new landscape. President and Founder Mollye Rhea will join MAX to provide a deep dive into the forces currently shaping successful social impact partnerships\, including: the true impact of employee engagement\, the motivating factors driving partnership decision making today\, and the crucial corporate roles driving this work. \nPresident and Founder Mollye Rhea will join MAX to provide a deep dive into the forces currently shaping successful social impact partnerships\, including: the true impact of employee engagement\, the motivating factors driving partnership decision making today\, and the crucial corporate roles driving this work. \nWhat We’ll Uncover Together: \n• Terminology: The most current language for defining CSR and cause partnership today. \n• Strategy & Data: The essential marketplace trends and data to refine your partnership roadmap. \n• Employee Engagement’s Role: A look at vital influence employees on corporate collaborations. \n• Corporate Champions: Identifying the crucial corporate roles that drive cause work and who you need to be talking to. \n• The Big Picture: Causes capturing corporate attention and a clear look into the future of corporate giving. \nJoin MAX on Friday\, November 21st\, 9:00 AM\, for a timely and virtual conversation. \nClick here to learn more and register. \nABOUT MAX MINUTES  \nLaunched in 2014\, the mission of MAX is to advance economic resilience in the Atlanta region by strengthening connections\, collaborations\, and practices among workforce developers and organizations engaged in workforce development. \nThrough our webinar series\, MAX Minutes\, MAX seeks to bring timely insights to providers\, intermediaries\, and other partners in workforce. MAX Minutes features talks by key experts in the Atlanta region and beyond on important workforce matters.
URL:https://metroatlantaexchange.org/event/max-minutes-with-for-momentum/
LOCATION:GA
CATEGORIES:MAX,Virtual Event,Workforce Developer
END:VEVENT
END:VCALENDAR