BEGIN:VCALENDAR
VERSION:2.0
PRODID:-//MAX - ECPv6.15.17.1//NONSGML v1.0//EN
CALSCALE:GREGORIAN
METHOD:PUBLISH
X-ORIGINAL-URL:https://metroatlantaexchange.org
X-WR-CALDESC:Events for MAX
REFRESH-INTERVAL;VALUE=DURATION:PT1H
X-Robots-Tag:noindex
X-PUBLISHED-TTL:PT1H
BEGIN:VTIMEZONE
TZID:America/New_York
BEGIN:DAYLIGHT
TZOFFSETFROM:-0500
TZOFFSETTO:-0400
TZNAME:EDT
DTSTART:20240310T070000
END:DAYLIGHT
BEGIN:STANDARD
TZOFFSETFROM:-0400
TZOFFSETTO:-0500
TZNAME:EST
DTSTART:20241103T060000
END:STANDARD
BEGIN:DAYLIGHT
TZOFFSETFROM:-0500
TZOFFSETTO:-0400
TZNAME:EDT
DTSTART:20250309T070000
END:DAYLIGHT
BEGIN:STANDARD
TZOFFSETFROM:-0400
TZOFFSETTO:-0500
TZNAME:EST
DTSTART:20251102T060000
END:STANDARD
BEGIN:DAYLIGHT
TZOFFSETFROM:-0500
TZOFFSETTO:-0400
TZNAME:EDT
DTSTART:20260308T070000
END:DAYLIGHT
BEGIN:STANDARD
TZOFFSETFROM:-0400
TZOFFSETTO:-0500
TZNAME:EST
DTSTART:20261101T060000
END:STANDARD
END:VTIMEZONE
BEGIN:VEVENT
DTSTART;TZID=America/New_York:20251119T080000
DTEND;TZID=America/New_York:20251122T170000
DTSTAMP:20260422T224155
CREATED:20250824T212621Z
LAST-MODIFIED:20250824T212621Z
UID:10035176-1763539200-1763830800@metroatlantaexchange.org
SUMMARY:National League of Cities (NLC): 2025 City Summit
DESCRIPTION:The National League of Cities (NLC) is hosting its 2025 City Summit on Wednesday\, November 19th through Saturday\, November 22nd\, at the Salt Palace Convention Center. \nDuring uncertain times\, bold leadership is necessary. Join your peers at City Summit where you can meet other innovative leaders navigating these uncertain times with resilience and bold action. City Summit is where local leaders connect\, learn and engage with experts and their peers. Build your leadership skills and gain proven strategies to support the work you are doing in your community. Take your leadership to new heights surrounded by breathtaking mountains and unique local culture. \nClick here to learn more and register.
URL:https://metroatlantaexchange.org/event/national-league-of-cities-nlc-2025-city-summit/
LOCATION:Salt Palace Convention Center\, 100 South West Temple Street\, Salt Lake City\, UT\, 84101\, United States
CATEGORIES:Conferences,In-Person Event,Workforce Developer
ORGANIZER;CN="National League of Cities":MAILTO:info@nlc.org
END:VEVENT
END:VCALENDAR