BEGIN:VCALENDAR
VERSION:2.0
PRODID:-//MAX - ECPv6.15.17.1//NONSGML v1.0//EN
CALSCALE:GREGORIAN
METHOD:PUBLISH
X-WR-CALNAME:MAX
X-ORIGINAL-URL:https://metroatlantaexchange.org
X-WR-CALDESC:Events for MAX
REFRESH-INTERVAL;VALUE=DURATION:PT1H
X-Robots-Tag:noindex
X-PUBLISHED-TTL:PT1H
BEGIN:VTIMEZONE
TZID:America/New_York
BEGIN:DAYLIGHT
TZOFFSETFROM:-0500
TZOFFSETTO:-0400
TZNAME:EDT
DTSTART:20240310T070000
END:DAYLIGHT
BEGIN:STANDARD
TZOFFSETFROM:-0400
TZOFFSETTO:-0500
TZNAME:EST
DTSTART:20241103T060000
END:STANDARD
BEGIN:DAYLIGHT
TZOFFSETFROM:-0500
TZOFFSETTO:-0400
TZNAME:EDT
DTSTART:20250309T070000
END:DAYLIGHT
BEGIN:STANDARD
TZOFFSETFROM:-0400
TZOFFSETTO:-0500
TZNAME:EST
DTSTART:20251102T060000
END:STANDARD
BEGIN:DAYLIGHT
TZOFFSETFROM:-0500
TZOFFSETTO:-0400
TZNAME:EDT
DTSTART:20260308T070000
END:DAYLIGHT
BEGIN:STANDARD
TZOFFSETFROM:-0400
TZOFFSETTO:-0500
TZNAME:EST
DTSTART:20261101T060000
END:STANDARD
END:VTIMEZONE
BEGIN:VEVENT
DTSTART;TZID=America/New_York:20251203T080000
DTEND;TZID=America/New_York:20251204T170000
DTSTAMP:20260423T021527
CREATED:20250824T212849Z
LAST-MODIFIED:20250824T212849Z
UID:10035177-1764748800-1764867600@metroatlantaexchange.org
SUMMARY:National Association of State Workforce Agencies (NASWA): 2025 UI Integrity Symposium
DESCRIPTION:The National Association of State Workforce Agencies (NASWA) is hosting the 2025 UI Integrity Symposium on Wednesday\, December 3rd and Thursday\, December 4th\, at the Loews Canyon. \nThe UI Integrity Symposium is a gathering for NASWA state workforce members to learn and discuss current and developing trends in UI benefits and tax integrity. Benefits and tax tracks will focus on UI integrity challenges while also highlighting successful strategies states have implemented to combat fraud\, reduce improper payments\, improve collections\, strengthen UI systems\, and update operational processes and procedures. The deadline to register is November 10th. \nClick here to learn more and register.
URL:https://metroatlantaexchange.org/event/national-association-of-state-workforce-agencies-naswa-2025-ui-integrity-symposium/
LOCATION:Loews Canyon\, 7000 North Resort Drive\, Tucson\, AZ\, 85750\, United States
CATEGORIES:Conferences,In-Person Event,Workforce Developer
ORGANIZER;CN="National Association of State Workforce Agencies (NASWA)":MAILTO:naswa@naswa.org
END:VEVENT
END:VCALENDAR