BEGIN:VCALENDAR
VERSION:2.0
PRODID:-//MAX - ECPv6.15.17.1//NONSGML v1.0//EN
CALSCALE:GREGORIAN
METHOD:PUBLISH
X-ORIGINAL-URL:https://metroatlantaexchange.org
X-WR-CALDESC:Events for MAX
REFRESH-INTERVAL;VALUE=DURATION:PT1H
X-Robots-Tag:noindex
X-PUBLISHED-TTL:PT1H
BEGIN:VTIMEZONE
TZID:America/New_York
BEGIN:DAYLIGHT
TZOFFSETFROM:-0500
TZOFFSETTO:-0400
TZNAME:EDT
DTSTART:20240310T070000
END:DAYLIGHT
BEGIN:STANDARD
TZOFFSETFROM:-0400
TZOFFSETTO:-0500
TZNAME:EST
DTSTART:20241103T060000
END:STANDARD
BEGIN:DAYLIGHT
TZOFFSETFROM:-0500
TZOFFSETTO:-0400
TZNAME:EDT
DTSTART:20250309T070000
END:DAYLIGHT
BEGIN:STANDARD
TZOFFSETFROM:-0400
TZOFFSETTO:-0500
TZNAME:EST
DTSTART:20251102T060000
END:STANDARD
BEGIN:DAYLIGHT
TZOFFSETFROM:-0500
TZOFFSETTO:-0400
TZNAME:EDT
DTSTART:20260308T070000
END:DAYLIGHT
BEGIN:STANDARD
TZOFFSETFROM:-0400
TZOFFSETTO:-0500
TZNAME:EST
DTSTART:20261101T060000
END:STANDARD
END:VTIMEZONE
BEGIN:VEVENT
DTSTART;TZID=America/New_York:20251208T090000
DTEND;TZID=America/New_York:20251211T110000
DTSTAMP:20260422T225045
CREATED:20251203T164813Z
LAST-MODIFIED:20251203T164813Z
UID:10035728-1765184400-1765450800@metroatlantaexchange.org
SUMMARY:Aspen Institute: Building Nonprofit Advocacy Capacity
DESCRIPTION:The Aspen Institute is hosting a Building Nonprofit Advocacy Capacity virtual program starting Monday\, December 8th through Friday\, December 11th\, from 9:00 AM to 11:00 AM. \nThis part-time\, free virtual program designed to support US-based organizations working in the public interest – such as nonprofits\, direct services providers\, or university and research centers – who want to grow the policy and advocacy capabilities of their organization. Participants will learn how to educate and persuade potential partners on policy issues that impact the communities your organization serves\, and how to obtain the resources – including staffing – to support having impact in the policy space. This course will include an overview of how to be strategic in advocating for policy changes at your organization with its current staff; and how to bring on additional staff to work on policy change. \nClick here to learn more and register.
URL:https://metroatlantaexchange.org/event/aspen-institute-building-nonprofit-advocacy-capacity/
LOCATION:GA
CATEGORIES:Virtual Event,Workforce Developer
END:VEVENT
BEGIN:VEVENT
DTSTART;TZID=America/New_York:20251208T100000
DTEND;TZID=America/New_York:20251208T120000
DTSTAMP:20260422T225045
CREATED:20251203T165057Z
LAST-MODIFIED:20251203T165057Z
UID:10035729-1765188000-1765195200@metroatlantaexchange.org
SUMMARY:National League of Cities (NLC): Coming Back Home: Why Housing Matters More for the Economy More Than Ever
DESCRIPTION:The National League of Cities (NLC) is hosting Coming Back Home: Why Housing Matters More for the Economy More Than Ever on Monday\, December 8th\, from 10:00 AM to 12:00 PM\, at the National League of Cities (NLC) Conference Center. \nThe United States is experiencing a once-in-a-generation housing crisis that has affected nearly every community\, regardless of size or location. After the historic collapse of the U.S. housing market in 2008\, housing supply has failed to meet current demand. Now\, what was once a staple of the American dream\, finding an affordable place to live has become increasingly out of reach. Join mayors\, and CEOs for U.S. Housing Investment and National League of Cities for a conversation on the housing crisis’s impact on the economy\, and why political and business leaders need to consider the short- and long-term effects of the crisis as they plan for the future. \nClick here to learn more and register.
URL:https://metroatlantaexchange.org/event/national-league-of-cities-nlc-coming-back-home-why-housing-matters-more-for-the-economy-more-than-ever/
LOCATION:National League of Cities (NLC) Conference Center\, 660 North Capitol Street\, SW\, Washington\, DC\, 20001\, United States
CATEGORIES:In-Person Event,Workforce Developer
ORGANIZER;CN="National League of Cities":MAILTO:info@nlc.org
END:VEVENT
BEGIN:VEVENT
DTSTART;TZID=America/New_York:20251208T130000
DTEND;TZID=America/New_York:20251208T140000
DTSTAMP:20260422T225045
CREATED:20251203T170226Z
LAST-MODIFIED:20251203T170226Z
UID:10035730-1765198800-1765202400@metroatlantaexchange.org
SUMMARY:National Association of Colleges and Employers (NACE): Hard Data on Soft Skills: 2025 Year-in-Review with Matthew Brink and Randy Bitting
DESCRIPTION:The National Association of Colleges and Employers (NACE) is hosting a webinar on Hard Data on Soft Skills: 2025 Year-in-Review with Matthew Brink and Randy Bitting on Monday\, December 8th\, from 1:00 PM to 2:00 PM. \nExplore the key findings and emerging patterns in 2025 Career Readiness data with Matthew Brink\, Chief Content and Programs Officer for NACE\, and Randy Bitting\, Head of Strategy & Career Readiness at Suitable. This session will be a comprehensive Year-in-Review deep dive and provide exclusive “hard data on soft skills” research. During their conversation\, Matthew and Randy will candidly discuss the current state of Career Readiness in Higher Ed and explore 2025 hard data on soft skills by exploring the power of Observational Data: utilizing observational behavioral ratings from supervisors and co-workers during work-based experiences\, including internships\, student employment\, and group-based projects. \nClick here to learn more and register.
URL:https://metroatlantaexchange.org/event/national-association-of-colleges-and-employers-nace-hard-data-on-soft-skills-2025-year-in-review-with-matthew-brink-and-randy-bitting/
LOCATION:GA
CATEGORIES:Virtual Event,Workforce Developer
END:VEVENT
BEGIN:VEVENT
DTSTART;TZID=America/New_York:20251208T153000
DTEND;TZID=America/New_York:20251208T163000
DTSTAMP:20260422T225045
CREATED:20251203T170344Z
LAST-MODIFIED:20251203T170344Z
UID:10035731-1765207800-1765211400@metroatlantaexchange.org
SUMMARY:Manufacturing Institute: Heroes MAKE America for Manufacturers
DESCRIPTION:The Manufacturing Institute is hosting a Heroes MAKE America for Manufacturers webinar on Monday\, December 8th\, from 3:30 PM to 4:30 PM. \nThis event will provide an overview of the Heroes MAKE America initiative\, an understanding of the training and certification curriculum\, and how to connect with the incredibly diverse talent pool of veterans and military spouses. Resources will also be offered on how to prepare your company to recruit\, hire\, and retain this talent. \nClick here to learn more and register.
URL:https://metroatlantaexchange.org/event/manufacturing-institute-heroes-make-america-for-manufacturers-7/
LOCATION:GA
CATEGORIES:Virtual Event,Workforce Developer
END:VEVENT
END:VCALENDAR