BEGIN:VCALENDAR
VERSION:2.0
PRODID:-//MAX - ECPv6.15.17.1//NONSGML v1.0//EN
CALSCALE:GREGORIAN
METHOD:PUBLISH
X-WR-CALNAME:MAX
X-ORIGINAL-URL:https://metroatlantaexchange.org
X-WR-CALDESC:Events for MAX
REFRESH-INTERVAL;VALUE=DURATION:PT1H
X-Robots-Tag:noindex
X-PUBLISHED-TTL:PT1H
BEGIN:VTIMEZONE
TZID:America/New_York
BEGIN:DAYLIGHT
TZOFFSETFROM:-0500
TZOFFSETTO:-0400
TZNAME:EDT
DTSTART:20240310T070000
END:DAYLIGHT
BEGIN:STANDARD
TZOFFSETFROM:-0400
TZOFFSETTO:-0500
TZNAME:EST
DTSTART:20241103T060000
END:STANDARD
BEGIN:DAYLIGHT
TZOFFSETFROM:-0500
TZOFFSETTO:-0400
TZNAME:EDT
DTSTART:20250309T070000
END:DAYLIGHT
BEGIN:STANDARD
TZOFFSETFROM:-0400
TZOFFSETTO:-0500
TZNAME:EST
DTSTART:20251102T060000
END:STANDARD
BEGIN:DAYLIGHT
TZOFFSETFROM:-0500
TZOFFSETTO:-0400
TZNAME:EDT
DTSTART:20260308T070000
END:DAYLIGHT
BEGIN:STANDARD
TZOFFSETFROM:-0400
TZOFFSETTO:-0500
TZNAME:EST
DTSTART:20261101T060000
END:STANDARD
END:VTIMEZONE
BEGIN:VEVENT
DTSTART;TZID=America/New_York:20251208T090000
DTEND;TZID=America/New_York:20251211T110000
DTSTAMP:20260423T021532
CREATED:20251203T164813Z
LAST-MODIFIED:20251203T164813Z
UID:10035728-1765184400-1765450800@metroatlantaexchange.org
SUMMARY:Aspen Institute: Building Nonprofit Advocacy Capacity
DESCRIPTION:The Aspen Institute is hosting a Building Nonprofit Advocacy Capacity virtual program starting Monday\, December 8th through Friday\, December 11th\, from 9:00 AM to 11:00 AM. \nThis part-time\, free virtual program designed to support US-based organizations working in the public interest – such as nonprofits\, direct services providers\, or university and research centers – who want to grow the policy and advocacy capabilities of their organization. Participants will learn how to educate and persuade potential partners on policy issues that impact the communities your organization serves\, and how to obtain the resources – including staffing – to support having impact in the policy space. This course will include an overview of how to be strategic in advocating for policy changes at your organization with its current staff; and how to bring on additional staff to work on policy change. \nClick here to learn more and register.
URL:https://metroatlantaexchange.org/event/aspen-institute-building-nonprofit-advocacy-capacity/
LOCATION:GA
CATEGORIES:Virtual Event,Workforce Developer
END:VEVENT
BEGIN:VEVENT
DTSTART;TZID=America/New_York:20251210T080000
DTEND;TZID=America/New_York:20251210T090000
DTSTAMP:20260423T021532
CREATED:20251203T142156Z
LAST-MODIFIED:20251203T142156Z
UID:10035721-1765353600-1765357200@metroatlantaexchange.org
SUMMARY:United Way of Greater Atlanta: Coffee\, Conversations\, & Community
DESCRIPTION:United Way of Greater Atlanta is hosting Coffee\, Conversations\, & Community on Wednesday\, December 10th\, from 8:00 AM to 9:00 AM\, at Condesa Coffee. \nFuel your day with great coffee and even better company at Condesa Coffee! Join other young professionals from United Way of Greater Atlanta’s YPL for a morning of conversations and community. Come together for a daily dose of connection and caffeine! This event promises to be a moment full of sharing ideas\, networking\, and collaborating with like-minded professionals who are passionate about impacting our community. Please bring new or gently used children’s books to donate. We will be collecting these throughout our events to donate to children in need! \nClick here to learn more and register.
URL:https://metroatlantaexchange.org/event/united-way-of-greater-atlanta-coffee-conversations-community-3/
LOCATION:Condesa Coffee\, 480 John Wesley Dobbs Avenue\, NE\, Atlanta\, GA\, 30312\, United States
CATEGORIES:In-Person Event,Workforce Developer
END:VEVENT
BEGIN:VEVENT
DTSTART;TZID=America/New_York:20251210T090000
DTEND;TZID=America/New_York:20251210T103000
DTSTAMP:20260423T021532
CREATED:20251109T020233Z
LAST-MODIFIED:20251109T020233Z
UID:10035530-1765357200-1765362600@metroatlantaexchange.org
SUMMARY:Georgia Center for Nonprofits: Nonprofit Strategic Options Workshop
DESCRIPTION:The Georgia Center for Nonprofits is hosting a Nonprofit Strategic Options Workshop on Wednesday\, December 10th\, from 9:00 AM to 10:30 AM. \nNonprofits that want to evaluate risk\, opportunities\, and options need a structured method to make decisions and move forward with confidence – especially organizations experiencing funding shifts\, leadership transitions\, growth pressures\, program overlap\, or persistent deficits. This fast-paced\, practical workshop is designed to help boards and leadership teams see the full range of paths available to your organization – strengthen and scale\, restructure\, reinvent\, collaborate\, partner\, merge\, transfer programs or assets\, and responsible exit/collaborate/partner/ally\, asset transfer\, merger\, and responsible exit – and choose the right moves to make next. \nClick here to learn more and register.
URL:https://metroatlantaexchange.org/event/georgia-center-for-nonprofits-nonprofit-strategic-options-workshop/
LOCATION:GA
CATEGORIES:Virtual Event,Workforce Developer
END:VEVENT
BEGIN:VEVENT
DTSTART;TZID=America/New_York:20251210T130000
DTEND;TZID=America/New_York:20251210T140000
DTSTAMP:20260423T021532
CREATED:20251203T172045Z
LAST-MODIFIED:20251203T172045Z
UID:10035733-1765371600-1765375200@metroatlantaexchange.org
SUMMARY:Manufacturing Institute: Innovation Unlocked - Connecting Students to Manufacturing One Quest at a Time
DESCRIPTION:The Manufacturing Institute is hosting Innovation Unlocked: Connecting Students to Manufacturing One Quest at a Time on Wednesday\, December 10th\, from 1:00 PM to 2:00 PM. \nManufacturers and workforce leaders play a pivotal role in shaping the next generation of talent—and Innovators Quest is designed to make that connection easier\, more engaging and more impactful in communities nationwide. This session will introduce you to The Quest for the Crystal of Innovation (Innovators Quest)\, a turnkey\, gamified experience that helps students explore modern manufacturing through hands-on challenges\, problem-solving and real-world career connections. Whether you’re looking to start a new student engagement effort or enhance an existing outreach program\, this session will equip you with the knowledge and confidence to bring Innovators Quest to your community. \nClick here to learn more and register.
URL:https://metroatlantaexchange.org/event/manufacturing-institute-innovation-unlocked-connecting-students-to-manufacturing-one-quest-at-a-time/
LOCATION:GA
CATEGORIES:Virtual Event,Workforce Developer
END:VEVENT
BEGIN:VEVENT
DTSTART;TZID=America/New_York:20251210T130000
DTEND;TZID=America/New_York:20251210T140000
DTSTAMP:20260423T021532
CREATED:20251203T175507Z
LAST-MODIFIED:20251203T175507Z
UID:10035734-1765371600-1765375200@metroatlantaexchange.org
SUMMARY:National Association of Workforce Development Professionals (NAWDP): Annual Meeting
DESCRIPTION:The National Association of Workforce Development Professionals (NAWDP) is hosting its Annual Meeting on Wednesday\, December 10th\, from 1:00 PM to 2:00 PM. \nJoin NAWDP Chief Executive Officer Melissa Robbins and Board of Directors Chair Dana Keller for an exclusive update on the State of NAWDP. During this member-only session\, Melissa and Dana will share organizational highlights\, recent achievements\, and upcoming initiatives shaping the future of our workforce development community. \nClick here to learn more and register.
URL:https://metroatlantaexchange.org/event/national-association-of-workforce-development-professionals-nawdp-annual-meeting/
LOCATION:GA
CATEGORIES:Virtual Event,Workforce Developer
ORGANIZER;CN="National Association of Workforce Development Professionals":MAILTO:info@nawdp.org
END:VEVENT
BEGIN:VEVENT
DTSTART;TZID=America/New_York:20251210T130000
DTEND;TZID=America/New_York:20251210T140000
DTSTAMP:20260423T021532
CREATED:20251203T175708Z
LAST-MODIFIED:20251203T175708Z
UID:10035735-1765371600-1765375200@metroatlantaexchange.org
SUMMARY:National League of Cities (NLC): NextGen Recruiting - What Do Students Think of the Public Sector (and Why?)
DESCRIPTION:The National League of Cities (NLC) is hosting NextGen Recruiting: What Do Students Think of the Public Sector (and Why?) on Wednesday\, December 10th\, from 1:00 PM to 2:00 PM. \nWhen do young people decide that local government is a rewarding career option? Or what makes them think it’s inefficient and bureaucratic? To be effective at recruiting the next generation of public servants\, governments need to communicate with students via social media\, volunteer opportunities and other methods to build awareness\, and they need to do so long before graduation. This session will shed light on students’ formative exposures to public service\, what motivates them in their career decision-making\, and where they feel they need more information. The graduate students who collected the data will participate in sharing the results\, as well as providing detailed feedback to steer more targeted recruitment efforts. \nClick here to learn more and register.
URL:https://metroatlantaexchange.org/event/national-league-of-cities-nlc-nextgen-recruiting-what-do-students-think-of-the-public-sector-and-why/
LOCATION:GA
CATEGORIES:Virtual Event,Workforce Developer
ORGANIZER;CN="National League of Cities":MAILTO:info@nlc.org
END:VEVENT
BEGIN:VEVENT
DTSTART;TZID=America/New_York:20251210T130000
DTEND;TZID=America/New_York:20251210T140000
DTSTAMP:20260423T021532
CREATED:20251203T175849Z
LAST-MODIFIED:20251203T175849Z
UID:10035736-1765371600-1765375200@metroatlantaexchange.org
SUMMARY:Society for Human Resource Management (SHRM): From Untapped to Essential: How Workers With Disabilities Strengthen Today’s Workforce
DESCRIPTION:The Society for Human Resource Management (SHRM) is hosting From Untapped to Essential: How Workers With Disabilities Strengthen Today’s Workforce on Wednesday\, December 10th\, starting at 1:00 PM. \nExplore the evolving landscape of disability inclusion in the U.S. workforce with our upcoming webinar\, “From Untapped to Essential: How Workers with Disabilities Strengthen Today’s Workforce.” Drawing on SHRM’s latest labor force snapshot and new research launching soon\, we’ll examine the rapid expansion and increased labor force participation of people with disabilities since the onset of the COVID-19 pandemic\, as well as perceptions and practices around engaging this critical talent pool. As organizations confront ongoing talent shortages\, we’ll present data-driven insights and actionable strategies for maximizing inclusion\, reducing employment barriers\, and building more resilient teams. \nClick here to learn more and register.
URL:https://metroatlantaexchange.org/event/society-for-human-resource-management-shrm-from-untapped-to-essential-how-workers-with-disabilities-strengthen-todays-workforce/
LOCATION:GA
CATEGORIES:Virtual Event,Workforce Developer
ORGANIZER;CN="The Society for Human Resource Management":MAILTO:info@shrmatlanta.org
END:VEVENT
BEGIN:VEVENT
DTSTART;TZID=America/New_York:20251210T133000
DTEND;TZID=America/New_York:20251210T150000
DTSTAMP:20260423T021532
CREATED:20250903T213543Z
LAST-MODIFIED:20250903T213543Z
UID:10035354-1765373400-1765378800@metroatlantaexchange.org
SUMMARY:National Career Pathways Network: Navigating Career Pathways
DESCRIPTION:The National Career Pathways Network is hosting a webinar on Navigating Career Pathways on Wednesday\, December 10th\, from 1:30 PM to 3:00 PM. \nThis is the firth session of the Professional Development Academy. This dynamic workshop series equips career counselors and educational staff with leadership tools and strategic insights to guide learners through CTE and adult education pathways. Grounded in the Framework for Career Pathways Alignment developed by CORD\, the series emphasizes collaborative leadership\, systems thinking\, and student-centered practices. Participants will engage in learning and networking opportunities that blend innovative content\, reflective practices\, and practical application. \nClick here to learn more and register.
URL:https://metroatlantaexchange.org/event/national-career-pathways-network-navigating-career-pathways/
LOCATION:GA
CATEGORIES:Virtual Event,Workforce Developer
END:VEVENT
BEGIN:VEVENT
DTSTART;TZID=America/New_York:20251210T150000
DTEND;TZID=America/New_York:20251210T160000
DTSTAMP:20260423T021532
CREATED:20251203T180010Z
LAST-MODIFIED:20251203T180010Z
UID:10035737-1765378800-1765382400@metroatlantaexchange.org
SUMMARY:National Association of State Workforce Agencies (NASWA): AI Solutions in Action
DESCRIPTION:The National Association of State Workforce Agencies (NASWA) is hosting a webinar on AI Solutions in Action on Wednesday\, December 10th\, from 3:00 PM to 4:00 PM. \nDuring this session the DC Department of Employment Services (DOES) will spotlight how their agency is leveraging AI-powered solutions to bolster workforce services. This session will explore how DOES initiated its approach to AI\, provide an overview of the agency’s SkillsNation platform\, and examine how DC is deploying AI to improve service delivery in areas as varied as case management\, career navigation\, WIOA enrollment\, and business engagement. \nClick here to learn more and register.
URL:https://metroatlantaexchange.org/event/national-association-of-state-workforce-agencies-naswa-ai-solutions-in-action/
LOCATION:GA
CATEGORIES:Virtual Event,Workforce Developer
ORGANIZER;CN="National Association of State Workforce Agencies (NASWA)":MAILTO:naswa@naswa.org
END:VEVENT
END:VCALENDAR