BEGIN:VCALENDAR
VERSION:2.0
PRODID:-//MAX - ECPv6.15.17.1//NONSGML v1.0//EN
CALSCALE:GREGORIAN
METHOD:PUBLISH
X-ORIGINAL-URL:https://metroatlantaexchange.org
X-WR-CALDESC:Events for MAX
REFRESH-INTERVAL;VALUE=DURATION:PT1H
X-Robots-Tag:noindex
X-PUBLISHED-TTL:PT1H
BEGIN:VTIMEZONE
TZID:America/New_York
BEGIN:DAYLIGHT
TZOFFSETFROM:-0500
TZOFFSETTO:-0400
TZNAME:EDT
DTSTART:20250309T070000
END:DAYLIGHT
BEGIN:STANDARD
TZOFFSETFROM:-0400
TZOFFSETTO:-0500
TZNAME:EST
DTSTART:20251102T060000
END:STANDARD
BEGIN:DAYLIGHT
TZOFFSETFROM:-0500
TZOFFSETTO:-0400
TZNAME:EDT
DTSTART:20260308T070000
END:DAYLIGHT
BEGIN:STANDARD
TZOFFSETFROM:-0400
TZOFFSETTO:-0500
TZNAME:EST
DTSTART:20261101T060000
END:STANDARD
BEGIN:DAYLIGHT
TZOFFSETFROM:-0500
TZOFFSETTO:-0400
TZNAME:EDT
DTSTART:20270314T070000
END:DAYLIGHT
BEGIN:STANDARD
TZOFFSETFROM:-0400
TZOFFSETTO:-0500
TZNAME:EST
DTSTART:20271107T060000
END:STANDARD
END:VTIMEZONE
BEGIN:VEVENT
DTSTART;TZID=America/New_York:20260105T120000
DTEND;TZID=America/New_York:20260105T170000
DTSTAMP:20260422T225424
CREATED:20251201T151605Z
LAST-MODIFIED:20251201T151605Z
UID:10035552-1767614400-1767632400@metroatlantaexchange.org
SUMMARY:Goodwill of North Georgia: Ingles Open Interviews
DESCRIPTION:Goodwill of North Georgia is hosting Ingles Open Interviews every Monday\, from 12:00 PM to 5:00 PM\, at the Cornelia Career Center. \nFor more information\, call 706-894-4905. \nClick here to learn more and register.
URL:https://metroatlantaexchange.org/event/goodwill-of-north-georgia-ingles-open-interviews-2/2026-01-05/
LOCATION:Goodwill of North Georgia – Cornelia Career Center\, 308 Habersham Hills Circle\, Cornelia\, GA\, 30531\, United States
CATEGORIES:In-Person Event,Job Seeker
END:VEVENT
BEGIN:VEVENT
DTSTART;TZID=America/New_York:20260105T140000
DTEND;TZID=America/New_York:20260105T170000
DTSTAMP:20260422T225424
CREATED:20251220T212225Z
LAST-MODIFIED:20251220T212225Z
UID:10035769-1767621600-1767632400@metroatlantaexchange.org
SUMMARY:Schneider: Truck Driver and Owner-Operator Recruiting Event
DESCRIPTION:Schneider is hosting a Truck Driver and Owner-Operator Recruiting Event on Monday\, January 5th\, from 2:00 PM to 5:00 PM\, at Katlaw. \nWhether you’re an experienced driver ready for a change or just starting your trucking journey\, this recruiting event is designed with you in mind. Stop by for a casual\, no-pressure conversation where you can ask questions\, explore opportunities and get the information you need to make your next move. Your local recruiter will be available to discuss company driving jobs and owner-operator contracting jobs across our portfolio of companies: Schneider\, Midwest Logistics Systems\, Cowan Systems and M&M Transport Services. \nClick here to learn more and register.
URL:https://metroatlantaexchange.org/event/schneider-truck-driver-and-owner-operator-recruiting-event-22/
LOCATION:Katlaw School\, 5000 Austell Powder Springs Road\, Austell\, GA\, 30106\, United States
CATEGORIES:In-Person Event,Job Seeker
END:VEVENT
END:VCALENDAR