BEGIN:VCALENDAR
VERSION:2.0
PRODID:-//MAX - ECPv6.15.17.1//NONSGML v1.0//EN
CALSCALE:GREGORIAN
METHOD:PUBLISH
X-ORIGINAL-URL:https://metroatlantaexchange.org
X-WR-CALDESC:Events for MAX
REFRESH-INTERVAL;VALUE=DURATION:PT1H
X-Robots-Tag:noindex
X-PUBLISHED-TTL:PT1H
BEGIN:VTIMEZONE
TZID:America/New_York
BEGIN:DAYLIGHT
TZOFFSETFROM:-0500
TZOFFSETTO:-0400
TZNAME:EDT
DTSTART:20250309T070000
END:DAYLIGHT
BEGIN:STANDARD
TZOFFSETFROM:-0400
TZOFFSETTO:-0500
TZNAME:EST
DTSTART:20251102T060000
END:STANDARD
BEGIN:DAYLIGHT
TZOFFSETFROM:-0500
TZOFFSETTO:-0400
TZNAME:EDT
DTSTART:20260308T070000
END:DAYLIGHT
BEGIN:STANDARD
TZOFFSETFROM:-0400
TZOFFSETTO:-0500
TZNAME:EST
DTSTART:20261101T060000
END:STANDARD
BEGIN:DAYLIGHT
TZOFFSETFROM:-0500
TZOFFSETTO:-0400
TZNAME:EDT
DTSTART:20270314T070000
END:DAYLIGHT
BEGIN:STANDARD
TZOFFSETFROM:-0400
TZOFFSETTO:-0500
TZNAME:EST
DTSTART:20271107T060000
END:STANDARD
END:VTIMEZONE
BEGIN:VEVENT
DTSTART;TZID=America/New_York:20260120T120000
DTEND;TZID=America/New_York:20260120T130000
DTSTAMP:20260422T210816
CREATED:20260120T011419Z
LAST-MODIFIED:20260120T011419Z
UID:10035866-1768910400-1768914000@metroatlantaexchange.org
SUMMARY:Connecting Communities and Families: Mental Health Workshops
DESCRIPTION:Connecting Communities and Families hosts a weekly Mental Health Workshop each Tuesday\, from 12:00 PM to 1:00 PM\, virtually. Topics include Stress Management\, Workplace Wellness\, Supporting Veterans and Their Families\, Building Resilience and much more. \nClick here to learn more and register. \n 
URL:https://metroatlantaexchange.org/event/connecting-communities-and-families-mental-health-workshops/2026-01-20/
LOCATION:GA
CATEGORIES:Career Development,Job Seeker,Virtual Event
END:VEVENT
BEGIN:VEVENT
DTSTART;TZID=America/New_York:20260120T120000
DTEND;TZID=America/New_York:20260122T130000
DTSTAMP:20260422T210816
CREATED:20251220T222101Z
LAST-MODIFIED:20251220T222101Z
UID:10035792-1768910400-1769086800@metroatlantaexchange.org
SUMMARY:Urban League of Greater Atlanta: Atlanta TechTHRIVE Bootcamp
DESCRIPTION:The Urban League of Greater Atlanta is hosting an Atlanta TechTHRIVE Bootcamp starting Tuesday\, January 20th through Thursday\, January 22nd\, from 12:00 PM to 1:00 PM each day. \nThis 3-session free virtual workshop is designed to help you kickstart your tech career. During the workshop\, you will explore tech careers\, certifications\, and soft skills needed in the tech industry. ULGA also assist with resume building\, interview preparation\, workplace communication\, and digital skills. Once you complete the 3-session workshop\, you will receive a free Google Coursera license where you can continue to upskill on their platform with certificates in IT Support\, Data Analytics\, Cybersecurity\, and more. \nClick here to learn more and register. Click here for a flyer.
URL:https://metroatlantaexchange.org/event/urban-league-of-greater-atlanta-atlanta-techthrive-bootcamp/
LOCATION:GA
CATEGORIES:Career Development,Job Seeker,Virtual Event
END:VEVENT
BEGIN:VEVENT
DTSTART;TZID=America/New_York:20260120T140000
DTEND;TZID=America/New_York:20260120T160000
DTSTAMP:20260422T210816
CREATED:20260120T011731Z
LAST-MODIFIED:20260120T011731Z
UID:10035876-1768917600-1768924800@metroatlantaexchange.org
SUMMARY:Goodwill of North Georgia: IBM Skills Build Technology Training
DESCRIPTION:Goodwill of North Georgia is hosting an IBM Skills Build Technology Training every Tuesday\, from 2:00 PM to 4:00 PM\, at the Woodstock Career Center. \nFor more information\, call 770-874-0901. \nClick here to learn more and register.
URL:https://metroatlantaexchange.org/event/goodwill-of-north-georgia-ibm-skills-build-technology-training-2/2026-01-20/
LOCATION:Goodwill of North Georgia – Woodstock Career Center\, 9425 Highway 92\, Woodstock\, GA\, 30188\, United States
CATEGORIES:Career Development,In-Person Event,Job Seeker
GEO:34.0872637;-84.5325399
X-APPLE-STRUCTURED-LOCATION;VALUE=URI;X-ADDRESS=Goodwill of North Georgia – Woodstock Career Center 9425 Highway 92 Woodstock GA 30188 United States;X-APPLE-RADIUS=500;X-TITLE=9425 Highway 92:geo:-84.5325399,34.0872637
END:VEVENT
END:VCALENDAR