BEGIN:VCALENDAR
VERSION:2.0
PRODID:-//MAX - ECPv6.15.17.1//NONSGML v1.0//EN
CALSCALE:GREGORIAN
METHOD:PUBLISH
X-WR-CALNAME:MAX
X-ORIGINAL-URL:https://metroatlantaexchange.org
X-WR-CALDESC:Events for MAX
REFRESH-INTERVAL;VALUE=DURATION:PT1H
X-Robots-Tag:noindex
X-PUBLISHED-TTL:PT1H
BEGIN:VTIMEZONE
TZID:America/New_York
BEGIN:DAYLIGHT
TZOFFSETFROM:-0500
TZOFFSETTO:-0400
TZNAME:EDT
DTSTART:20250309T070000
END:DAYLIGHT
BEGIN:STANDARD
TZOFFSETFROM:-0400
TZOFFSETTO:-0500
TZNAME:EST
DTSTART:20251102T060000
END:STANDARD
BEGIN:DAYLIGHT
TZOFFSETFROM:-0500
TZOFFSETTO:-0400
TZNAME:EDT
DTSTART:20260308T070000
END:DAYLIGHT
BEGIN:STANDARD
TZOFFSETFROM:-0400
TZOFFSETTO:-0500
TZNAME:EST
DTSTART:20261101T060000
END:STANDARD
BEGIN:DAYLIGHT
TZOFFSETFROM:-0500
TZOFFSETTO:-0400
TZNAME:EDT
DTSTART:20270314T070000
END:DAYLIGHT
BEGIN:STANDARD
TZOFFSETFROM:-0400
TZOFFSETTO:-0500
TZNAME:EST
DTSTART:20271107T060000
END:STANDARD
END:VTIMEZONE
BEGIN:VEVENT
DTSTART;TZID=America/New_York:20260120T120000
DTEND;TZID=America/New_York:20260122T130000
DTSTAMP:20260422T190330
CREATED:20251220T222101Z
LAST-MODIFIED:20251220T222101Z
UID:10035792-1768910400-1769086800@metroatlantaexchange.org
SUMMARY:Urban League of Greater Atlanta: Atlanta TechTHRIVE Bootcamp
DESCRIPTION:The Urban League of Greater Atlanta is hosting an Atlanta TechTHRIVE Bootcamp starting Tuesday\, January 20th through Thursday\, January 22nd\, from 12:00 PM to 1:00 PM each day. \nThis 3-session free virtual workshop is designed to help you kickstart your tech career. During the workshop\, you will explore tech careers\, certifications\, and soft skills needed in the tech industry. ULGA also assist with resume building\, interview preparation\, workplace communication\, and digital skills. Once you complete the 3-session workshop\, you will receive a free Google Coursera license where you can continue to upskill on their platform with certificates in IT Support\, Data Analytics\, Cybersecurity\, and more. \nClick here to learn more and register. Click here for a flyer.
URL:https://metroatlantaexchange.org/event/urban-league-of-greater-atlanta-atlanta-techthrive-bootcamp/
LOCATION:GA
CATEGORIES:Career Development,Job Seeker,Virtual Event
END:VEVENT
BEGIN:VEVENT
DTSTART;TZID=America/New_York:20260121T080000
DTEND;TZID=America/New_York:20260121T090000
DTSTAMP:20260422T190330
CREATED:20251220T222245Z
LAST-MODIFIED:20251220T222245Z
UID:10035793-1768982400-1768986000@metroatlantaexchange.org
SUMMARY:Women in Technology (WIT): Women Who Change the Game - How Sports Leaders Team Up With Technology
DESCRIPTION:Women in Technology (WIT) is hosting Women Who Change the Game: How Sports Leaders Team Up With Technology on Wednesday\, January 21st\, from 8:00 AM to 9:00 AM. \nJoin WIT at the January Virtual Forum as women who lead at the highest levels of women’s sports are spotlighted. Their leadership lessons translate powerfully to tech: navigating bias\, building influence\, and driving innovation by leveraging technology. This virtual event offers fresh insight\, career inspiration\, and strategies you can use right now. Allies are welcome. After all\, building the future of tech is a team sport! \nClick here to learn more and register.
URL:https://metroatlantaexchange.org/event/women-in-technology-wit-women-who-change-the-game-how-sports-leaders-team-up-with-technology/
LOCATION:GA
CATEGORIES:Career Development,Virtual Event
END:VEVENT
BEGIN:VEVENT
DTSTART;TZID=America/New_York:20260121T083000
DTEND;TZID=America/New_York:20260121T103000
DTSTAMP:20260422T190330
CREATED:20251203T142712Z
LAST-MODIFIED:20251203T142712Z
UID:10035723-1768984200-1768991400@metroatlantaexchange.org
SUMMARY:Greater Hall Chamber of Commerce: Marketing Workshop 2026
DESCRIPTION:The Greater Hall Chamber of Commerce is hosting a Marketing Workshop 2026 on Wednesday\, January 21st\, from 8:30 AM to 10:30 AM\, at Brenau Downtown Center. \nWhen artificial intelligence can generate content\, automate campaigns\, and predict consumer behavior\, what keeps your brand truly unique? The team at Forum Communications will discuss how organizations can maintain a consistent\, authentic brand presence in an AI-driven environment. They’ll discuss the intersection of storytelling\, digital and traditional marketing tactics\, and the importance of building a voice that is unmistakably human\, no matter the platform or technology. Attendees will walk away with practical insights on balancing automation with authenticity\, using AI in efficient and practical ways\, and ensuring their brand stands out as real\, relatable\, and relevant in an ever-crowded (and noisy) marketplace. \nClick here to learn more and register. Click here for a flyer.
URL:https://metroatlantaexchange.org/event/greater-hall-chamber-of-commerce-marketing-workshop-2026/
LOCATION:Brenau Downtown Center\, 301 Main Street\, Gainesville\, GA\, 30501\, United States
CATEGORIES:In-Person Event,Workforce Developer
END:VEVENT
BEGIN:VEVENT
DTSTART;TZID=America/New_York:20260121T090000
DTEND;TZID=America/New_York:20260121T100000
DTSTAMP:20260422T190330
CREATED:20250902T220734Z
LAST-MODIFIED:20250902T220734Z
UID:10035267-1768986000-1768989600@metroatlantaexchange.org
SUMMARY:Goodwill of North Georgia: NorthStar Testing Session
DESCRIPTION:Goodwill of North Georgia is hosting a NorthStar Testing Session every Wednesday\, from 9:00 AM to 10:00 AM\, at the Woodstock Career Center. \nFor more information\, call 770-874-0901. \nClick here to learn more and register.
URL:https://metroatlantaexchange.org/event/goodwill-of-north-georgia-northstar-testing-session/2026-01-21/
LOCATION:Goodwill of North Georgia – Woodstock Career Center\, 9425 Highway 92\, Woodstock\, GA\, 30188\, United States
CATEGORIES:Career Development,In-Person Event,Job Seeker
GEO:34.0872637;-84.5325399
X-APPLE-STRUCTURED-LOCATION;VALUE=URI;X-ADDRESS=Goodwill of North Georgia – Woodstock Career Center 9425 Highway 92 Woodstock GA 30188 United States;X-APPLE-RADIUS=500;X-TITLE=9425 Highway 92:geo:-84.5325399,34.0872637
END:VEVENT
BEGIN:VEVENT
DTSTART;TZID=America/New_York:20260121T093000
DTEND;TZID=America/New_York:20260121T123000
DTSTAMP:20260422T190330
CREATED:20260120T010307Z
LAST-MODIFIED:20260120T010307Z
UID:10035859-1768987800-1768998600@metroatlantaexchange.org
SUMMARY:Goodwill of North Georgia: English as a Second Language Class
DESCRIPTION:Goodwill of North Georgia is hosting an English as a Second Language Class every Monday and Wednesday\, from 9:30 AM to 12:30 PM\, at the Decatur Career Center. \nFor more information\, call 404-554-9600. \nClick here to learn more and register.
URL:https://metroatlantaexchange.org/event/goodwill-of-north-georgia-english-as-a-second-language-class/2026-01-21/
LOCATION:Goodwill of North Georgia – Decatur Career Center\, 2201 Lawrenceville Highway\, Suite 200\, Decatur\, GA\, 30033\, United States
CATEGORIES:Career Development,In-Person Event,Job Seeker
GEO:33.8114213;-84.2699313
X-APPLE-STRUCTURED-LOCATION;VALUE=URI;X-ADDRESS=Goodwill of North Georgia – Decatur Career Center 2201 Lawrenceville Highway Suite 200 Decatur GA 30033 United States;X-APPLE-RADIUS=500;X-TITLE=2201 Lawrenceville Highway\, Suite 200:geo:-84.2699313,33.8114213
END:VEVENT
BEGIN:VEVENT
DTSTART;TZID=America/New_York:20260121T100000
DTEND;TZID=America/New_York:20260121T130000
DTSTAMP:20260422T190330
CREATED:20260119T173104Z
LAST-MODIFIED:20260119T173104Z
UID:10035801-1768989600-1769000400@metroatlantaexchange.org
SUMMARY:Goodwill of North Georgia: New Year\, New Career Fair
DESCRIPTION:Goodwill of North Georgia is hosting a New Year\, New Career Fair on Wednesday\, January 21st\, from 10:00 AM to 1:00 PM\, at the Decatur Career Center. \nFor more information\, call 404-554-9600. \nClick here to learn more and register.
URL:https://metroatlantaexchange.org/event/goodwill-of-north-georgia-new-year-new-career-fair/
LOCATION:Goodwill of North Georgia – Decatur Career Center\, 2201 Lawrenceville Highway\, Suite 200\, Decatur\, GA\, 30033\, United States
CATEGORIES:In-Person Event,Job Seeker
GEO:33.8114213;-84.2699313
X-APPLE-STRUCTURED-LOCATION;VALUE=URI;X-ADDRESS=Goodwill of North Georgia – Decatur Career Center 2201 Lawrenceville Highway Suite 200 Decatur GA 30033 United States;X-APPLE-RADIUS=500;X-TITLE=2201 Lawrenceville Highway\, Suite 200:geo:-84.2699313,33.8114213
END:VEVENT
BEGIN:VEVENT
DTSTART;TZID=America/New_York:20260121T100000
DTEND;TZID=America/New_York:20260121T130000
DTSTAMP:20260422T190330
CREATED:20260119T173230Z
LAST-MODIFIED:20260119T173230Z
UID:10035802-1768989600-1769000400@metroatlantaexchange.org
SUMMARY:Goodwill of North Georgia: New Year\, New Career Fair
DESCRIPTION:Goodwill of North Georgia is hosting a New Year\, New Job Career Fair on Wednesday\, January 21st\, from 10:00 AM to 1:00 PM\, at Roosevelt Hall. \nFor more information\, call 770-795-4204. \nClick here to learn more and register.
URL:https://metroatlantaexchange.org/event/goodwill-of-north-georgia-new-year-new-career-fair-2/
LOCATION:Roosevelt Hall\, 660 Atlanta Student Movement Boulevard\, SW\, Atlanta\, GA\, 30314\, United States
CATEGORIES:In-Person Event,Job Seeker
END:VEVENT
BEGIN:VEVENT
DTSTART;TZID=America/New_York:20260121T110000
DTEND;TZID=America/New_York:20260121T130000
DTSTAMP:20260422T190330
CREATED:20260119T173347Z
LAST-MODIFIED:20260119T173347Z
UID:10035803-1768993200-1769000400@metroatlantaexchange.org
SUMMARY:Goodwill of North Georgia: New Year\, New Job and Resource Fair
DESCRIPTION:Goodwill of North Georgia is hosting a New Year\, New Job and Resource Fair on Wednesday\, January 21st\, from 11:00 AM to 1:00 PM\, at the Pleasant Hill Career Center. \nCall 770-564-2447 for more information. \nClick here to learn more and register.
URL:https://metroatlantaexchange.org/event/goodwill-of-north-georgia-new-year-new-job-and-resource-fair/
LOCATION:Goodwill of North Georgia – Pleasant Hill Career Center\, 1502 Pleasant Hill Road\, Duluth\, GA\, 30096\, United States
CATEGORIES:In-Person Event,Job Seeker
GEO:33.9429794;-84.121643
X-APPLE-STRUCTURED-LOCATION;VALUE=URI;X-ADDRESS=Goodwill of North Georgia – Pleasant Hill Career Center 1502 Pleasant Hill Road Duluth GA 30096 United States;X-APPLE-RADIUS=500;X-TITLE=1502 Pleasant Hill Road:geo:-84.121643,33.9429794
END:VEVENT
BEGIN:VEVENT
DTSTART;TZID=America/New_York:20260121T130000
DTEND;TZID=America/New_York:20260121T140000
DTSTAMP:20260422T190330
CREATED:20260120T011922Z
LAST-MODIFIED:20260120T011922Z
UID:10035882-1769000400-1769004000@metroatlantaexchange.org
SUMMARY:Hiring Our Heroes: Breaking into Tech with Visa
DESCRIPTION:Hiring Our Heroes is hosting Breaking into Tech with Visa on Wednesday\, January 21st\, starting at 1:00 PM. \nJoin the Hiring Our Heroes Next Step Vets Program to learn about key considerations for entering technology career fields. Hear from Visa’s Military Talent Program about their Technical Apprenticeship opportunities. Bring your questions for live Q&A! \nClick here to learn more and register.
URL:https://metroatlantaexchange.org/event/hiring-our-heroes-breaking-into-tech-with-visa/
LOCATION:GA
CATEGORIES:Career Development,Job Seeker,Veterans/Military,Virtual Event
END:VEVENT
BEGIN:VEVENT
DTSTART;TZID=America/New_York:20260121T140000
DTEND;TZID=America/New_York:20260121T150000
DTSTAMP:20260422T190330
CREATED:20260120T012910Z
LAST-MODIFIED:20260120T012910Z
UID:10035886-1769004000-1769007600@metroatlantaexchange.org
SUMMARY:U.S. Customs and Border Protection: Marine Interdiction Agent (MIA) Recruitment Webinar
DESCRIPTION:U.S. Customs and Border Protection is hosting a Marine Interdiction Agent (MIA) Recruitment Webinar on Wednesday\, January 21st\, starting at 2:00 PM. \nAir and Marine Operations (AMO)\, a component of U.S. Customs and Border Protection (CBP)\, needs you for openings as a Marine Interdiction Agent\, providing security for our nation’s borders from those who threaten legitimate trade and travel\, safety from harmful substances like fentanyl\, and humanitarian aid to those in need. Learn from an insider’s viewpoint about the challenges and rewards during this event! \nClick here to learn more and register.
URL:https://metroatlantaexchange.org/event/u-s-customs-and-border-protection-marine-interdiction-agent-mia-recruitment-webinar/
LOCATION:GA
CATEGORIES:Career Development,Job Seeker,Virtual Event
END:VEVENT
BEGIN:VEVENT
DTSTART;TZID=America/New_York:20260121T150000
DTEND;TZID=America/New_York:20260121T160000
DTSTAMP:20260422T190330
CREATED:20251220T222847Z
LAST-MODIFIED:20251220T222847Z
UID:10035794-1769007600-1769011200@metroatlantaexchange.org
SUMMARY:Manufacturing Institute: Heroes Connect - SEMI
DESCRIPTION:The Manufacturing Institute is hosting a Heroes Connect: SEMI on Wednesday\, January 21st\, from 3:00 PM to 4:00 PM. \nTake a behind-the-scenes look at life and careers in the semiconductor industry. In this interactive session\, you’ll meet company leaders\, explore their veteran-friendly culture\, and learn about open roles where you can make an impact. \nClick here to register via Zoom.
URL:https://metroatlantaexchange.org/event/manufacturing-institute-heroes-connect-semi-2/
LOCATION:GA
CATEGORIES:Career Development,Job Seeker,Virtual Event
END:VEVENT
BEGIN:VEVENT
DTSTART;TZID=America/New_York:20260121T173000
DTEND;TZID=America/New_York:20260121T193000
DTSTAMP:20260422T190330
CREATED:20251109T020731Z
LAST-MODIFIED:20251109T020731Z
UID:10035532-1769016600-1769023800@metroatlantaexchange.org
SUMMARY:Georgia Chamber of Commerce: 2026 Transportation Reception
DESCRIPTION:The Georgia Chamber of Commerce\, in partnership with the Georgia Construction Aggregate Association\, is hosting its 2026 Transportation Reception on Wednesday\, January 21st\, from 5:30 PM to 7:30 PM\, at the Capital City Club. \nPlease join the Georgia Chamber of Commerce for its 8th annual Transportation Reception for an intimate gathering of the state’s most prominent industry leaders\, policymakers and elected officials. \nClick here to learn more and register.
URL:https://metroatlantaexchange.org/event/georgia-chamber-of-commerce-2026-transportation-reception/
LOCATION:Capital City Club\, 7 John Portman Boulevard\, Atlanta\, GA\, 30303\, United States
CATEGORIES:In-Person Event,Workforce Developer
END:VEVENT
BEGIN:VEVENT
DTSTART;TZID=America/New_York:20260121T180000
DTEND;TZID=America/New_York:20260121T190000
DTSTAMP:20260422T190330
CREATED:20251203T141449Z
LAST-MODIFIED:20251203T141449Z
UID:10035717-1769018400-1769022000@metroatlantaexchange.org
SUMMARY:Manufacturing Institute: Heroes Connect - SEMI
DESCRIPTION:The Manufacturing Institute is hosting a Heroes Connect: SEMI on Wednesday\, January 21st\, from 3:00 PM to 4:00 PM. \nTake a behind-the-scenes look at life and careers in the semiconductor industry. In this interactive session\, you’ll meet company leaders\, explore their veteran-friendly culture\, and learn about open roles where you can make an impact. \nClick here to register via Zoom.
URL:https://metroatlantaexchange.org/event/manufacturing-institute-heroes-connect-semi/
LOCATION:GA
CATEGORIES:Career Development,Job Seeker,Veterans/Military,Virtual Event
END:VEVENT
BEGIN:VEVENT
DTSTART;TZID=America/New_York:20260121T180000
DTEND;TZID=America/New_York:20260121T190000
DTSTAMP:20260422T190330
CREATED:20251203T141727Z
LAST-MODIFIED:20251203T141727Z
UID:10035718-1769018400-1769022000@metroatlantaexchange.org
SUMMARY:U.S. Army Civilian Human Resources Agency: Discover Your Future with Global Veterinary Medical Practice
DESCRIPTION:The U.S. Army Civilian Human Resources Agency is hosting a Discover Your Future with Global Veterinary Medical Practice webinar on Wednesday\, January 21st\, from 6:00 PM to 7:00 PM. \nIf you are passionate about veterinary medicine\, enjoy being committed to your patients\, but still want to enjoy your free time with a predictable and flexible schedule; a position in the Department of Defense\, Global Veterinary Medical Practice may be just what you are looking for! Join this virtual information session to learn more about available roles\, hear from top leaders and learn how to apply. Connect with HR Professionals and hiring managers to answer questions regarding the Veterinary Medical Officer role. \nClick here to learn more and register.
URL:https://metroatlantaexchange.org/event/u-s-army-civilian-human-resources-agency-discover-your-future-with-global-veterinary-medical-practice/
LOCATION:GA
CATEGORIES:Career Development,Job Seeker,Veterans/Military,Virtual Event
END:VEVENT
END:VCALENDAR