BEGIN:VCALENDAR
VERSION:2.0
PRODID:-//MAX - ECPv6.15.17.1//NONSGML v1.0//EN
CALSCALE:GREGORIAN
METHOD:PUBLISH
X-WR-CALNAME:MAX
X-ORIGINAL-URL:https://metroatlantaexchange.org
X-WR-CALDESC:Events for MAX
REFRESH-INTERVAL;VALUE=DURATION:PT1H
X-Robots-Tag:noindex
X-PUBLISHED-TTL:PT1H
BEGIN:VTIMEZONE
TZID:America/New_York
BEGIN:DAYLIGHT
TZOFFSETFROM:-0500
TZOFFSETTO:-0400
TZNAME:EDT
DTSTART:20250309T070000
END:DAYLIGHT
BEGIN:STANDARD
TZOFFSETFROM:-0400
TZOFFSETTO:-0500
TZNAME:EST
DTSTART:20251102T060000
END:STANDARD
BEGIN:DAYLIGHT
TZOFFSETFROM:-0500
TZOFFSETTO:-0400
TZNAME:EDT
DTSTART:20260308T070000
END:DAYLIGHT
BEGIN:STANDARD
TZOFFSETFROM:-0400
TZOFFSETTO:-0500
TZNAME:EST
DTSTART:20261101T060000
END:STANDARD
BEGIN:DAYLIGHT
TZOFFSETFROM:-0500
TZOFFSETTO:-0400
TZNAME:EDT
DTSTART:20270314T070000
END:DAYLIGHT
BEGIN:STANDARD
TZOFFSETFROM:-0400
TZOFFSETTO:-0500
TZNAME:EST
DTSTART:20271107T060000
END:STANDARD
END:VTIMEZONE
BEGIN:VEVENT
DTSTART;TZID=America/New_York:20260122T093000
DTEND;TZID=America/New_York:20260122T160000
DTSTAMP:20260422T225231
CREATED:20260120T013610Z
LAST-MODIFIED:20260120T013610Z
UID:10035887-1769074200-1769097600@metroatlantaexchange.org
SUMMARY:Goodwill of North Georgia: Google AI Essentials Training
DESCRIPTION:Goodwill of North Georgia is hosting Google AI Essentials Training on Thursday\, January 22nd\, from 9:30 AM to 4:00 PM\, at the Woodstock Career Center. \nFor more information\, call 770-874-0901. \nClick here to learn more and register.
URL:https://metroatlantaexchange.org/event/goodwill-of-north-georgia-google-ai-essentials-training/
LOCATION:Goodwill of North Georgia – Woodstock Career Center\, 9425 Highway 92\, Woodstock\, GA\, 30188\, United States
CATEGORIES:Career Development,In-Person Event,Job Seeker
GEO:34.0872637;-84.5325399
X-APPLE-STRUCTURED-LOCATION;VALUE=URI;X-ADDRESS=Goodwill of North Georgia – Woodstock Career Center 9425 Highway 92 Woodstock GA 30188 United States;X-APPLE-RADIUS=500;X-TITLE=9425 Highway 92:geo:-84.5325399,34.0872637
END:VEVENT
BEGIN:VEVENT
DTSTART;TZID=America/New_York:20260122T100000
DTEND;TZID=America/New_York:20260122T130000
DTSTAMP:20260422T225231
CREATED:20260119T173828Z
LAST-MODIFIED:20260119T173828Z
UID:10035806-1769076000-1769086800@metroatlantaexchange.org
SUMMARY:Goodwill of North Georgia: Division One Hiring Event
DESCRIPTION:Goodwill of North Georgia is hosting a Division One Hiring Event on Thursday\, January 22nd\, from 10:00 AM to 1:00 PM\, at the Stockbridge Career Center. \nFor more information\, call 678-514-0670. \nClick here to learn more and register.
URL:https://metroatlantaexchange.org/event/goodwill-of-north-georgia-division-one-hiring-event/
LOCATION:Goodwill Stockbridge\, 3871 Highway 138\, SE\, Stockbridge\, 30281\, United States
CATEGORIES:In-Person Event,Job Seeker
END:VEVENT
BEGIN:VEVENT
DTSTART;TZID=America/New_York:20260122T100000
DTEND;TZID=America/New_York:20260122T130000
DTSTAMP:20260422T225231
CREATED:20260119T173953Z
LAST-MODIFIED:20260119T173953Z
UID:10035807-1769076000-1769086800@metroatlantaexchange.org
SUMMARY:Schneider: Truck Driver and Owner-Operator Recruiting Event
DESCRIPTION:Schneider is hosting a Truck Driver and Owner-Operator Recruiting Event on Thursday\, January 22nd\, from 10:00 AM to 1:00 PM\, at the Goodwill Career Center. \nWhether you’re an experienced driver ready for a change or just starting your trucking journey\, this recruiting event is designed with you in mind. Stop by for a casual\, no-pressure conversation where you can ask questions\, explore opportunities and get the information you need to make your next move. Your local recruiter will be available to discuss company driving jobs and owner-operator contracting jobs across our portfolio of companies: Schneider\, Midwest Logistics Systems\, Cowan Systems and M&M Transport Services. \nClick here to learn more and register.
URL:https://metroatlantaexchange.org/event/schneider-truck-driver-and-owner-operator-recruiting-event-25/
LOCATION:Goodwill Career Center – Carrollton\, 1301-D South Park Street\, Carrollton\, 30117
CATEGORIES:In-Person Event,Job Seeker
END:VEVENT
BEGIN:VEVENT
DTSTART;TZID=America/New_York:20260122T100000
DTEND;TZID=America/New_York:20260122T140000
DTSTAMP:20260422T225231
CREATED:20260119T173513Z
LAST-MODIFIED:20260119T173513Z
UID:10035804-1769076000-1769090400@metroatlantaexchange.org
SUMMARY:Atlanta Department of Labor and Employment Services (ADOLES): New Year\, New Career Job and Resource Fair
DESCRIPTION:The Atlanta Department of Labor and Employment Services (ADOLES) is hosting a New Year\, New Career Job and Resource Fair on Thursday\, January 22nd\, from 10:00 AM to 2:00 PM\, at the T. Martin Recreation Center and Natatorium. \nStart the new year with new opportunities! This event is a great way to connect with employers\, explore training programs\, and access valuable community resources. \nClick here for a flyer.
URL:https://metroatlantaexchange.org/event/atlanta-department-of-labor-and-employment-services-adoles-new-year-new-career-job-and-resource-fair/
LOCATION:C.T. Martin Natatorium & Recreation Center\, 3201 Martin Luther King\, Jr. Drive\, Atlanta\, GA\, 30311\, United States
CATEGORIES:In-Person Event,Job Seeker
GEO:33.7541215;-84.4918471
X-APPLE-STRUCTURED-LOCATION;VALUE=URI;X-ADDRESS=C.T. Martin Natatorium & Recreation Center 3201 Martin Luther King Jr. Drive Atlanta GA 30311 United States;X-APPLE-RADIUS=500;X-TITLE=3201 Martin Luther King\, Jr. Drive:geo:-84.4918471,33.7541215
END:VEVENT
BEGIN:VEVENT
DTSTART;TZID=America/New_York:20260122T100000
DTEND;TZID=America/New_York:20260122T140000
DTSTAMP:20260422T225231
CREATED:20260119T173707Z
LAST-MODIFIED:20260119T173707Z
UID:10035805-1769076000-1769090400@metroatlantaexchange.org
SUMMARY:Georgia Association of Colleges and Employers (GACE): GACE Innovation Crawl
DESCRIPTION:The Georgia Association of Colleges and Employers (GACE) is hosting the GACE Innovation Crawl on Thursday\, January 22nd\, from 10:00 AM to 2:00 PM\, at Norfolk Southern. \nThis year’s Innovation Crawl features visits with Cargill and Norfolk Southern. Both employers will offer an inside look at their operations\, talent needs\, and recruitment practices. Attendees will hear from company representatives\, ask questions\, and gain a better sense of what it looks like to build and grow a career in these environments. Students are welcome to attend and will benefit from direct exposure to employers and a clearer understanding of possible career paths. The event is open to GACE members\, with space reserved for students who would like to join. \nClick here to learn more and register.
URL:https://metroatlantaexchange.org/event/georgia-association-of-colleges-and-employers-gace-gace-innovation-crawl/
LOCATION:Norfolk Southern\, 650 West Peachtree Street\, NE\, Atlanta\, 30308\, United States
CATEGORIES:Career Development,In-Person Event,Job Seeker
END:VEVENT
BEGIN:VEVENT
DTSTART;TZID=America/New_York:20260122T100000
DTEND;TZID=America/New_York:20260122T153000
DTSTAMP:20260422T225231
CREATED:20251027T025511Z
LAST-MODIFIED:20260104T204648Z
UID:10035372-1769076000-1769095800@metroatlantaexchange.org
SUMMARY:MAX Academy: Age as An Asset and the Multigenerational Workforce
DESCRIPTION:The Metro Atlanta eXchange for Workforce Solutions is hosting MAX Academy: Age as An Asset and the Multigenerational Workforce on Thursday\, January 22nd\, from 10:00 AM to 3:30 PM\, at the Atlanta Metropolitan State College (1630 Metropolitan Parkway Southwest\, Atlanta\, GA 30310). \nClick here to learn more and register \nIn today’s rapidly evolving business landscape\, organizations are increasingly recognizing the value of a diverse workforce. One crucial dimension of diversity is age\, which brings a wealth of benefits to teams and companies. Older workers in particular often possess a deep well of experience and institutional knowledge. Years of working in various roles and industries equip them with the ability to foresee challenges\, navigate complex situations\, and mentor younger colleagues. Younger workers not only benefit from the assets that older workers bring to the table\, they also bring new talents to an organization that benefits older workers and the workplace as a whole. \nSessions confirmed for the Academy include: \n\nReview of the Older Workforce in the Atlanta Region\nState and Federal Resources to Support the Older Workforce\nHow Providers Are Supporting the Older Workforce\nAligning the Multigenerational Workforce\n\nConfirmed speakers include Dr. Ann Carpenter\, Chief Research & Innovation Officer\, Atlanta Regional Commission; Theo Gilbert-Jamison\, Author\, Keynote Speaker\, Consultant\, and Executive Coach\, Performance Solutions by Design\, Inc.; Rachael Hunton\, Advocate for Older Workers\, Georgia Department of Human Services\, Division of Aging Services; and Roderick Wyatt\, Deputy Director\, Atlanta Center for Self Sufficiency. \nThe Academy will also include a brief update on the SNAP Works Program from Trey Benham\, Georgia SNAP Works Manager\, Goodwill of North Georgia. \nThis MAX Academy will take place on Thursday\, November 20\, 2025\, from 10:00 AM to 3:30 PM\, at Atlanta Metropolitan State College. Lunch and refreshments will be provided. \nLEARNING OBJECTIVES \nAs a result of this training\, participants will be able to: \n\nRecognize the common challenges that older workers may face in the workplace.\nLearn about resources available to support older workers in addressing their challenges.\nExplore the gifts\, talents\, expertise\, and knowledge that older individuals bring to the workplace.\nIdentify ways to foster intergenerational collaboration where different age groups work together effectively and collaboratively.\n\nCREDENTIALED TRAINING \nThis MAX Academy has been approved by the Commission on Rehabilitation Counselor Certification (CRCC) as training counting toward continuing education hours (CEUs) for Certified Rehabilitation Counselors (CRCs). Special thanks to Goodwill of North Georgia for serving as the sponsor with the CRCC for the MAX Academy. \nBoth the International Association of Workforce Professionals (IAWP) and the National Association of Workforce Development Professionals (NAWDP) recognize training programs held through the MAX Academy as relevant training hours for their certification programs. Hours spent attending MAX Academy workshops can count as training hours for earning a Certified Workforce Professional (CWP) credential from IAWP and also as professional development (continuing education) hours for CWP recertification. For NAWDP’s Certified Workforce Development Professional (CWDP)\, NAWDP will accept MAX Academy training hours toward the professional development hours required for CWDP recertification. \nREGISTRATION \nJoin us for a day of learning and networking! The registration fee for this training is $25.00 for MAX members and $45.00 for non-members. \nBecause we recognize the value of having multiple team members from the same organization participate so concepts and practices may be discussed and reinforced\, discounts are available when multiple staff from the same agency register for the workshop as follows: \nMAX Members: $25.00 for the first registration and $15.00 for each additional registration from the same organization. \nNon-Members: $45.00 for the first registration and $35.00 for each additional registration from the same organization. \nClick here to register \nABOUT THE MAX ACADEMY \nLaunched in 2014\, the mission of MAX is to advance economic resilience in the Atlanta region by strengthening connections\, collaborations\, and practices among workforce developers and organizations engaged in workforce development. \nThe MAX Academy offers professional development and capacity building training workshops to help workforce development professionals develop new skills\, learn best practices\, and engage in peer-to-peer learning. \nVisit www.metroatlantaexchange.org to learn more.
URL:https://metroatlantaexchange.org/event/max-academy-age-as-an-asset-and-leveraging-the-multigenerational-workforce/
LOCATION:Atlanta Metropolitan State College\, 1630 Metropolitan Parkway SW\, Atlanta\, GA\, 30310\, United States
CATEGORIES:Employer,In-Person Event,MAX,Workforce Developer
GEO:33.7098439;-84.4054456
X-APPLE-STRUCTURED-LOCATION;VALUE=URI;X-ADDRESS=Atlanta Metropolitan State College 1630 Metropolitan Parkway SW Atlanta GA 30310 United States;X-APPLE-RADIUS=500;X-TITLE=1630 Metropolitan Parkway SW:geo:-84.4054456,33.7098439
END:VEVENT
BEGIN:VEVENT
DTSTART;TZID=America/New_York:20260122T120000
DTEND;TZID=America/New_York:20260122T130000
DTSTAMP:20260422T225231
CREATED:20251202T153659Z
LAST-MODIFIED:20251202T153659Z
UID:10035672-1769083200-1769086800@metroatlantaexchange.org
SUMMARY:Goodwill of North Georgia: Resumes and Cover Letters Workshop
DESCRIPTION:Goodwill of North Georgia is hosting a Resumes and Cover Letters Workshop every Thursday\, from 12:00 PM to 1:00 PM\, at the Decatur Career Center. \nFor more information\, call 404-554-9600. \nClick here to learn more and register.
URL:https://metroatlantaexchange.org/event/goodwill-of-north-georgia-resumes-and-cover-letters-workshop/2026-01-22/
LOCATION:Goodwill of North Georgia – Decatur Career Center\, 2201 Lawrenceville Highway\, Suite 200\, Decatur\, GA\, 30033\, United States
CATEGORIES:Career Development,In-Person Event,Job Seeker
GEO:33.8114213;-84.2699313
X-APPLE-STRUCTURED-LOCATION;VALUE=URI;X-ADDRESS=Goodwill of North Georgia – Decatur Career Center 2201 Lawrenceville Highway Suite 200 Decatur GA 30033 United States;X-APPLE-RADIUS=500;X-TITLE=2201 Lawrenceville Highway\, Suite 200:geo:-84.2699313,33.8114213
END:VEVENT
BEGIN:VEVENT
DTSTART;TZID=America/New_York:20260122T130000
DTEND;TZID=America/New_York:20260122T150000
DTSTAMP:20260422T225231
CREATED:20260119T174823Z
LAST-MODIFIED:20260119T174823Z
UID:10035811-1769086800-1769094000@metroatlantaexchange.org
SUMMARY:Goodwill of North Georgia: Diversified/5K Battery Open Interviews
DESCRIPTION:Goodwill of North Georgia is hosting Diversified/5K Battery Open Interviews every Thursday\, from 1:00 PM to 3:00 PM\, at the Cartersville Career Center. \nFor more information\, call 770-276-7036. \nClick here to learn more and register.
URL:https://metroatlantaexchange.org/event/goodwill-of-north-georgia-diversified-5k-battery-open-interviews/2026-01-22/
LOCATION:Goodwill of North Georgia – Cartersville Career Center\, 929 Joe Frank Harris Parkway\, Cartersville\, GA\, 30120\, United States
CATEGORIES:In-Person Event,Job Seeker
GEO:34.1974793;-84.7941559
X-APPLE-STRUCTURED-LOCATION;VALUE=URI;X-ADDRESS=Goodwill of North Georgia – Cartersville Career Center 929 Joe Frank Harris Parkway Cartersville GA 30120 United States;X-APPLE-RADIUS=500;X-TITLE=929 Joe Frank Harris Parkway:geo:-84.7941559,34.1974793
END:VEVENT
BEGIN:VEVENT
DTSTART;TZID=America/New_York:20260122T130000
DTEND;TZID=America/New_York:20260122T160000
DTSTAMP:20260422T225231
CREATED:20260119T174531Z
LAST-MODIFIED:20260119T174531Z
UID:10035810-1769086800-1769097600@metroatlantaexchange.org
SUMMARY:Emory Hospital: Registered Nurse Hiring Event
DESCRIPTION:Emory Hospital is hosting a Registered Nurse Hiring Event on Thursday\, January 22nd\, from 1:00 PM to 4:00 PM\, at the Cookie Bar. \nThis is your chance to discover opportunities to advance your career with a healthcare organization dedicated to providing innovative care to complex patients. Meet hiring managers from various departments\, including Critical Care\, Med-Surg\, Operating Room and more. \nClick here to learn more and register.
URL:https://metroatlantaexchange.org/event/emory-hospital-registered-nurse-hiring-event/
LOCATION:Cookie Bar\, 1806 Russell Parkway\, Warner Robins\, GA\, 31088\, United States
CATEGORIES:In-Person Event,Job Seeker
END:VEVENT
BEGIN:VEVENT
DTSTART;TZID=America/New_York:20260122T140000
DTEND;TZID=America/New_York:20260122T160000
DTSTAMP:20260422T225231
CREATED:20260119T175009Z
LAST-MODIFIED:20260119T175009Z
UID:10035813-1769090400-1769097600@metroatlantaexchange.org
SUMMARY:Goodwill of North Georgia: Spherion Hiring Event
DESCRIPTION:Goodwill of North Georgia is hosting a Spherion Hiring Event every Thursday\, from 2:00 PM to 4:00 PM\, at the Cornelia Career Center. \nFor more information\, call 706-894-4905. \nClick here to learn more and register.
URL:https://metroatlantaexchange.org/event/goodwill-of-north-georgia-spherion-hiring-event-7/2026-01-22/
LOCATION:Goodwill of North Georgia – Cornelia Career Center\, 308 Habersham Hills Circle\, Cornelia\, GA\, 30531\, United States
CATEGORIES:In-Person Event,Job Seeker
END:VEVENT
BEGIN:VEVENT
DTSTART;TZID=America/New_York:20260122T163000
DTEND;TZID=America/New_York:20260122T200000
DTSTAMP:20260422T225231
CREATED:20260120T012657Z
LAST-MODIFIED:20260120T012657Z
UID:10035885-1769099400-1769112000@metroatlantaexchange.org
SUMMARY:Project Build SWFL: Free Workforce Development Training
DESCRIPTION:Project Build SWFL is hosting Free Workforce Development Training on Thursday\, January 22nd\, from 4:30 PM to 8:00 PM\, at Project Build SWFL. \nProject Build SWFL hosts free development training and certifications for anyone ages 7-25. Additionally\, free mentoring and support will be provided to prepare young people for lasting careers in the construction industry. \nClick here to learn more and register.
URL:https://metroatlantaexchange.org/event/project-build-swfl-free-workforce-development-training/
LOCATION:Project Build SWFL\, 2250 North Druid Hills Road\, Atlanta\, GA\, 30329\, United States
CATEGORIES:Career Development,In-Person Event,Job Seeker
END:VEVENT
END:VCALENDAR