BEGIN:VCALENDAR
VERSION:2.0
PRODID:-//MAX - ECPv6.15.17.1//NONSGML v1.0//EN
CALSCALE:GREGORIAN
METHOD:PUBLISH
X-ORIGINAL-URL:https://metroatlantaexchange.org
X-WR-CALDESC:Events for MAX
REFRESH-INTERVAL;VALUE=DURATION:PT1H
X-Robots-Tag:noindex
X-PUBLISHED-TTL:PT1H
BEGIN:VTIMEZONE
TZID:America/New_York
BEGIN:DAYLIGHT
TZOFFSETFROM:-0500
TZOFFSETTO:-0400
TZNAME:EDT
DTSTART:20250309T070000
END:DAYLIGHT
BEGIN:STANDARD
TZOFFSETFROM:-0400
TZOFFSETTO:-0500
TZNAME:EST
DTSTART:20251102T060000
END:STANDARD
BEGIN:DAYLIGHT
TZOFFSETFROM:-0500
TZOFFSETTO:-0400
TZNAME:EDT
DTSTART:20260308T070000
END:DAYLIGHT
BEGIN:STANDARD
TZOFFSETFROM:-0400
TZOFFSETTO:-0500
TZNAME:EST
DTSTART:20261101T060000
END:STANDARD
BEGIN:DAYLIGHT
TZOFFSETFROM:-0500
TZOFFSETTO:-0400
TZNAME:EDT
DTSTART:20270314T070000
END:DAYLIGHT
BEGIN:STANDARD
TZOFFSETFROM:-0400
TZOFFSETTO:-0500
TZNAME:EST
DTSTART:20271107T060000
END:STANDARD
END:VTIMEZONE
BEGIN:VEVENT
DTSTART;TZID=America/New_York:20260122T080000
DTEND;TZID=America/New_York:20260123T170000
DTSTAMP:20260422T191535
CREATED:20251203T200246Z
LAST-MODIFIED:20251203T200246Z
UID:10035751-1769068800-1769187600@metroatlantaexchange.org
SUMMARY:American College Testing (ACT): 2026 Southeast ACT Summit
DESCRIPTION:American College Testing (ACT) is hosting its 2026 Southeast ACT Summit on Thursday\, January 22nd and Friday\, January 23rd\, at the Bryant Conference Center. \nThe 2026 Southeast ACT Summit offers education and workforce leaders the opportunity to exchange ideas\, deepen their knowledge\, and explore real-world solutions to today’s most pressing problems. \nClick here to learn more and register.
URL:https://metroatlantaexchange.org/event/american-college-testing-act-2026-southeast-act-summit/
LOCATION:The University of Alabama – Bryant Conference Center\, 240 Paul W. Bryant Drive\, Tuscaloosa\, AL\, 35401\, United States
END:VEVENT
BEGIN:VEVENT
DTSTART;TZID=America/New_York:20260123T090000
DTEND;TZID=America/New_York:20260123T100000
DTSTAMP:20260422T191535
CREATED:20260104T204509Z
LAST-MODIFIED:20260104T204509Z
UID:10035799-1769158800-1769162400@metroatlantaexchange.org
SUMMARY:MAX Minutes with Marion Phillips\, Georgia Power
DESCRIPTION:The Metro Atlanta eXchange for Workforce Solutions is hosting MAX Minutes with Marion Phillips\, Georgia Power\, on Friday\, January 23rd\, at 9:00 AM\, via Zoom. \nFor 12 years\, Georgia has been recognized as the No. 1 state for business by Area Development Magazine. The Top States for Doing Business rankings from Area Development are determined by scores in 15 categories\, based on input from approximately 50 leading site consultants nationwide. In 2025\, Georgia ranked in the top five in 10 categories and again claimed the overall No. 1 ranking. \nSignificantly contributing to Georgia’s status as the top state for business is Georgia Power\, the nation’s Top Utility in Economic Development for 27 consecutive years\, according to Site Selection Magazine. Marion Phillips\, Research Manager with Georgia Power\, will join MAX to provide an annual economic development update\, sharing highlights of Georgia’s progress over the last year. \nClick here to register.
URL:https://metroatlantaexchange.org/event/max-minutes-with-marion-phillips-georgia-power/
LOCATION:GA
CATEGORIES:Employer,Virtual Event,Workforce Developer
END:VEVENT
BEGIN:VEVENT
DTSTART;TZID=America/New_York:20260123T100000
DTEND;TZID=America/New_York:20260123T110000
DTSTAMP:20260422T191535
CREATED:20260120T014305Z
LAST-MODIFIED:20260120T014305Z
UID:10035890-1769162400-1769166000@metroatlantaexchange.org
SUMMARY:Goodwill of North Georgia: On-Site Resume Workshop
DESCRIPTION:Goodwill of North Georgia is hosting an On-Site Resume Workshop on Friday\, January 23rd\, from 10:00 AM to 11:00 AM\, at the Woodstock Career Center. \nFor more information\, call 770-874-0901. \nClick here to learn more and register.
URL:https://metroatlantaexchange.org/event/goodwill-of-north-georgia-on-site-resume-workshop/
LOCATION:Goodwill of North Georgia – Woodstock Career Center\, 9425 Highway 92\, Woodstock\, GA\, 30188\, United States
CATEGORIES:Career Development,In-Person Event,Job Seeker
GEO:34.0872637;-84.5325399
X-APPLE-STRUCTURED-LOCATION;VALUE=URI;X-ADDRESS=Goodwill of North Georgia – Woodstock Career Center 9425 Highway 92 Woodstock GA 30188 United States;X-APPLE-RADIUS=500;X-TITLE=9425 Highway 92:geo:-84.5325399,34.0872637
END:VEVENT
BEGIN:VEVENT
DTSTART;TZID=America/New_York:20260123T110000
DTEND;TZID=America/New_York:20260123T140000
DTSTAMP:20260422T191535
CREATED:20260119T175204Z
LAST-MODIFIED:20260119T175204Z
UID:10035815-1769166000-1769176800@metroatlantaexchange.org
SUMMARY:Goodwill of North Georgia: Department of Corrections Hiring Event
DESCRIPTION:Goodwill of North Georgia is hosting a Department of Corrections Hiring Event every Friday\, from 11:00 AM to 2:00 PM\, at the Stockbridge Career Center. \nFor more information\, call 678-514-0670. \nClick here to learn more and register.
URL:https://metroatlantaexchange.org/event/goodwill-of-north-georgia-department-of-corrections-hiring-event-10/2026-01-23/
LOCATION:Goodwill Stockbridge\, 3871 Highway 138\, SE\, Stockbridge\, 30281\, United States
CATEGORIES:In-Person Event,Job Seeker
END:VEVENT
BEGIN:VEVENT
DTSTART;TZID=America/New_York:20260123T130000
DTEND;TZID=America/New_York:20260123T140000
DTSTAMP:20260422T191535
CREATED:20251203T200359Z
LAST-MODIFIED:20251203T200359Z
UID:10035752-1769173200-1769176800@metroatlantaexchange.org
SUMMARY:National Association of Workforce Boards (NAWB): January Public Policy PowerUp
DESCRIPTION:The National Association of Workforce Boards (NAWB) is hosting its January Public Policy PowerUp on Friday\, January 23rd\, starting at 1:00 PM. \nGet an update on the most pressing issues on Capitol Hill. Topics will include federal funding\, and the tools NAWB is providing to help you take action to support the workforce development system. Bring your questions and hear from experts. \nClick here to learn more and register.
URL:https://metroatlantaexchange.org/event/national-association-of-workforce-boards-nawb-january-public-policy-powerup/
LOCATION:GA
ORGANIZER;CN="National Association of Workforce Boards (NAWB)":MAILTO:nawb@nawb.org
END:VEVENT
END:VCALENDAR