BEGIN:VCALENDAR
VERSION:2.0
PRODID:-//MAX - ECPv6.15.17.1//NONSGML v1.0//EN
CALSCALE:GREGORIAN
METHOD:PUBLISH
X-ORIGINAL-URL:https://metroatlantaexchange.org
X-WR-CALDESC:Events for MAX
REFRESH-INTERVAL;VALUE=DURATION:PT1H
X-Robots-Tag:noindex
X-PUBLISHED-TTL:PT1H
BEGIN:VTIMEZONE
TZID:America/New_York
BEGIN:DAYLIGHT
TZOFFSETFROM:-0500
TZOFFSETTO:-0400
TZNAME:EDT
DTSTART:20250309T070000
END:DAYLIGHT
BEGIN:STANDARD
TZOFFSETFROM:-0400
TZOFFSETTO:-0500
TZNAME:EST
DTSTART:20251102T060000
END:STANDARD
BEGIN:DAYLIGHT
TZOFFSETFROM:-0500
TZOFFSETTO:-0400
TZNAME:EDT
DTSTART:20260308T070000
END:DAYLIGHT
BEGIN:STANDARD
TZOFFSETFROM:-0400
TZOFFSETTO:-0500
TZNAME:EST
DTSTART:20261101T060000
END:STANDARD
BEGIN:DAYLIGHT
TZOFFSETFROM:-0500
TZOFFSETTO:-0400
TZNAME:EDT
DTSTART:20270314T070000
END:DAYLIGHT
BEGIN:STANDARD
TZOFFSETFROM:-0400
TZOFFSETTO:-0500
TZNAME:EST
DTSTART:20271107T060000
END:STANDARD
END:VTIMEZONE
BEGIN:VEVENT
DTSTART;TZID=America/New_York:20260211T090000
DTEND;TZID=America/New_York:20260211T100000
DTSTAMP:20260422T225354
CREATED:20250902T220734Z
LAST-MODIFIED:20250902T220734Z
UID:10035270-1770800400-1770804000@metroatlantaexchange.org
SUMMARY:Goodwill of North Georgia: NorthStar Testing Session
DESCRIPTION:Goodwill of North Georgia is hosting a NorthStar Testing Session every Wednesday\, from 9:00 AM to 10:00 AM\, at the Woodstock Career Center. \nFor more information\, call 770-874-0901. \nClick here to learn more and register.
URL:https://metroatlantaexchange.org/event/goodwill-of-north-georgia-northstar-testing-session/2026-02-11/
LOCATION:Goodwill of North Georgia – Woodstock Career Center\, 9425 Highway 92\, Woodstock\, GA\, 30188\, United States
CATEGORIES:Career Development,In-Person Event,Job Seeker
GEO:34.0872637;-84.5325399
X-APPLE-STRUCTURED-LOCATION;VALUE=URI;X-ADDRESS=Goodwill of North Georgia – Woodstock Career Center 9425 Highway 92 Woodstock GA 30188 United States;X-APPLE-RADIUS=500;X-TITLE=9425 Highway 92:geo:-84.5325399,34.0872637
END:VEVENT
BEGIN:VEVENT
DTSTART;TZID=America/New_York:20260211T090000
DTEND;TZID=America/New_York:20260211T110000
DTSTAMP:20260422T225354
CREATED:20260208T201051Z
LAST-MODIFIED:20260208T201051Z
UID:10035935-1770800400-1770807600@metroatlantaexchange.org
SUMMARY:Ignite Industrial Professionals: Hiring Event
DESCRIPTION:Ignite Industrial Professionals is hosting a Hiring Event on Wednesday\, February 11th\, from 9:00 AM to 11:00 AM\, at Ignite Industrial Professionals. \nReach Truck and Standup Forklift Operators are a vital part of this fast-paced distribution operation and if you have at least one year of experience\, don’t miss this great opportunity. All shifts are available and interviews will be offered on-the-spot. Please bring two forms of ID\, a copy of your resume and wear closed toe shoes. \nClick here to learn more and register.
URL:https://metroatlantaexchange.org/event/ignite-industrial-professionals-hiring-event/
LOCATION:Ignite Industrial Professionals\, 300 Interstate West Parkway\, Lithia Springs\, GA\, 30122\, United States
CATEGORIES:In-Person Event,Job Seeker
END:VEVENT
BEGIN:VEVENT
DTSTART;TZID=America/New_York:20260211T100000
DTEND;TZID=America/New_York:20260211T130000
DTSTAMP:20260422T225354
CREATED:20260202T234926Z
LAST-MODIFIED:20260202T234926Z
UID:10035922-1770804000-1770814800@metroatlantaexchange.org
SUMMARY:Goodwill of North Georgia: Charged for Success: EV Tech Hiring Event
DESCRIPTION:Goodwill of North Georgia is hosting a Charged For Success: EV Tech Hiring Event on Wednesday\, February 11th\, from 10:00 AM to 1:00 PM\, at the Decatur Career Center. \nFor more information\, call 404-554-9600. \nClick here to learn more and register.
URL:https://metroatlantaexchange.org/event/goodwill-of-north-georgia-charged-for-success-ev-tech-hiring-event/
LOCATION:Goodwill of North Georgia – Decatur Career Center\, 2201 Lawrenceville Highway\, Suite 200\, Decatur\, GA\, 30033\, United States
CATEGORIES:In-Person Event,Job Seeker
GEO:33.8114213;-84.2699313
X-APPLE-STRUCTURED-LOCATION;VALUE=URI;X-ADDRESS=Goodwill of North Georgia – Decatur Career Center 2201 Lawrenceville Highway Suite 200 Decatur GA 30033 United States;X-APPLE-RADIUS=500;X-TITLE=2201 Lawrenceville Highway\, Suite 200:geo:-84.2699313,33.8114213
END:VEVENT
BEGIN:VEVENT
DTSTART;TZID=America/New_York:20260211T100000
DTEND;TZID=America/New_York:20260211T130000
DTSTAMP:20260422T225354
CREATED:20260202T235130Z
LAST-MODIFIED:20260202T235130Z
UID:10035923-1770804000-1770814800@metroatlantaexchange.org
SUMMARY:Goodwill of North Georgia: Unitus Security Hiring Event
DESCRIPTION:Goodwill of North Georgia is hosting a Unitus Security Hiring Event on Wednesday\, February 11th\, from 10:00 AM to 1:00 PM\, at the Metropolitan Parkway Career Center. \nFor more information\, call 770-795-4204. \nClick here to learn more and register.
URL:https://metroatlantaexchange.org/event/goodwill-of-north-georgia-unitus-security-hiring-event-2/
LOCATION:Goodwill of North Georgia – Metropolitan Parkway Career Center\, 2160 Metropolitan Parkway\, Atlanta\, GA\, 30315\, United States
CATEGORIES:In-Person Event,Job Seeker
END:VEVENT
BEGIN:VEVENT
DTSTART;TZID=America/New_York:20260211T100000
DTEND;TZID=America/New_York:20260211T140000
DTSTAMP:20260422T225354
CREATED:20260208T201250Z
LAST-MODIFIED:20260208T201250Z
UID:10035936-1770804000-1770818400@metroatlantaexchange.org
SUMMARY:Goodwill of North Georgia: SIMOS Hiring Event
DESCRIPTION:Goodwill of North Georgia is hosting a SIMOS Hiring Event every Wednesday\, from 10:00 AM to 2:00 PM\, at the Oakwood Career Center. \nFor more information\, call 770-538-4209. \nClick here to learn more and register.
URL:https://metroatlantaexchange.org/event/goodwill-of-north-georgia-simos-hiring-event-2/2026-02-11/
LOCATION:Goodwill of North Georgia – Oakwood Career Center\, 3715 Mundy Mill Road\, Oakwood\, GA\, 30566\, United States
CATEGORIES:In-Person Event,Job Seeker
GEO:34.2290795;-83.8701636
X-APPLE-STRUCTURED-LOCATION;VALUE=URI;X-ADDRESS=Goodwill of North Georgia – Oakwood Career Center 3715 Mundy Mill Road Oakwood GA 30566 United States;X-APPLE-RADIUS=500;X-TITLE=3715 Mundy Mill Road:geo:-83.8701636,34.2290795
END:VEVENT
BEGIN:VEVENT
DTSTART;TZID=America/New_York:20260211T100000
DTEND;TZID=America/New_York:20260211T150000
DTSTAMP:20260422T225354
CREATED:20260202T235430Z
LAST-MODIFIED:20260202T235430Z
UID:10035924-1770804000-1770822000@metroatlantaexchange.org
SUMMARY:Riverwoods Behavioral Health
DESCRIPTION:Riverwoods Behavioral Health is hosting a Hiring Event on Wednesday\, February 11th\, from 10:00 AM to 3:00 PM\, at Riverwoods Behavioral Health. \nRiverwoods Behavioral Health is committed to delivering compassionate\, patient-centered care and are seeking Registered Nurses and Licensed Practical Nurses. Immediate offers will be extended to qualified candidates. \nClick here to learn more and register.
URL:https://metroatlantaexchange.org/event/riverwoods-behavioral-health/
LOCATION:Riverwoods Behavioral Health\, 223 Medical Center Drive\, Riverdale\, GA\, 30274\, United States
CATEGORIES:In-Person Event,Job Seeker
END:VEVENT
BEGIN:VEVENT
DTSTART;TZID=America/New_York:20260211T133000
DTEND;TZID=America/New_York:20260211T153000
DTSTAMP:20260422T225354
CREATED:20260208T201512Z
LAST-MODIFIED:20260208T201512Z
UID:10035939-1770816600-1770823800@metroatlantaexchange.org
SUMMARY:Goodwill of North Georgia: B&D Cleaning Hiring Event
DESCRIPTION:Goodwill of North Georgia is hosting a B&D Cleaning Hiring Event every Wednesday\, from 1:30 PM to 3:30 PM\, at the Oakwood Career Center. \nFor more information\, call 770-538-4209. \nClick here to learn more and register.
URL:https://metroatlantaexchange.org/event/goodwill-of-north-georgia-bd-cleaning-hiring-event-2/
LOCATION:Goodwill of North Georgia – Oakwood Career Center\, 3715 Mundy Mill Road\, Oakwood\, GA\, 30566\, United States
CATEGORIES:In-Person Event,Job Seeker
GEO:34.2290795;-83.8701636
X-APPLE-STRUCTURED-LOCATION;VALUE=URI;X-ADDRESS=Goodwill of North Georgia – Oakwood Career Center 3715 Mundy Mill Road Oakwood GA 30566 United States;X-APPLE-RADIUS=500;X-TITLE=3715 Mundy Mill Road:geo:-83.8701636,34.2290795
END:VEVENT
END:VCALENDAR