BEGIN:VCALENDAR
VERSION:2.0
PRODID:-//MAX - ECPv6.15.17.1//NONSGML v1.0//EN
CALSCALE:GREGORIAN
METHOD:PUBLISH
X-WR-CALNAME:MAX
X-ORIGINAL-URL:https://metroatlantaexchange.org
X-WR-CALDESC:Events for MAX
REFRESH-INTERVAL;VALUE=DURATION:PT1H
X-Robots-Tag:noindex
X-PUBLISHED-TTL:PT1H
BEGIN:VTIMEZONE
TZID:America/New_York
BEGIN:DAYLIGHT
TZOFFSETFROM:-0500
TZOFFSETTO:-0400
TZNAME:EDT
DTSTART:20250309T070000
END:DAYLIGHT
BEGIN:STANDARD
TZOFFSETFROM:-0400
TZOFFSETTO:-0500
TZNAME:EST
DTSTART:20251102T060000
END:STANDARD
BEGIN:DAYLIGHT
TZOFFSETFROM:-0500
TZOFFSETTO:-0400
TZNAME:EDT
DTSTART:20260308T070000
END:DAYLIGHT
BEGIN:STANDARD
TZOFFSETFROM:-0400
TZOFFSETTO:-0500
TZNAME:EST
DTSTART:20261101T060000
END:STANDARD
BEGIN:DAYLIGHT
TZOFFSETFROM:-0500
TZOFFSETTO:-0400
TZNAME:EDT
DTSTART:20270314T070000
END:DAYLIGHT
BEGIN:STANDARD
TZOFFSETFROM:-0400
TZOFFSETTO:-0500
TZNAME:EST
DTSTART:20271107T060000
END:STANDARD
END:VTIMEZONE
BEGIN:VEVENT
DTSTART;TZID=America/New_York:20260222T080000
DTEND;TZID=America/New_York:20260222T170000
DTSTAMP:20260422T072450
CREATED:20260223T031929Z
LAST-MODIFIED:20260223T031929Z
UID:10035965-1771747200-1771779600@metroatlantaexchange.org
SUMMARY:MAX Minutes with Chris Green\, Georgia Student Finance Commission
DESCRIPTION:The Metro Atlanta eXchange for Workforce Solutions (MAX) will host MAX Minutes with Chris Green\, Georgia Student Finance Commission\, on Friday\, February 27th\, at 9:00 AM\, via Zoom. \nAs the state’s single higher education finance agency\, the Georgia Student Finance Commission’s mission is to promote and increase access to education beyond high school for Georgians. The agency has a long history of helping students access higher education by providing financial aid options and programs to make college more affordable. \nChris Green\, President of the Georgia Student Finance Commission\, will join MAX to provide an update on how Georgia’s student financial aid programs are shaping the state’s workforce. This session will cover recent legislative and budget updates\, highlight program innovations\, and share strategies that connect education to economic growth. Chris will also discuss practical ways workforce and economic development professionals can support talent development in their communities. \nJoin MAX on Friday\, February 27th\, 9:00 AM\, for a timely and virtual conversation. \nClick here to register.
URL:https://metroatlantaexchange.org/event/max-minutes-with-chris-green-georgia-student-finance-commission/
LOCATION:GA
CATEGORIES:Employer,MAX,Student,Virtual Event,Workforce Developer
END:VEVENT
END:VCALENDAR