BEGIN:VCALENDAR
VERSION:2.0
PRODID:-//MAX - ECPv6.15.17.1//NONSGML v1.0//EN
CALSCALE:GREGORIAN
METHOD:PUBLISH
X-ORIGINAL-URL:https://metroatlantaexchange.org
X-WR-CALDESC:Events for MAX
REFRESH-INTERVAL;VALUE=DURATION:PT1H
X-Robots-Tag:noindex
X-PUBLISHED-TTL:PT1H
BEGIN:VTIMEZONE
TZID:America/New_York
BEGIN:DAYLIGHT
TZOFFSETFROM:-0500
TZOFFSETTO:-0400
TZNAME:EDT
DTSTART:20250309T070000
END:DAYLIGHT
BEGIN:STANDARD
TZOFFSETFROM:-0400
TZOFFSETTO:-0500
TZNAME:EST
DTSTART:20251102T060000
END:STANDARD
BEGIN:DAYLIGHT
TZOFFSETFROM:-0500
TZOFFSETTO:-0400
TZNAME:EDT
DTSTART:20260308T070000
END:DAYLIGHT
BEGIN:STANDARD
TZOFFSETFROM:-0400
TZOFFSETTO:-0500
TZNAME:EST
DTSTART:20261101T060000
END:STANDARD
BEGIN:DAYLIGHT
TZOFFSETFROM:-0500
TZOFFSETTO:-0400
TZNAME:EDT
DTSTART:20270314T070000
END:DAYLIGHT
BEGIN:STANDARD
TZOFFSETFROM:-0400
TZOFFSETTO:-0500
TZNAME:EST
DTSTART:20271107T060000
END:STANDARD
END:VTIMEZONE
BEGIN:VEVENT
DTSTART;TZID=America/New_York:20260226T100000
DTEND;TZID=America/New_York:20260226T120000
DTSTAMP:20260422T225352
CREATED:20260202T233058Z
LAST-MODIFIED:20260202T233138Z
UID:10035909-1772100000-1772107200@metroatlantaexchange.org
SUMMARY:Goodwill of North Georgia: Chase Staffing Open Position Interviews
DESCRIPTION:Goodwill of North Georgia is hosting Chase Staffing Open Position Interviews every Thursday\, from 10:00 AM to 12:00 PM\, at the Cartersville Career Center. \nFor more information\, call 770-276-7036. \nClick here to learn more and register.
URL:https://metroatlantaexchange.org/event/goodwill-of-north-georgia-chase-staffing-open-position-interviews-3/2026-02-26/
LOCATION:Goodwill of North Georgia – Cartersville Career Center\, 929 Joe Frank Harris Parkway\, Cartersville\, GA\, 30120\, United States
CATEGORIES:In-Person Event,Job Seeker
GEO:34.1974793;-84.7941559
X-APPLE-STRUCTURED-LOCATION;VALUE=URI;X-ADDRESS=Goodwill of North Georgia – Cartersville Career Center 929 Joe Frank Harris Parkway Cartersville GA 30120 United States;X-APPLE-RADIUS=500;X-TITLE=929 Joe Frank Harris Parkway:geo:-84.7941559,34.1974793
END:VEVENT
BEGIN:VEVENT
DTSTART;TZID=America/New_York:20260226T100000
DTEND;TZID=America/New_York:20260226T120000
DTSTAMP:20260422T225352
CREATED:20260208T211631Z
LAST-MODIFIED:20260208T211631Z
UID:10035961-1772100000-1772107200@metroatlantaexchange.org
SUMMARY:Goodwill of North Georgia: Multi-Employer Job Fair
DESCRIPTION:Goodwill of North Georgia is hosting a Multi-Employer Job Fair on Thursday\, February 26th\, from 10:00 AM to 12:00 PM\, at the Oakwood Career Center. \nFor more information\, call 770-538-4209. \nClick here to learn more and register.
URL:https://metroatlantaexchange.org/event/goodwill-of-north-georgia-multi-employer-job-fair-3/
LOCATION:Goodwill of North Georgia – Oakwood Career Center\, 3715 Mundy Mill Road\, Oakwood\, GA\, 30566\, United States
CATEGORIES:In-Person Event,Job Seeker
GEO:34.2290795;-83.8701636
X-APPLE-STRUCTURED-LOCATION;VALUE=URI;X-ADDRESS=Goodwill of North Georgia – Oakwood Career Center 3715 Mundy Mill Road Oakwood GA 30566 United States;X-APPLE-RADIUS=500;X-TITLE=3715 Mundy Mill Road:geo:-83.8701636,34.2290795
END:VEVENT
BEGIN:VEVENT
DTSTART;TZID=America/New_York:20260226T110000
DTEND;TZID=America/New_York:20260226T130000
DTSTAMP:20260422T225352
CREATED:20260208T211808Z
LAST-MODIFIED:20260208T211808Z
UID:10035962-1772103600-1772110800@metroatlantaexchange.org
SUMMARY:Goodwill of North Georgia: Multiple-Employer Hiring Event
DESCRIPTION:Goodwill of North Georgia is hosting a Multiple-Employer Hiring Event on Thursday\, February 26th\, from 11:00 AM to 1:00 PM\, at the Pleasant Hill Career Center. \nCall 770-564-2447 for more information. \nClick here to learn more and register.
URL:https://metroatlantaexchange.org/event/goodwill-of-north-georgia-multiple-employer-hiring-event-2/
LOCATION:Goodwill of North Georgia – Pleasant Hill Career Center\, 1502 Pleasant Hill Road\, Duluth\, GA\, 30096\, United States
CATEGORIES:In-Person Event,Job Seeker
GEO:33.9429794;-84.121643
X-APPLE-STRUCTURED-LOCATION;VALUE=URI;X-ADDRESS=Goodwill of North Georgia – Pleasant Hill Career Center 1502 Pleasant Hill Road Duluth GA 30096 United States;X-APPLE-RADIUS=500;X-TITLE=1502 Pleasant Hill Road:geo:-84.121643,33.9429794
END:VEVENT
BEGIN:VEVENT
DTSTART;TZID=America/New_York:20260226T140000
DTEND;TZID=America/New_York:20260226T160000
DTSTAMP:20260422T225352
CREATED:20260202T233659Z
LAST-MODIFIED:20260202T233659Z
UID:10035914-1772114400-1772121600@metroatlantaexchange.org
SUMMARY:Goodwill of North Georgia: Spherion Hiring Event
DESCRIPTION:Goodwill of North Georgia is hosting a Spherion Hiring Event every Thursday\, from 2:00 PM to 4:00 PM\, at the Cornelia Career Center. \nFor more information\, call 706-894-4905. \nClick here to learn more and register.
URL:https://metroatlantaexchange.org/event/goodwill-of-north-georgia-spherion-hiring-event/2026-02-26/
LOCATION:Goodwill of North Georgia – Cornelia Career Center\, 308 Habersham Hills Circle\, Cornelia\, GA\, 30531\, United States
CATEGORIES:In-Person Event,Job Seeker
END:VEVENT
END:VCALENDAR