BEGIN:VCALENDAR
VERSION:2.0
PRODID:-//MAX - ECPv6.15.17.1//NONSGML v1.0//EN
CALSCALE:GREGORIAN
METHOD:PUBLISH
X-WR-CALNAME:MAX
X-ORIGINAL-URL:https://metroatlantaexchange.org
X-WR-CALDESC:Events for MAX
REFRESH-INTERVAL;VALUE=DURATION:PT1H
X-Robots-Tag:noindex
X-PUBLISHED-TTL:PT1H
BEGIN:VTIMEZONE
TZID:America/New_York
BEGIN:DAYLIGHT
TZOFFSETFROM:-0500
TZOFFSETTO:-0400
TZNAME:EDT
DTSTART:20250309T070000
END:DAYLIGHT
BEGIN:STANDARD
TZOFFSETFROM:-0400
TZOFFSETTO:-0500
TZNAME:EST
DTSTART:20251102T060000
END:STANDARD
BEGIN:DAYLIGHT
TZOFFSETFROM:-0500
TZOFFSETTO:-0400
TZNAME:EDT
DTSTART:20260308T070000
END:DAYLIGHT
BEGIN:STANDARD
TZOFFSETFROM:-0400
TZOFFSETTO:-0500
TZNAME:EST
DTSTART:20261101T060000
END:STANDARD
BEGIN:DAYLIGHT
TZOFFSETFROM:-0500
TZOFFSETTO:-0400
TZNAME:EDT
DTSTART:20270314T070000
END:DAYLIGHT
BEGIN:STANDARD
TZOFFSETFROM:-0400
TZOFFSETTO:-0500
TZNAME:EST
DTSTART:20271107T060000
END:STANDARD
END:VTIMEZONE
BEGIN:VEVENT
DTSTART;TZID=America/New_York:20260303T100000
DTEND;TZID=America/New_York:20260303T140000
DTSTAMP:20260422T160401
CREATED:20260120T010929Z
LAST-MODIFIED:20260120T010929Z
UID:10035863-1772532000-1772546400@metroatlantaexchange.org
SUMMARY:Fulton County Library System: Mobile Career Center
DESCRIPTION:The Fulton County Library System hosts a Mobile Career Center every first Tuesday of the month\, from 10:00 AM to 2:00 PM\, at the Palmetto Branch Library. \nJoin the Fulton County Library System once a month for a career assistance program that includes job search assistance\, resume writing\, job training\, and digital training. \nClick here to learn more.
URL:https://metroatlantaexchange.org/event/fulton-county-library-system-mobile-career-center/2026-03-03/
LOCATION:Palmetto Branch Library\, 9111 Cascade Palmetto Highway\, Palmetto\, GA\, 30268\, United States
CATEGORIES:Career Development,In-Person Event,Job Seeker
END:VEVENT
BEGIN:VEVENT
DTSTART;TZID=America/New_York:20260303T120000
DTEND;TZID=America/New_York:20260303T130000
DTSTAMP:20260422T160401
CREATED:20260120T011419Z
LAST-MODIFIED:20260120T011419Z
UID:10035872-1772539200-1772542800@metroatlantaexchange.org
SUMMARY:Connecting Communities and Families: Mental Health Workshops
DESCRIPTION:Connecting Communities and Families hosts a weekly Mental Health Workshop each Tuesday\, from 12:00 PM to 1:00 PM\, virtually. Topics include Stress Management\, Workplace Wellness\, Supporting Veterans and Their Families\, Building Resilience and much more. \nClick here to learn more and register. \n 
URL:https://metroatlantaexchange.org/event/connecting-communities-and-families-mental-health-workshops/2026-03-03/
LOCATION:GA
CATEGORIES:Career Development,Job Seeker,Virtual Event
END:VEVENT
BEGIN:VEVENT
DTSTART;TZID=America/New_York:20260303T180000
DTEND;TZID=America/New_York:20260303T190000
DTSTAMP:20260422T160401
CREATED:20250811T054826Z
LAST-MODIFIED:20250811T054826Z
UID:10035005-1772560800-1772564400@metroatlantaexchange.org
SUMMARY:University of Parents (U4P): DadCONNECT
DESCRIPTION:University of Parents (U4P) hosts DadCONNECT on Tuesdays at 6:00 PM\, virtually. \nThis is a monthly virtual and community-based space designed to empower fathers and strengthen families. These monthly sessions are opportunities for fathers\, grandfathers\, stepfathers\, and male caregivers come together for honest conversation\, encouragement\, and practical tools for fatherhood and life. \nClick here to learn more and register.
URL:https://metroatlantaexchange.org/event/university-of-parents-u4p-dadconnect/2026-03-03/
LOCATION:GA
CATEGORIES:Career Development,Virtual Event
END:VEVENT
END:VCALENDAR