BEGIN:VCALENDAR
VERSION:2.0
PRODID:-//MAX - ECPv6.15.17.1//NONSGML v1.0//EN
CALSCALE:GREGORIAN
METHOD:PUBLISH
X-ORIGINAL-URL:https://metroatlantaexchange.org
X-WR-CALDESC:Events for MAX
REFRESH-INTERVAL;VALUE=DURATION:PT1H
X-Robots-Tag:noindex
X-PUBLISHED-TTL:PT1H
BEGIN:VTIMEZONE
TZID:America/New_York
BEGIN:DAYLIGHT
TZOFFSETFROM:-0500
TZOFFSETTO:-0400
TZNAME:EDT
DTSTART:20250309T070000
END:DAYLIGHT
BEGIN:STANDARD
TZOFFSETFROM:-0400
TZOFFSETTO:-0500
TZNAME:EST
DTSTART:20251102T060000
END:STANDARD
BEGIN:DAYLIGHT
TZOFFSETFROM:-0500
TZOFFSETTO:-0400
TZNAME:EDT
DTSTART:20260308T070000
END:DAYLIGHT
BEGIN:STANDARD
TZOFFSETFROM:-0400
TZOFFSETTO:-0500
TZNAME:EST
DTSTART:20261101T060000
END:STANDARD
BEGIN:DAYLIGHT
TZOFFSETFROM:-0500
TZOFFSETTO:-0400
TZNAME:EDT
DTSTART:20270314T070000
END:DAYLIGHT
BEGIN:STANDARD
TZOFFSETFROM:-0400
TZOFFSETTO:-0500
TZNAME:EST
DTSTART:20271107T060000
END:STANDARD
END:VTIMEZONE
BEGIN:VEVENT
DTSTART;TZID=America/New_York:20260311T120000
DTEND;TZID=America/New_York:20260311T160000
DTSTAMP:20260422T225440
CREATED:20260310T181907Z
LAST-MODIFIED:20260310T181907Z
UID:10035969-1773230400-1773244800@metroatlantaexchange.org
SUMMARY:Hiring Our Heroes: Virtual Hiring Fair - Logistics\, Skilled Trades\, and Transportation
DESCRIPTION:Hiring Our Heroes is hosting a Virtual Hiring Fair: Logistics\, Skilled Trades\, and Transportation on Wednesday\, March 11th\, from 12:00 PM to 4:00 PM. \nRegister now to connect with employers offering hundreds of open positions in logistics\, skilled trades\, and transportation looking for talent from the military community! Employers are looking for talent from the military community and hiring now for thousands of open positions. Whether you’re looking for work now or exploring future possibilities\, representatives are ready to meet you and answer your questions. This event is open to transitioning service members\, veterans\, military spouses\, and military caregivers. \nClick here to learn more and register.
URL:https://metroatlantaexchange.org/event/hiring-our-heroes-virtual-hiring-fair-logistics-skilled-trades-and-transportation/
LOCATION:GA
CATEGORIES:Job Seeker,Veterans/Military,Virtual Event
END:VEVENT
BEGIN:VEVENT
DTSTART;TZID=America/New_York:20260311T150000
DTEND;TZID=America/New_York:20260311T153000
DTSTAMP:20260422T225440
CREATED:20260310T203103Z
LAST-MODIFIED:20260310T203103Z
UID:10036030-1773241200-1773243000@metroatlantaexchange.org
SUMMARY:Hiring Our Heroes: IBM Skillsbuild Info Session
DESCRIPTION:Hiring Our Heroes is hosting an IBM Skillsbuild Info Session on Wednesday\, March 11th\, from 3:00 PM to 3:30 PM. \nJoin Hiring Our Heroes for an info session about IBM SkillsBuild\, now open to the entire military community! IBM SkillsBuild makes it easy to upskill in minutes. Explore a curated selection of courses in today’s most in-demand fields\, plus career resources to help you stand out. \nClick here to learn more and register.
URL:https://metroatlantaexchange.org/event/hiring-our-heroes-ibm-skillsbuild-info-session/
LOCATION:GA
CATEGORIES:Job Seeker,Veterans/Military,Virtual Event
END:VEVENT
END:VCALENDAR