BEGIN:VCALENDAR
VERSION:2.0
PRODID:-//MAX - ECPv6.15.17.1//NONSGML v1.0//EN
CALSCALE:GREGORIAN
METHOD:PUBLISH
X-ORIGINAL-URL:https://metroatlantaexchange.org
X-WR-CALDESC:Events for MAX
REFRESH-INTERVAL;VALUE=DURATION:PT1H
X-Robots-Tag:noindex
X-PUBLISHED-TTL:PT1H
BEGIN:VTIMEZONE
TZID:America/New_York
BEGIN:DAYLIGHT
TZOFFSETFROM:-0500
TZOFFSETTO:-0400
TZNAME:EDT
DTSTART:20250309T070000
END:DAYLIGHT
BEGIN:STANDARD
TZOFFSETFROM:-0400
TZOFFSETTO:-0500
TZNAME:EST
DTSTART:20251102T060000
END:STANDARD
BEGIN:DAYLIGHT
TZOFFSETFROM:-0500
TZOFFSETTO:-0400
TZNAME:EDT
DTSTART:20260308T070000
END:DAYLIGHT
BEGIN:STANDARD
TZOFFSETFROM:-0400
TZOFFSETTO:-0500
TZNAME:EST
DTSTART:20261101T060000
END:STANDARD
BEGIN:DAYLIGHT
TZOFFSETFROM:-0500
TZOFFSETTO:-0400
TZNAME:EDT
DTSTART:20270314T070000
END:DAYLIGHT
BEGIN:STANDARD
TZOFFSETFROM:-0400
TZOFFSETTO:-0500
TZNAME:EST
DTSTART:20271107T060000
END:STANDARD
END:VTIMEZONE
BEGIN:VEVENT
DTSTART;TZID=America/New_York:20260312T100000
DTEND;TZID=America/New_York:20260312T120000
DTSTAMP:20260422T191506
CREATED:20260310T182157Z
LAST-MODIFIED:20260310T182229Z
UID:10035971-1773309600-1773316800@metroatlantaexchange.org
SUMMARY:Goodwill of North Georgia: Chase Staffing Open Position Interviews
DESCRIPTION:Goodwill of North Georgia is hosting Chase Staffing Open Position Interviews every Thursday\, from 10:00 AM to 12:00 PM\, at the Cartersville Career Center. \nFor more information\, call 770-276-7036. \nClick here to learn more and register.
URL:https://metroatlantaexchange.org/event/goodwill-of-north-georgia-chase-staffing-open-position-interviews-4/2026-03-12/
LOCATION:Goodwill of North Georgia – Cartersville Career Center\, 929 Joe Frank Harris Parkway\, Cartersville\, GA\, 30120\, United States
CATEGORIES:In-Person Event,Job Seeker
GEO:34.1974793;-84.7941559
X-APPLE-STRUCTURED-LOCATION;VALUE=URI;X-ADDRESS=Goodwill of North Georgia – Cartersville Career Center 929 Joe Frank Harris Parkway Cartersville GA 30120 United States;X-APPLE-RADIUS=500;X-TITLE=929 Joe Frank Harris Parkway:geo:-84.7941559,34.1974793
END:VEVENT
BEGIN:VEVENT
DTSTART;TZID=America/New_York:20260312T100000
DTEND;TZID=America/New_York:20260312T120000
DTSTAMP:20260422T191506
CREATED:20260310T203536Z
LAST-MODIFIED:20260310T203536Z
UID:10036032-1773309600-1773316800@metroatlantaexchange.org
SUMMARY:Our Village United: Headshots\, Handshakes\, and Hugs
DESCRIPTION:Our Village United is hosting Headshots\, Handshakes\, and Hugs on Thursday\, March 12th\, from 10:00 AM to 12:00 PM\, at Pittsburgh Yards. \nThis is a community-centered networking event where you can update your professional headshot and build meaningful business connections. Come get a high-quality\, professional headshot to elevate your online presence\, from LinkedIn to your website and speaker profiles. Headshots will be provided by Carol of Colurwrk\, a photographer known for capturing vibrant\, authentic images that help professionals and brands stand out. \nConnect with fellow entrepreneurs\, professionals\, and community leaders. This is a space for real conversations and genuine connections\, not forced networking. \nClick here to learn more and register.
URL:https://metroatlantaexchange.org/event/our-village-united-headshots-handshakes-and-hugs/
LOCATION:Pittsburgh Yards\, 352 University Avenue\, SW\, Atlanta\, GA\, 30310\, United States
CATEGORIES:Career Development,In-Person Event,Job Seeker
END:VEVENT
BEGIN:VEVENT
DTSTART;TZID=America/New_York:20260312T110000
DTEND;TZID=America/New_York:20260312T130000
DTSTAMP:20260422T191506
CREATED:20260310T182409Z
LAST-MODIFIED:20260310T182409Z
UID:10035976-1773313200-1773320400@metroatlantaexchange.org
SUMMARY:Goodwill of North Georgia: Multiple Employer Hiring Event
DESCRIPTION:Goodwill of North Georgia is hosting a Multiple Employer Hiring Event on Thursday\, March 12th\, from 11:00 AM to 1:00 PM\, at the Pleasant Hill Career Center. \nCall 770-564-2447 for more information. \nClick here to learn more and register.
URL:https://metroatlantaexchange.org/event/goodwill-of-north-georgia-multiple-employer-hiring-event-3/
LOCATION:Goodwill of North Georgia – Pleasant Hill Career Center\, 1502 Pleasant Hill Road\, Duluth\, GA\, 30096\, United States
CATEGORIES:In-Person Event,Job Seeker
GEO:33.9429794;-84.121643
X-APPLE-STRUCTURED-LOCATION;VALUE=URI;X-ADDRESS=Goodwill of North Georgia – Pleasant Hill Career Center 1502 Pleasant Hill Road Duluth GA 30096 United States;X-APPLE-RADIUS=500;X-TITLE=1502 Pleasant Hill Road:geo:-84.121643,33.9429794
END:VEVENT
BEGIN:VEVENT
DTSTART;TZID=America/New_York:20260312T110000
DTEND;TZID=America/New_York:20260312T140000
DTSTAMP:20260422T191506
CREATED:20251220T215608Z
LAST-MODIFIED:20251220T215608Z
UID:10035785-1773313200-1773324000@metroatlantaexchange.org
SUMMARY:Choice Career Fairs: Atlanta Career Fair
DESCRIPTION:Choice Career Fairs is hosting an Atlanta Career Fair on Thursday\, March 12th\, from 11:00 AM to 2:00 PM\, at the Hilton Garden Inn Atlanta Perimeter Center. \nAre you ready to take your career to the next level? Join Choice Career Fairs and connect with top employers in your area! You’ll meet face-to-face with hiring decision-makers from some of the areas top employers. Dress professionally and bring plenty of resumes. \nClick here to learn more and register.
URL:https://metroatlantaexchange.org/event/choice-career-fairs-atlanta-career-fair/
LOCATION:Hilton Garden Inn Atlanta Perimeter Center\, 1501 Lake Hearn Drive\, Atlanta\, GA\, 30319\, United States
CATEGORIES:In-Person Event,Job Seeker
GEO:33.9161449;-84.3393329
X-APPLE-STRUCTURED-LOCATION;VALUE=URI;X-ADDRESS=Hilton Garden Inn Atlanta Perimeter Center 1501 Lake Hearn Drive Atlanta GA 30319 United States;X-APPLE-RADIUS=500;X-TITLE=1501 Lake Hearn Drive:geo:-84.3393329,33.9161449
END:VEVENT
BEGIN:VEVENT
DTSTART;TZID=America/New_York:20260312T110000
DTEND;TZID=America/New_York:20260312T150000
DTSTAMP:20260422T191506
CREATED:20260310T182519Z
LAST-MODIFIED:20260310T182519Z
UID:10035977-1773313200-1773327600@metroatlantaexchange.org
SUMMARY:JobFairX: Atlanta Diversity Virtual Job Fair
DESCRIPTION:JobFairX is hosting an Atlanta Diversity Virtual Job Fair on Thursday\, March 12th\, from 11:00 AM to 3:00 PM. \nAt JobFairX\, job seekers are matched with employers who have registered for the virtual job fair. When you sign up and create a profile\, you provide information about your qualifications\, skills\, and preferences. JobFairX’s advanced matching algorithm analyzes this data to identify suitable job opportunities. If your qualifications align with a job\, you’ll receive an email invitation to schedule an interview with the employer during the fair. JobFairX’s streamlined process saves you time on your job search. \nClick here to register.
URL:https://metroatlantaexchange.org/event/jobfairx-atlanta-diversity-virtual-job-fair-6/
LOCATION:GA
CATEGORIES:Job Seeker,Virtual Event
END:VEVENT
BEGIN:VEVENT
DTSTART;TZID=America/New_York:20260312T140000
DTEND;TZID=America/New_York:20260312T153000
DTSTAMP:20260422T191506
CREATED:20260310T204009Z
LAST-MODIFIED:20260310T204009Z
UID:10036033-1773324000-1773329400@metroatlantaexchange.org
SUMMARY:Hiring Our Heroes: Networking for Authenticity and Impact
DESCRIPTION:Hiring Our Heroes is hosting a webinar on Networking for Authenticity and Impact on Thursday\, March 12th\, from 2:00 PM to 3:30 PM. \nJoin Hiring Our Heroes\, Fiserv and Leidos for a workshop focused on building authentic professional relationships that reflect your values and experiences. Learn how to leverage your military background to create meaningful connections that open doors and amplify your impact. \nClick here to learn more and register.
URL:https://metroatlantaexchange.org/event/hiring-our-heroes-networking-for-authenticity-and-impact/
LOCATION:GA
CATEGORIES:Career Development,Job Seeker,Veterans/Military,Virtual Event
END:VEVENT
BEGIN:VEVENT
DTSTART;TZID=America/New_York:20260312T140000
DTEND;TZID=America/New_York:20260312T160000
DTSTAMP:20260422T191506
CREATED:20260310T182639Z
LAST-MODIFIED:20260310T182639Z
UID:10035978-1773324000-1773331200@metroatlantaexchange.org
SUMMARY:Goodwill of North Georgia: Spherion Hiring Event
DESCRIPTION:Goodwill of North Georgia is hosting a Spherion Hiring Event every Thursday\, from 2:00 PM to 4:00 PM\, at the Cornelia Career Center. \nFor more information\, call 706-894-4905. \nClick here to learn more and register.
URL:https://metroatlantaexchange.org/event/goodwill-of-north-georgia-spherion-hiring-event-2/2026-03-12/
LOCATION:Goodwill of North Georgia – Cornelia Career Center\, 308 Habersham Hills Circle\, Cornelia\, GA\, 30531\, United States
CATEGORIES:In-Person Event,Job Seeker
END:VEVENT
END:VCALENDAR