BEGIN:VCALENDAR
VERSION:2.0
PRODID:-//MAX - ECPv6.15.17.1//NONSGML v1.0//EN
CALSCALE:GREGORIAN
METHOD:PUBLISH
X-WR-CALNAME:MAX
X-ORIGINAL-URL:https://metroatlantaexchange.org
X-WR-CALDESC:Events for MAX
REFRESH-INTERVAL;VALUE=DURATION:PT1H
X-Robots-Tag:noindex
X-PUBLISHED-TTL:PT1H
BEGIN:VTIMEZONE
TZID:America/New_York
BEGIN:DAYLIGHT
TZOFFSETFROM:-0500
TZOFFSETTO:-0400
TZNAME:EDT
DTSTART:20250309T070000
END:DAYLIGHT
BEGIN:STANDARD
TZOFFSETFROM:-0400
TZOFFSETTO:-0500
TZNAME:EST
DTSTART:20251102T060000
END:STANDARD
BEGIN:DAYLIGHT
TZOFFSETFROM:-0500
TZOFFSETTO:-0400
TZNAME:EDT
DTSTART:20260308T070000
END:DAYLIGHT
BEGIN:STANDARD
TZOFFSETFROM:-0400
TZOFFSETTO:-0500
TZNAME:EST
DTSTART:20261101T060000
END:STANDARD
BEGIN:DAYLIGHT
TZOFFSETFROM:-0500
TZOFFSETTO:-0400
TZNAME:EDT
DTSTART:20270314T070000
END:DAYLIGHT
BEGIN:STANDARD
TZOFFSETFROM:-0400
TZOFFSETTO:-0500
TZNAME:EST
DTSTART:20271107T060000
END:STANDARD
END:VTIMEZONE
BEGIN:VEVENT
DTSTART;TZID=America/New_York:20260314T080000
DTEND;TZID=America/New_York:20260318T170000
DTSTAMP:20260422T190628
CREATED:20251203T201759Z
LAST-MODIFIED:20251203T201759Z
UID:10035761-1773475200-1773853200@metroatlantaexchange.org
SUMMARY:National League of Cities (NLC): 2026 Congressional City Conference
DESCRIPTION:The National League of Cities (NLC) is hosting its 2026 Congressional City Conference starting Saturday\, March 14th through Wednesday\, March 18th\, at the Marriott Marquis. \nCongressional City Conference is where local leaders engage on policy\, learn from experts and make connections. Gain the tools you need to lead and build partnerships critical to brighter futures for your city\, town or village. As local leaders engage with the current administration\, hone your advocacy skills and strengthen your local-federal partnership to support your municipality. \nClick here to learn more and register.
URL:https://metroatlantaexchange.org/event/national-league-of-cities-nlc-2026-congressional-city-conference/
LOCATION:Washington Marriot Marquis\, 901 Massachusetts Avenue\, NW\, Washington\, 20001
CATEGORIES:Conferences,In-Person Event,Workforce Developer
ORGANIZER;CN="National League of Cities":MAILTO:info@nlc.org
END:VEVENT
BEGIN:VEVENT
DTSTART;TZID=America/New_York:20260317T080000
DTEND;TZID=America/New_York:20260317T090000
DTSTAMP:20260422T190628
CREATED:20260314T190815Z
LAST-MODIFIED:20260314T190815Z
UID:10036034-1773734400-1773738000@metroatlantaexchange.org
SUMMARY:United Way of Greater Atlanta: Coffee\, Conversations & Community
DESCRIPTION:United Way of Greater Atlanta is hosting Coffee\, Conversations\, & Community on Tuesday\, March 17th\, from 8:00 AM to 9:00 AM\, at the Delta Community Credit Union Conference Center. \nFuel your day with great coffee and even better company at Delta Community Credit Union! Join other young professionals from United Way of Greater Atlanta’s YPL for a morning of conversations and community. Let’s come together for our daily dose of connection and caffeine! This event promises to be a moment full of sharing ideas\, networking\, and collaborating with like-minded professionals who are passionate about impacting our community. Please bring new or gently used children’s books to donate. United Way of Greater Atlanta will be collecting these throughout the event to donate to children in need! \nClick here to learn more and register.
URL:https://metroatlantaexchange.org/event/united-way-of-greater-atlanta-coffee-conversations-community-4/
LOCATION:Delta Community Credit Union Conference Center\, 3300 Riverwood Parkway\, Suite #100\, Atlanta\, GA\, 30339\, United States
CATEGORIES:In-Person Event,Workforce Developer
END:VEVENT
END:VCALENDAR