BEGIN:VCALENDAR
VERSION:2.0
PRODID:-//MAX - ECPv6.15.17.1//NONSGML v1.0//EN
CALSCALE:GREGORIAN
METHOD:PUBLISH
X-ORIGINAL-URL:https://metroatlantaexchange.org
X-WR-CALDESC:Events for MAX
REFRESH-INTERVAL;VALUE=DURATION:PT1H
X-Robots-Tag:noindex
X-PUBLISHED-TTL:PT1H
BEGIN:VTIMEZONE
TZID:America/New_York
BEGIN:DAYLIGHT
TZOFFSETFROM:-0500
TZOFFSETTO:-0400
TZNAME:EDT
DTSTART:20250309T070000
END:DAYLIGHT
BEGIN:STANDARD
TZOFFSETFROM:-0400
TZOFFSETTO:-0500
TZNAME:EST
DTSTART:20251102T060000
END:STANDARD
BEGIN:DAYLIGHT
TZOFFSETFROM:-0500
TZOFFSETTO:-0400
TZNAME:EDT
DTSTART:20260308T070000
END:DAYLIGHT
BEGIN:STANDARD
TZOFFSETFROM:-0400
TZOFFSETTO:-0500
TZNAME:EST
DTSTART:20261101T060000
END:STANDARD
BEGIN:DAYLIGHT
TZOFFSETFROM:-0500
TZOFFSETTO:-0400
TZNAME:EDT
DTSTART:20270314T070000
END:DAYLIGHT
BEGIN:STANDARD
TZOFFSETFROM:-0400
TZOFFSETTO:-0500
TZNAME:EST
DTSTART:20271107T060000
END:STANDARD
END:VTIMEZONE
BEGIN:VEVENT
DTSTART;TZID=America/New_York:20260319T090000
DTEND;TZID=America/New_York:20260319T153000
DTSTAMP:20260422T135639
CREATED:20260302T022557Z
LAST-MODIFIED:20260302T023552Z
UID:10035966-1773910800-1773934200@metroatlantaexchange.org
SUMMARY:Georgia Department of Education: 5th Annual CS4GA Virtual Summit—The Many Faces of CS: Igniting Impact\, Integration\, and Innovation
DESCRIPTION:The Georgia Department of Education is hosting the 5th Annual CS4GA Virtual Summit—The Many Faces of CS: Igniting Impact\, Integration\, and Innovation on Thursday\, March 19th\, from 9:00 AM to 3:30 PM. \nThis is an engagement where educators from across Georgia and beyond will come together to reimagine what computer science can be for every K–12 student. This dynamic summit celebrates the diverse pathways\, identities\, and disciplines that intersect with CS\, empowering teachers\, administrators\, counselors\, and instructional leaders with practical strategies to integrate computing across content areas. \nWhether you are just beginning your CS journey or leading change\, you’ll gain inspiration\, classroom-ready ideas\, and innovative approaches that spark student curiosity\, broaden participation\, and drive real-world impact. \nClick here to learn more and register.
URL:https://metroatlantaexchange.org/event/georgia-department-of-education-5th-annual-cs4ga-virtual-summit-the-many-faces-of-cs-igniting-impact-integration-and-innovation/
LOCATION:GA
CATEGORIES:Educators,Virtual Event
END:VEVENT
BEGIN:VEVENT
DTSTART;TZID=America/New_York:20260319T100000
DTEND;TZID=America/New_York:20260319T120000
DTSTAMP:20260422T135639
CREATED:20260310T182157Z
LAST-MODIFIED:20260310T182229Z
UID:10035974-1773914400-1773921600@metroatlantaexchange.org
SUMMARY:Goodwill of North Georgia: Chase Staffing Open Position Interviews
DESCRIPTION:Goodwill of North Georgia is hosting Chase Staffing Open Position Interviews every Thursday\, from 10:00 AM to 12:00 PM\, at the Cartersville Career Center. \nFor more information\, call 770-276-7036. \nClick here to learn more and register.
URL:https://metroatlantaexchange.org/event/goodwill-of-north-georgia-chase-staffing-open-position-interviews-4/2026-03-19/
LOCATION:Goodwill of North Georgia – Cartersville Career Center\, 929 Joe Frank Harris Parkway\, Cartersville\, GA\, 30120\, United States
CATEGORIES:In-Person Event,Job Seeker
GEO:34.1974793;-84.7941559
X-APPLE-STRUCTURED-LOCATION;VALUE=URI;X-ADDRESS=Goodwill of North Georgia – Cartersville Career Center 929 Joe Frank Harris Parkway Cartersville GA 30120 United States;X-APPLE-RADIUS=500;X-TITLE=929 Joe Frank Harris Parkway:geo:-84.7941559,34.1974793
END:VEVENT
BEGIN:VEVENT
DTSTART;TZID=America/New_York:20260319T100000
DTEND;TZID=America/New_York:20260319T120000
DTSTAMP:20260422T135639
CREATED:20260310T190300Z
LAST-MODIFIED:20260310T190300Z
UID:10036001-1773914400-1773921600@metroatlantaexchange.org
SUMMARY:Employment Seeker Publication\, LLC: In-Person Job Fair
DESCRIPTION:Employment Seeker Publication\, LLC is hosting an In-Person Job Fair on Thursday\, March 19th\, from 10:00 AM to 12:00 PM\, at the Hyatt Regency Suites. \nDon’t miss this day filled with networking\, interviews\, and career opportunities. This event is your chance to meet potential employers face-to-face and make a lasting impression. \nClick here to learn more and register.
URL:https://metroatlantaexchange.org/event/employment-seeker-publication-llc-in-person-job-fair/
LOCATION:Hyatt Regency Suites Marietta\, 2999 Windy Hill Road\, SE\, Marietta\, GA\, 30067\, United States
CATEGORIES:In-Person Event,Job Seeker
END:VEVENT
BEGIN:VEVENT
DTSTART;TZID=America/New_York:20260319T100000
DTEND;TZID=America/New_York:20260319T120000
DTSTAMP:20260422T135639
CREATED:20260310T190630Z
LAST-MODIFIED:20260310T190630Z
UID:10036003-1773914400-1773921600@metroatlantaexchange.org
SUMMARY:Goodwill of North Georgia: Multi-Employer Job Fair
DESCRIPTION:Goodwill of North Georgia is hosting a Multi-Employer Job Fair on Thursday\, March 19th\, from 10:00 AM to 12:00 PM\, at the South DeKalb Career Center. \nFor more information\, call 404-728-8605. \nClick here to learn more and register.
URL:https://metroatlantaexchange.org/event/goodwill-of-north-georgia-multi-employer-job-fair-5/
LOCATION:Goodwill of North Georgia – South DeKalb Career Center\, 1295 Columbia Drive\, Decatur\, GA\, 30032\, United States
CATEGORIES:In-Person Event,Job Seeker
GEO:33.7510576;-84.2656565
X-APPLE-STRUCTURED-LOCATION;VALUE=URI;X-ADDRESS=Goodwill of North Georgia – South DeKalb Career Center 1295 Columbia Drive Decatur GA 30032 United States;X-APPLE-RADIUS=500;X-TITLE=1295 Columbia Drive:geo:-84.2656565,33.7510576
END:VEVENT
BEGIN:VEVENT
DTSTART;TZID=America/New_York:20260319T100000
DTEND;TZID=America/New_York:20260319T130000
DTSTAMP:20260422T135639
CREATED:20260310T185721Z
LAST-MODIFIED:20260310T185721Z
UID:10035999-1773914400-1773925200@metroatlantaexchange.org
SUMMARY:Atlanta Center for Self Sufficiency (ACSS): Spring Career Fair
DESCRIPTION:The Atlanta Center for Self Sufficiency (ACSS) is hosting its Spring Career Fair on Thursday\, March 19th\, from 10:00 AM to 1:00 PM\, at the West Hunter Street Baptist Church. \nConnect with top employers while you explore career opportunities and take the next step in your future. Whether you’re a recent graduate or a seasoned professional\, this event is the perfect place to network\, learn about different industries\, and potentially land your dream job. \nClick here to learn more and register.
URL:https://metroatlantaexchange.org/event/atlanta-center-for-self-sufficiency-acss-spring-career-fair/
LOCATION:West Hunter Street Baptist Church\, 1040 Ralph David Abernathy Boulevard\, Atlanta\, GA\, 30310\, United States
CATEGORIES:In-Person Event,Job Seeker
END:VEVENT
BEGIN:VEVENT
DTSTART;TZID=America/New_York:20260319T100000
DTEND;TZID=America/New_York:20260319T140000
DTSTAMP:20260422T135639
CREATED:20260310T190453Z
LAST-MODIFIED:20260310T190453Z
UID:10036002-1773914400-1773928800@metroatlantaexchange.org
SUMMARY:Georgia Department of Juvenile Justice (DJJ): Gainesville RYDC Career Fair
DESCRIPTION:The Georgia Department of Juvenile Justice (DJJ) is hosting a Gainesville RYDC Career Fair on Thursday\, March 19th\, from 10:00 AM to 2:00 PM\, at the Gainesville RYDC. \nLooking to make a difference? The Georgia Department of Juvenile Justice is seeking Juvenile Correctional Officers\, Probation/Parole Specialists\, Housekeepers\, Food Service Workers\, School Resource Officers\, and Teachers. \nClick here to learn more and register.
URL:https://metroatlantaexchange.org/event/georgia-department-of-juvenile-justice-djj-gainesville-rydc-career-fair/
LOCATION:Georgia Department of Juvenile Justice – Gainesville Office\, 450 Crescent Drive\, Gainesville\, Georgia\, 30501
CATEGORIES:In-Person Event,Job Seeker
END:VEVENT
BEGIN:VEVENT
DTSTART;TZID=America/New_York:20260319T100000
DTEND;TZID=America/New_York:20260319T150000
DTSTAMP:20260422T135639
CREATED:20260310T190849Z
LAST-MODIFIED:20260310T190849Z
UID:10036004-1773914400-1773932400@metroatlantaexchange.org
SUMMARY:Northside Hospital: Cherokee Radiology Interview Day
DESCRIPTION:Northside Hospital is hosting a Cherokee Radiology Interview Day on Thursday\, March 19th\, from 10:00 AM to 3:00 PM\, at Northside Hospital. \nNorthside has numerous Technician roles available within the radiology department to include CT\, MRI\, Mammography\, and Nuclear Medicine. Join this Interview Day to interview for any of these openings at the Atlanta location. \nClick here to learn more and register.
URL:https://metroatlantaexchange.org/event/northside-hospital-cherokee-radiology-interview-day/
LOCATION:Northside Hospital – Cherokee\, 450 Northside Cherokee Boulevard\, Canton\, GA\, 30115\, United States
CATEGORIES:In-Person Event,Job Seeker
END:VEVENT
BEGIN:VEVENT
DTSTART;TZID=America/New_York:20260319T100000
DTEND;TZID=America/New_York:20260319T190000
DTSTAMP:20260422T135639
CREATED:20260310T190005Z
LAST-MODIFIED:20260310T190005Z
UID:10036000-1773914400-1773946800@metroatlantaexchange.org
SUMMARY:CarMax: Hiring Event
DESCRIPTION:CarMax is hosting a Hiring Event on Thursday\, March 19th\, from 10:00 AM to 7:00 PM\, at CarMax. \nWant to join a company with a great culture and opportunities to advance your career? CarMax might be the place for you. CarMax is recognized as one of the Fortune 100 Best Companies to Work For with great pay and benefits\, a 401k match\, car discounts\, and paid time off and paid leave. \nCarMax is hiring for multiple positions including ASE Automotive Technician\, Automotive Inventory Associate\, Automotive Detailer\, Automotive Painter and more. Many of the roles are offering a sign-on bonus! \nClick each position link to learn more and register for the event.
URL:https://metroatlantaexchange.org/event/carmax-hiring-event/
LOCATION:CarMax (McDonough)\, 115 Westridge Industrial Boulevard\, McDonough\, 30253\, United States
CATEGORIES:In-Person Event,Job Seeker
END:VEVENT
BEGIN:VEVENT
DTSTART;TZID=America/New_York:20260319T103000
DTEND;TZID=America/New_York:20260319T133000
DTSTAMP:20260422T135639
CREATED:20260310T191124Z
LAST-MODIFIED:20260310T191124Z
UID:10036005-1773916200-1773927000@metroatlantaexchange.org
SUMMARY:Goodwill of North Georgia: Job Fair
DESCRIPTION:Goodwill of North Georgia is hosting a Job Fair on Thursday\, March 19th\, from 10:30 AM to 1:30 PM\, at the Wimberly Center for Community Development. \nFor more information\, call 706-395-1558. \nClick here to learn more and register.
URL:https://metroatlantaexchange.org/event/goodwill-of-north-georgia-job-fair-8/
LOCATION:Wimberly Center for Community Development\, 163 MLK Jr. Drive\, Winder\, GA\, 30680\, United States
CATEGORIES:In-Person Event,Job Seeker
END:VEVENT
BEGIN:VEVENT
DTSTART;TZID=America/New_York:20260319T120000
DTEND;TZID=America/New_York:20260319T150000
DTSTAMP:20260422T135639
CREATED:20260310T191310Z
LAST-MODIFIED:20260310T191310Z
UID:10036006-1773921600-1773932400@metroatlantaexchange.org
SUMMARY:Clayton State University: Job & Graduate School Fair
DESCRIPTION:Clayton State University is hosting a Job & Graduate School Fair on Thursday\, March 19th\, from 12:00 PM to 3:00 PM\, at Clayton State University – Student Activities Center. \nThis event is open to Clayton State University students and alumni only. Contact randallsnell@clayton.edu with any questions. \nClick here to register.
URL:https://metroatlantaexchange.org/event/clayton-state-university-job-graduate-school-fair/
LOCATION:Clayton State University – Student Activities Center\, 2000 Clayton State Boulevard\, Morrow\, GA\, 30260\, United States
CATEGORIES:In-Person Event,Job Seeker,Student
END:VEVENT
BEGIN:VEVENT
DTSTART;TZID=America/New_York:20260319T140000
DTEND;TZID=America/New_York:20260319T160000
DTSTAMP:20260422T135639
CREATED:20260310T182639Z
LAST-MODIFIED:20260310T182639Z
UID:10035979-1773928800-1773936000@metroatlantaexchange.org
SUMMARY:Goodwill of North Georgia: Spherion Hiring Event
DESCRIPTION:Goodwill of North Georgia is hosting a Spherion Hiring Event every Thursday\, from 2:00 PM to 4:00 PM\, at the Cornelia Career Center. \nFor more information\, call 706-894-4905. \nClick here to learn more and register.
URL:https://metroatlantaexchange.org/event/goodwill-of-north-georgia-spherion-hiring-event-2/2026-03-19/
LOCATION:Goodwill of North Georgia – Cornelia Career Center\, 308 Habersham Hills Circle\, Cornelia\, GA\, 30531\, United States
CATEGORIES:In-Person Event,Job Seeker
END:VEVENT
END:VCALENDAR