BEGIN:VCALENDAR
VERSION:2.0
PRODID:-//MAX - ECPv6.15.17.1//NONSGML v1.0//EN
CALSCALE:GREGORIAN
METHOD:PUBLISH
X-WR-CALNAME:MAX
X-ORIGINAL-URL:https://metroatlantaexchange.org
X-WR-CALDESC:Events for MAX
REFRESH-INTERVAL;VALUE=DURATION:PT1H
X-Robots-Tag:noindex
X-PUBLISHED-TTL:PT1H
BEGIN:VTIMEZONE
TZID:America/New_York
BEGIN:DAYLIGHT
TZOFFSETFROM:-0500
TZOFFSETTO:-0400
TZNAME:EDT
DTSTART:20250309T070000
END:DAYLIGHT
BEGIN:STANDARD
TZOFFSETFROM:-0400
TZOFFSETTO:-0500
TZNAME:EST
DTSTART:20251102T060000
END:STANDARD
BEGIN:DAYLIGHT
TZOFFSETFROM:-0500
TZOFFSETTO:-0400
TZNAME:EDT
DTSTART:20260308T070000
END:DAYLIGHT
BEGIN:STANDARD
TZOFFSETFROM:-0400
TZOFFSETTO:-0500
TZNAME:EST
DTSTART:20261101T060000
END:STANDARD
BEGIN:DAYLIGHT
TZOFFSETFROM:-0500
TZOFFSETTO:-0400
TZNAME:EDT
DTSTART:20270314T070000
END:DAYLIGHT
BEGIN:STANDARD
TZOFFSETFROM:-0400
TZOFFSETTO:-0500
TZNAME:EST
DTSTART:20271107T060000
END:STANDARD
END:VTIMEZONE
BEGIN:VEVENT
DTSTART;TZID=America/New_York:20260325T090000
DTEND;TZID=America/New_York:20260325T100000
DTSTAMP:20260422T141438
CREATED:20250902T220734Z
LAST-MODIFIED:20250902T220734Z
UID:10035276-1774429200-1774432800@metroatlantaexchange.org
SUMMARY:Goodwill of North Georgia: NorthStar Testing Session
DESCRIPTION:Goodwill of North Georgia is hosting a NorthStar Testing Session every Wednesday\, from 9:00 AM to 10:00 AM\, at the Woodstock Career Center. \nFor more information\, call 770-874-0901. \nClick here to learn more and register.
URL:https://metroatlantaexchange.org/event/goodwill-of-north-georgia-northstar-testing-session/2026-03-25/
LOCATION:Goodwill of North Georgia – Woodstock Career Center\, 9425 Highway 92\, Woodstock\, GA\, 30188\, United States
CATEGORIES:Career Development,In-Person Event,Job Seeker
GEO:34.0872637;-84.5325399
X-APPLE-STRUCTURED-LOCATION;VALUE=URI;X-ADDRESS=Goodwill of North Georgia – Woodstock Career Center 9425 Highway 92 Woodstock GA 30188 United States;X-APPLE-RADIUS=500;X-TITLE=9425 Highway 92:geo:-84.5325399,34.0872637
END:VEVENT
BEGIN:VEVENT
DTSTART;TZID=America/New_York:20260325T090000
DTEND;TZID=America/New_York:20260325T120000
DTSTAMP:20260422T141438
CREATED:20260314T191417Z
LAST-MODIFIED:20260314T191417Z
UID:10036038-1774429200-1774440000@metroatlantaexchange.org
SUMMARY:Georgia Center for Nonprofits: Management Accelerator - Managing Teams
DESCRIPTION:The Georgia Center for Nonprofits is hosting a Management Accelerator: Managing Teams event on Wednesday\, March 25th\, starting at 9:00 AM. \nThis Management Acceleratorcovers a comprehensive set of skills\, divided into three management areas: individuals\, teams\, and strategy. Together\, these three Accelerator modules will equip nonprofit managers to succeed in a demanding environment and deliver value for the organization quickly. The Managing Teams module will focus on the skills needed to become effective and inclusive leaders who are capable of aligning and building high-impact teams even in times of uncertainty and change. \nClick here to learn more and register.
URL:https://metroatlantaexchange.org/event/georgia-center-for-nonprofits-management-accelerator-managing-teams/
LOCATION:GA
CATEGORIES:Virtual Event,Workforce Developer
END:VEVENT
BEGIN:VEVENT
DTSTART;TZID=America/New_York:20260325T100000
DTEND;TZID=America/New_York:20260325T130000
DTSTAMP:20260422T141438
CREATED:20260310T192737Z
LAST-MODIFIED:20260310T192737Z
UID:10036015-1774432800-1774443600@metroatlantaexchange.org
SUMMARY:Goodwill of North Georgia: Spring Into Your Career Fair
DESCRIPTION:Goodwill of North Georgia is hosting a Spring Into Your Career Fair on Wednesday\, March 25th\, from 10:00 AM to 1:00 PM\, at the Decatur Career Center. \nFor more information\, call 404-554-9600. \nClick here to learn more and register.
URL:https://metroatlantaexchange.org/event/goodwill-of-north-georgia-spring-into-your-career-fair/
LOCATION:Goodwill of North Georgia – Decatur Career Center\, 2201 Lawrenceville Highway\, Suite 200\, Decatur\, GA\, 30033\, United States
CATEGORIES:In-Person Event,Job Seeker
GEO:33.8114213;-84.2699313
X-APPLE-STRUCTURED-LOCATION;VALUE=URI;X-ADDRESS=Goodwill of North Georgia – Decatur Career Center 2201 Lawrenceville Highway Suite 200 Decatur GA 30033 United States;X-APPLE-RADIUS=500;X-TITLE=2201 Lawrenceville Highway\, Suite 200:geo:-84.2699313,33.8114213
END:VEVENT
BEGIN:VEVENT
DTSTART;TZID=America/New_York:20260325T110000
DTEND;TZID=America/New_York:20260325T150000
DTSTAMP:20260422T141438
CREATED:20260310T192905Z
LAST-MODIFIED:20260310T192905Z
UID:10036016-1774436400-1774450800@metroatlantaexchange.org
SUMMARY:CareerEco: Current and Former Student Athlete Virtual Career Fair
DESCRIPTION:CareerEco is hosting a Current and Former Student Athlete Virtual Career Fair on Wednesday\, March 25th\, from 11:00 AM to 3:00 PM. \nThis virtual career fair is designed specifically for current and former athletes ready to channel their discipline\, leadership\, and team spirit into meaningful careers beyond the game. Whether you’re exploring new fields or leveling up in your current path\, this event connects you with employers who recognize and value the unique strengths of athletes. \nClick here to learn more and register.
URL:https://metroatlantaexchange.org/event/careereco-current-and-former-student-athlete-virtual-career-fair/
LOCATION:GA
CATEGORIES:Job Seeker,Virtual Event
ORGANIZER;CN="CareerEco":MAILTO:Events@CareerEco.com
END:VEVENT
BEGIN:VEVENT
DTSTART;TZID=America/New_York:20260325T120000
DTEND;TZID=America/New_York:20260325T140000
DTSTAMP:20260422T141438
CREATED:20260310T193104Z
LAST-MODIFIED:20260310T193104Z
UID:10036017-1774440000-1774447200@metroatlantaexchange.org
SUMMARY:Helmets to Boots Veteran Benefits Consulting: Veterans Job Fair and Military Appreciation Night
DESCRIPTION:Helmets to Boots Veteran Benefits Consulting is hosting a Veterans Job Fair and Military Appreciation Night on Wednesday\, March 25th\, from 12:00 PM to 2:00 PM\, at the Gateway Center Arena. \nDon’t miss this exciting event with opportunities to connect with top employers and veteran-serving organizations dedicated to hiring. This is the perfect opportunity for transitioning service members\, veterans and military spouses\, and community job seekers. The first 150 veterans/families will receive free tickets to the Skyhawks final home game. \nClick here to learn more and register.
URL:https://metroatlantaexchange.org/event/helmets-to-boots-veteran-benefits-consulting-veterans-job-fair-and-military-appreciation-night/
LOCATION:Gateway Center Arena\, 2330 Convention Center Concourse\, College Park\, GA\, 30337\, United States
CATEGORIES:In-Person Event,Job Seeker,Veterans/Military
END:VEVENT
BEGIN:VEVENT
DTSTART;TZID=America/New_York:20260325T120000
DTEND;TZID=America/New_York:20260325T160000
DTSTAMP:20260422T141438
CREATED:20260310T193215Z
LAST-MODIFIED:20260310T193215Z
UID:10036018-1774440000-1774454400@metroatlantaexchange.org
SUMMARY:Hiring Our Heroes: Virtual Career Summit
DESCRIPTION:Hiring Our Heroes is hosting a Virtual Career Summit on Wednesday\, March 25th\, from 12:00 PM to 4:00 PM. \nRegister now for this virtual hiring fair featuring on-demand career preparation workshops and networking with dozens of employers across multiple industries! Employers are looking for veteran and military spouse talent and hiring now for thousands of open positions. Whether you’re looking for work now or exploring future possibilities\, representatives are ready to meet you and answer your questions. This event is open to transitioning service members\, veterans\, military spouses\, dependent military children\, and military caregivers. \nClick here to learn more and register.
URL:https://metroatlantaexchange.org/event/hiring-our-heroes-virtual-career-summit-2/
LOCATION:GA
CATEGORIES:Job Seeker,Veterans/Military,Virtual Event
END:VEVENT
BEGIN:VEVENT
DTSTART;TZID=America/New_York:20260325T180000
DTEND;TZID=America/New_York:20260325T200000
DTSTAMP:20260422T141438
CREATED:20260310T193439Z
LAST-MODIFIED:20260310T193439Z
UID:10036019-1774461600-1774468800@metroatlantaexchange.org
SUMMARY:United Career Fairs: Atlanta Career Fair
DESCRIPTION:United Career Fairs is hosting an Atlanta Career Fair on Wednesday\, March 25th\, starting at 6:00 PM\, at the DoubleTree by Hilton – Atlanta Perimeter. \nThis in-person hiring event for Atlanta and the surrounding areas is designed to connect job seekers with hiring managers from several companies in one location. The job fair spans professional level opportunities in several industries. Hiring managers from multiple disciplines are available to accept your resume and begin the interview process.  Job seekers enjoy bypassing a phone interview and engage in a more personal interaction with the hiring managers and influencers. \nClick here to learn more and register.
URL:https://metroatlantaexchange.org/event/united-career-fairs-atlanta-career-fair-5/
LOCATION:DoubleTree By Hilton Atlanta Perimeter Dunwoody\, 4386 Chamblee Dunwoody Road\, Atlanta\, GA\, 30341\, United States
CATEGORIES:In-Person Event,Job Seeker
GEO:33.9193213;-84.3168602
X-APPLE-STRUCTURED-LOCATION;VALUE=URI;X-ADDRESS=DoubleTree By Hilton Atlanta Perimeter Dunwoody 4386 Chamblee Dunwoody Road Atlanta GA 30341 United States;X-APPLE-RADIUS=500;X-TITLE=4386 Chamblee Dunwoody Road:geo:-84.3168602,33.9193213
END:VEVENT
END:VCALENDAR