BEGIN:VCALENDAR
VERSION:2.0
PRODID:-//MAX - ECPv6.15.17.1//NONSGML v1.0//EN
CALSCALE:GREGORIAN
METHOD:PUBLISH
X-WR-CALNAME:MAX
X-ORIGINAL-URL:https://metroatlantaexchange.org
X-WR-CALDESC:Events for MAX
REFRESH-INTERVAL;VALUE=DURATION:PT1H
X-Robots-Tag:noindex
X-PUBLISHED-TTL:PT1H
BEGIN:VTIMEZONE
TZID:America/New_York
BEGIN:DAYLIGHT
TZOFFSETFROM:-0500
TZOFFSETTO:-0400
TZNAME:EDT
DTSTART:20250309T070000
END:DAYLIGHT
BEGIN:STANDARD
TZOFFSETFROM:-0400
TZOFFSETTO:-0500
TZNAME:EST
DTSTART:20251102T060000
END:STANDARD
BEGIN:DAYLIGHT
TZOFFSETFROM:-0500
TZOFFSETTO:-0400
TZNAME:EDT
DTSTART:20260308T070000
END:DAYLIGHT
BEGIN:STANDARD
TZOFFSETFROM:-0400
TZOFFSETTO:-0500
TZNAME:EST
DTSTART:20261101T060000
END:STANDARD
BEGIN:DAYLIGHT
TZOFFSETFROM:-0500
TZOFFSETTO:-0400
TZNAME:EDT
DTSTART:20270314T070000
END:DAYLIGHT
BEGIN:STANDARD
TZOFFSETFROM:-0400
TZOFFSETTO:-0500
TZNAME:EST
DTSTART:20271107T060000
END:STANDARD
END:VTIMEZONE
BEGIN:VEVENT
DTSTART;TZID=America/New_York:20260404T120000
DTEND;TZID=America/New_York:20260404T170000
DTSTAMP:20260422T141440
CREATED:20260216T022406Z
LAST-MODIFIED:20260216T022406Z
UID:10035963-1775304000-1775322000@metroatlantaexchange.org
SUMMARY:Positive Outreach Development Society Inc.: P.O.W.E.R. Conference Atlanta’s Reentry Simulation & PICS Awareness Event
DESCRIPTION:The Positive Outreach Development Society Inc. is hosting the P.O.W.E.R. Conference Atlanta’s Reentry Simulation & PICS Awareness Event on Saturday\, April 4th\, from 12:00 PM to 5:00 PM\, at Atlanta City Hall. \nThis event is especially meaningful because it is being led and organized by individuals who are currently incarcerated\, in collaboration with community partners. Their leadership\, vision\, and lived experience are at the center of the conference\, making this a powerful and rare opportunity to support reentry efforts that are truly community-driven. \nThe P.O.W.E.R. Conference (Positive Outreach Will Enhance Reentry) is designed to: \n(1) increase awareness of Post-Incarceration Syndrome (PICS)\, \n(2) provide an immersive reentry simulation experience\, \n(3) bring together workforce\, education\, nonprofit\, employer\, and justice-impacted stakeholders\, and \n(4) spark collaboration that leads to real pathways for employment\, support\, and reintegration. \nClick here to learn more and register.
URL:https://metroatlantaexchange.org/event/positive-outreach-development-society-inc-p-o-w-e-r-conference-atlantas-reentry-simulation-pics-awareness-event/
LOCATION:Atlanta City Hall\, 55 Trinity Avenue\, SW\, Atlanta\, GA\, 30303\, United States
CATEGORIES:In-Person Event,Workforce Developer
END:VEVENT
END:VCALENDAR