BEGIN:VCALENDAR
VERSION:2.0
PRODID:-//MAX - ECPv6.15.17.1//NONSGML v1.0//EN
CALSCALE:GREGORIAN
METHOD:PUBLISH
X-ORIGINAL-URL:https://metroatlantaexchange.org
X-WR-CALDESC:Events for MAX
REFRESH-INTERVAL;VALUE=DURATION:PT1H
X-Robots-Tag:noindex
X-PUBLISHED-TTL:PT1H
BEGIN:VTIMEZONE
TZID:America/New_York
BEGIN:DAYLIGHT
TZOFFSETFROM:-0500
TZOFFSETTO:-0400
TZNAME:EDT
DTSTART:20250309T070000
END:DAYLIGHT
BEGIN:STANDARD
TZOFFSETFROM:-0400
TZOFFSETTO:-0500
TZNAME:EST
DTSTART:20251102T060000
END:STANDARD
BEGIN:DAYLIGHT
TZOFFSETFROM:-0500
TZOFFSETTO:-0400
TZNAME:EDT
DTSTART:20260308T070000
END:DAYLIGHT
BEGIN:STANDARD
TZOFFSETFROM:-0400
TZOFFSETTO:-0500
TZNAME:EST
DTSTART:20261101T060000
END:STANDARD
BEGIN:DAYLIGHT
TZOFFSETFROM:-0500
TZOFFSETTO:-0400
TZNAME:EDT
DTSTART:20270314T070000
END:DAYLIGHT
BEGIN:STANDARD
TZOFFSETFROM:-0400
TZOFFSETTO:-0500
TZNAME:EST
DTSTART:20271107T060000
END:STANDARD
END:VTIMEZONE
BEGIN:VEVENT
DTSTART;TZID=America/New_York:20260413T150000
DTEND;TZID=America/New_York:20260413T160000
DTSTAMP:20260422T104631
CREATED:20260406T201759Z
LAST-MODIFIED:20260406T201759Z
UID:10036183-1776092400-1776096000@metroatlantaexchange.org
SUMMARY:Hiring Our Heroes: Strengthen Your Resume with IBM SkillsBuild
DESCRIPTION:Hiring Our Heroes is hosting a Strengthen Your Resume with IBM SkillsBuild webinar on Monday\, April 13th\, starting at 3:00 PM. \nJoin Hiring Our Heroes and IBM to learn how to strengthen your resume using the IBM SkillsBuild program. SkillsBuild is a free global learning platform with a curated selection of courses and resources designed to help you build in-demand skills. During this interactive workshop\, HOH staff will help you build an effective\, polished resume\, then provide real-time feedback to help ensure your resume stands out for upcoming hiring events. \nClick here to register via Zoom.
URL:https://metroatlantaexchange.org/event/hiring-our-heroes-strengthen-your-resume-with-ibm-skillsbuild/
LOCATION:GA
CATEGORIES:Career Development,Job Seeker,Veterans/Military,Virtual Event
END:VEVENT
BEGIN:VEVENT
DTSTART;TZID=America/New_York:20260413T153000
DTEND;TZID=America/New_York:20260413T163000
DTSTAMP:20260422T104631
CREATED:20260409T143322Z
LAST-MODIFIED:20260409T143322Z
UID:10036252-1776094200-1776097800@metroatlantaexchange.org
SUMMARY:Manufacturing Institute: Heroes MAKE America for Manufacturers
DESCRIPTION:The Manufacturing Institute is hosting a Heroes MAKE America for Manufacturers webinar on Monday\, April 13th\, from 3:30 PM to 4:30 PM. \nThis session will offer participants an overview of the Heroes MAKE America initiative as well as give insight on how to connect with the incredibly diverse talent pool of veterans and military spouses. Resources will be shared on how to help prepare your company to recruit\, hire\, and retain this talent. \nClick here to learn more and register.
URL:https://metroatlantaexchange.org/event/manufacturing-institute-heroes-make-america-for-manufacturers-3/
LOCATION:GA
CATEGORIES:Virtual Event,Workforce Developer
END:VEVENT
END:VCALENDAR