BEGIN:VCALENDAR
VERSION:2.0
PRODID:-//MAX - ECPv6.15.17.1//NONSGML v1.0//EN
CALSCALE:GREGORIAN
METHOD:PUBLISH
X-ORIGINAL-URL:https://metroatlantaexchange.org
X-WR-CALDESC:Events for MAX
REFRESH-INTERVAL;VALUE=DURATION:PT1H
X-Robots-Tag:noindex
X-PUBLISHED-TTL:PT1H
BEGIN:VTIMEZONE
TZID:America/New_York
BEGIN:DAYLIGHT
TZOFFSETFROM:-0500
TZOFFSETTO:-0400
TZNAME:EDT
DTSTART:20250309T070000
END:DAYLIGHT
BEGIN:STANDARD
TZOFFSETFROM:-0400
TZOFFSETTO:-0500
TZNAME:EST
DTSTART:20251102T060000
END:STANDARD
BEGIN:DAYLIGHT
TZOFFSETFROM:-0500
TZOFFSETTO:-0400
TZNAME:EDT
DTSTART:20260308T070000
END:DAYLIGHT
BEGIN:STANDARD
TZOFFSETFROM:-0400
TZOFFSETTO:-0500
TZNAME:EST
DTSTART:20261101T060000
END:STANDARD
BEGIN:DAYLIGHT
TZOFFSETFROM:-0500
TZOFFSETTO:-0400
TZNAME:EDT
DTSTART:20270314T070000
END:DAYLIGHT
BEGIN:STANDARD
TZOFFSETFROM:-0400
TZOFFSETTO:-0500
TZNAME:EST
DTSTART:20271107T060000
END:STANDARD
END:VTIMEZONE
BEGIN:VEVENT
DTSTART;TZID=America/New_York:20260413T080000
DTEND;TZID=America/New_York:20260415T170000
DTSTAMP:20260422T135612
CREATED:20260409T143107Z
LAST-MODIFIED:20260409T143107Z
UID:10036251-1776067200-1776272400@metroatlantaexchange.org
SUMMARY:Jobs for the Future (JFF): ASU + GSV Summit 2026
DESCRIPTION:Jobs for the Future (JFF) is hosting the ASU + GSV Summit 2026 starting Monday\, April 13th through Wednesday\, April 15th\, at the Manchester Grand Hyatt – Bankers Hill Room. \nJobs for the Future (JFF) returns ready for three days of bold ideas\, practical insights\, and meaningful connections to advance the future of education and work. As a proud summit sponsor\, JFF is excited to reconnect with longtime collaborators and engage with trailblazers from across the learn-and-work ecosystem. This event will challenge assumptions\, surface breakthrough solutions\, and advance a future where opportunity has no limits\, and every learner and worker can navigate a clear\, supported pathway to success. \nClick here to learn more and register.
URL:https://metroatlantaexchange.org/event/jobs-for-the-future-jff-asu-gsv-summit-2026/
LOCATION:Manchester Grand Hyatt\, 1 Market Place\, San Diego\, CA\, 92101\, United States
CATEGORIES:Conferences,In-Person Event,Workforce Developer
END:VEVENT
BEGIN:VEVENT
DTSTART;TZID=America/New_York:20260414T081500
DTEND;TZID=America/New_York:20260414T093000
DTSTAMP:20260422T135612
CREATED:20260408T212928Z
LAST-MODIFIED:20260408T212928Z
UID:10036233-1776154500-1776159000@metroatlantaexchange.org
SUMMARY:Greater Hall Chamber of Commerce: Small Business Seminar - Future-Ready Hall County
DESCRIPTION:The Greater Hall Chamber of Commerce is hosting a Small Business Seminar: Future-Ready Hall County on Tuesday\, April 14th\, from 8:15 AM to 9:30 AM\, at the Greater Hall Chamber of Commerce. \nFuture-Ready Hall County helps small business owners move from AI curiosity to AI confidence. In this engaging session\, Renee Hayes and Tai Anderson introduce the basics of AI and demonstrate accessible tools that can drive growth\, increase efficiency\, and sharpen decision-making. Walk away with practical steps to future-proof your North Georgia business. \nClick here to learn more and register.
URL:https://metroatlantaexchange.org/event/greater-hall-chamber-of-commerce-small-business-seminar-future-ready-hall-county/
LOCATION:Greater Hall Chamber of Commerce (Gainesville)\, 230 E.E. Butler Parkway\, Gainesville\, 30501\, United States
CATEGORIES:In-Person Event,Workforce Developer
END:VEVENT
BEGIN:VEVENT
DTSTART;TZID=America/New_York:20260414T100000
DTEND;TZID=America/New_York:20260414T110000
DTSTAMP:20260422T135612
CREATED:20260406T060813Z
LAST-MODIFIED:20260406T060813Z
UID:10036046-1776160800-1776164400@metroatlantaexchange.org
SUMMARY:CareerRise: Information Session on Request for Proposals for Women’s Perspective Research
DESCRIPTION:CareerRise is hosting an Information Session on its Request for Proposals for Women’s Perspective Research on Tuesday\, April 14th\, at 10:00 AM. \nCareerRise seeks proposals from qualified consultants or firms to conduct qualitative research exploring women’s perceptions and experiences related to non-traditional occupations (NTOs) — including careers in construction\, skilled trades\, and manufacturing. \nClick here to register.
URL:https://metroatlantaexchange.org/event/careerrise-information-session-on-request-for-proposals-for-womens-perspective-research/
LOCATION:GA
CATEGORIES:Virtual Event,Workforce Developer
END:VEVENT
BEGIN:VEVENT
DTSTART;TZID=America/New_York:20260414T100000
DTEND;TZID=America/New_York:20260414T130000
DTSTAMP:20260422T135612
CREATED:20260406T153044Z
LAST-MODIFIED:20260406T153044Z
UID:10036073-1776160800-1776171600@metroatlantaexchange.org
SUMMARY:Goodwill of North Georgia: Job Fair
DESCRIPTION:Goodwill of North Georgia is hosting a Job Fair on Tuesday\, April 14th\, from 10:00 AM to 1:00 PM\, at the Cornelia Career Center. \nFor more information\, call 706-894-4905. \nClick here to learn more and register.
URL:https://metroatlantaexchange.org/event/goodwill-of-north-georgia-job-fair-15/
LOCATION:Goodwill of North Georgia – Cornelia Career Center\, 308 Habersham Hills Circle\, Cornelia\, GA\, 30531\, United States
CATEGORIES:In-Person Event,Job Seeker
END:VEVENT
BEGIN:VEVENT
DTSTART;TZID=America/New_York:20260414T100000
DTEND;TZID=America/New_York:20260414T130000
DTSTAMP:20260422T135612
CREATED:20260406T153225Z
LAST-MODIFIED:20260406T153225Z
UID:10036074-1776160800-1776171600@metroatlantaexchange.org
SUMMARY:Goodwill of North Georgia: Job Fair
DESCRIPTION:Goodwill of North Georgia is hosting a Job Fair on Tuesday\, April 14th\, from 10:00 AM to 1:00 PM\, at the Old National Career Center. \nFor more information\, call 678-554-0412. \nClick here to learn more and register.
URL:https://metroatlantaexchange.org/event/goodwill-of-north-georgia-job-fair-16/
LOCATION:Goodwill of North Georgia – Old National Career Center\, 6175 Old National Highway\, Suite 120\, Atlanta\, GA\, 30349\, United States
CATEGORIES:In-Person Event,Job Seeker
END:VEVENT
BEGIN:VEVENT
DTSTART;TZID=America/New_York:20260414T100000
DTEND;TZID=America/New_York:20260414T160000
DTSTAMP:20260422T135612
CREATED:20260406T201541Z
LAST-MODIFIED:20260406T201541Z
UID:10036182-1776160800-1776182400@metroatlantaexchange.org
SUMMARY:Goodwill of North Georgia: Supply Chain Management Skills Orientation
DESCRIPTION:Goodwill of North Georgia is hosting a Supply Chain Management Skills Orientation on Monday\, April 13th and Tuesday\, April 14th\, from 10:00 AM to 4:00 PM\, at the East Athens Career Center. \nFor more information\, call 706-395-1558. Click here to learn more and register.
URL:https://metroatlantaexchange.org/event/goodwill-of-north-georgia-supply-chain-management-skills-orientation-2/2026-04-14/
LOCATION:Goodwill of North Georgia – East Athens Career Center\, 4070 Lexington Road\, Athens\, GA\, 30605\, United States
CATEGORIES:Career Development,In-Person Event,Job Seeker
END:VEVENT
BEGIN:VEVENT
DTSTART;TZID=America/New_York:20260414T120000
DTEND;TZID=America/New_York:20260416T130000
DTSTAMP:20260422T135612
CREATED:20260406T201957Z
LAST-MODIFIED:20260406T201957Z
UID:10036184-1776168000-1776344400@metroatlantaexchange.org
SUMMARY:Urban League of Greater Atlanta: Urban Tech Jobs Program - TechTHRIVE Workshop
DESCRIPTION:The Urban League of Greater Atlanta is hosting an Urban Tech Jobs Program – TechTHRIVE Workshop starting Tuesday\, April 14th through Thursday\, April 16th\, from 12:00 PM to 1:00 PM. \nIn just three one-hour sessions\, participants will explore high-growth tech career pathways\, in-demand certifications\, AI tools\, and gain essential resume and interview skills. Perfect for beginners\, this workshop gives participants the foundation to get started in a tech career. Upon completion\, graduates will receive a free Google Coursera license to continue building skills and receive certificates in IT Support\, Cybersecurity\, Data Analytics\, Digital Markets\, Cloud Computing\, and more. \nClick here to register. For more information\, contact dbulls@ulgatl.org.
URL:https://metroatlantaexchange.org/event/urban-league-of-greater-atlanta-urban-tech-jobs-program-techthrive-workshop/
LOCATION:GA
CATEGORIES:Career Development,In-Person Event,Job Seeker
END:VEVENT
BEGIN:VEVENT
DTSTART;TZID=America/New_York:20260414T130000
DTEND;TZID=America/New_York:20260414T140000
DTSTAMP:20260422T135612
CREATED:20260406T202134Z
LAST-MODIFIED:20260406T202134Z
UID:10036185-1776171600-1776175200@metroatlantaexchange.org
SUMMARY:Hiring Our Heroes: Employer Spotlight - HCA Healthcare
DESCRIPTION:Hiring Our Heroes is hosting an Employer Spotlight: HCA Healthcare on Tuesday\, April 14th\, starting at 1:00 PM. \nJoin HOH for an employer spotlight with HCA Healthcare\, a healthcare company committed to supporting veterans\, transitioning service members\, and military spouses. Learn about career paths\, military hiring initiatives\, and how to navigate opportunities within the company. Bring your questions for live Q&A! \nClick here to register via Zoom.
URL:https://metroatlantaexchange.org/event/hiring-our-heroes-employer-spotlight-hca-healthcare/
LOCATION:GA
CATEGORIES:Career Development,Job Seeker,Veterans/Military,Virtual Event
END:VEVENT
BEGIN:VEVENT
DTSTART;TZID=America/New_York:20260414T130000
DTEND;TZID=America/New_York:20260414T140000
DTSTAMP:20260422T135612
CREATED:20260406T202343Z
LAST-MODIFIED:20260406T202343Z
UID:10036186-1776171600-1776175200@metroatlantaexchange.org
SUMMARY:U.S. Patent and Trademark Office (USPTO): Day in the Life of a USPTO Patent Examiner
DESCRIPTION:The U.S. Patent and Trademark Office (USPTO) is hosting a webinar on the Day in the Life of a USPTO Patent Examiner on Tuesday\, April 14th\, from 1:00 PM to 2:00 PM. Do you want a rewarding career? \nDo you want to use your STEM background to make an impact on the protection of intellectual property and bring ideas to market? Are you interested in public service while shaping the future of patent examination and advancing key processes? If you answered yes to any of these questions\, you may belong at the USPTO as a patent examiner! During this event\, you’ll have the opportunity to learn more about the USPTO and the patent examiner position\, meet with the USPTO team\, and how to apply. \nClick here to learn more and register.
URL:https://metroatlantaexchange.org/event/u-s-patent-and-trademark-office-uspto-day-in-the-life-of-a-uspto-patent-examiner-2/
LOCATION:GA
CATEGORIES:Career Development,Virtual Event
END:VEVENT
BEGIN:VEVENT
DTSTART;TZID=America/New_York:20260414T150000
DTEND;TZID=America/New_York:20260414T160000
DTSTAMP:20260422T135612
CREATED:20260408T170325Z
LAST-MODIFIED:20260408T170325Z
UID:10036187-1776178800-1776182400@metroatlantaexchange.org
SUMMARY:Hiring Our Heroes: Virtual Amplify Essentials - Hiring Fair Prep
DESCRIPTION:Hiring Our Heroes is hosting a Virtual Amplify Essentials: Hiring Fair Prep on Tuesday\, April 14th\, starting at 3:00 PM. \nEngage in workshops and interactive sessions designed to support your career goal. Topics include professional branding\, resume support\, interview techniques\, and networking. Amplify attendees will leave the event feeling prepared and confident for the Virtual Hiring Fair the next day. \nClick here to register via Zoom.
URL:https://metroatlantaexchange.org/event/hiring-our-heroes-virtual-amplify-essentials-hiring-fair-prep/
LOCATION:GA
CATEGORIES:Career Development,Job Seeker,Veterans/Military,Virtual Event
END:VEVENT
BEGIN:VEVENT
DTSTART;TZID=America/New_York:20260414T163000
DTEND;TZID=America/New_York:20260414T173000
DTSTAMP:20260422T135612
CREATED:20260406T191925Z
LAST-MODIFIED:20260406T191925Z
UID:10036127-1776184200-1776187800@metroatlantaexchange.org
SUMMARY:Fulton County Library System: Professional Resume and Cover Letter Class
DESCRIPTION:The Fulton County Library System hosts a Professional Resume and Cover Letter class on Tuesdays\, from 4:30 PM to 5:30 PM\, at the Dogwood Branch. \nThis event will provide tips and strategies for creating a standout resume and cover letter and it is free and open to the public. \nClick here for a flyer.
URL:https://metroatlantaexchange.org/event/fulton-county-library-system-professional-resume-and-cover-letter-class/2026-04-14/
LOCATION:Dogwood Branch\, 1838 Donald Lee Hollowell Parkway\, NW\, Atlanta\, GA\, 30318\, United States
CATEGORIES:Career Development,In-Person Event,Job Seeker
END:VEVENT
BEGIN:VEVENT
DTSTART;TZID=America/New_York:20260414T163000
DTEND;TZID=America/New_York:20260414T180000
DTSTAMP:20260422T135613
CREATED:20260406T154435Z
LAST-MODIFIED:20260406T154435Z
UID:10036075-1776184200-1776189600@metroatlantaexchange.org
SUMMARY:Fulton County Schools (FCS): Special Education Virtual Career Fair
DESCRIPTION:Fulton County Schools (FCS) is hosting a Special Education Virtual Career Fair on Tuesday\, April 14th\, from 4:30 PM to 6:00 PM. \nDuring this event\, participants will have the opportunity to speak with representatives from FCS about available positions focused on Services for Exceptional Children. FCS offers competitive salaries\, world-class training\, opportunities for growth\, employee wellness programs and more. \nClick here to learn more and register.
URL:https://metroatlantaexchange.org/event/fulton-county-schools-fcs-special-education-virtual-career-fair/
LOCATION:GA
CATEGORIES:Educators,Job Seeker,Virtual Event
END:VEVENT
BEGIN:VEVENT
DTSTART;TZID=America/New_York:20260414T173000
DTEND;TZID=America/New_York:20260414T203000
DTSTAMP:20260422T135613
CREATED:20260408T213142Z
LAST-MODIFIED:20260408T213142Z
UID:10036234-1776187800-1776198600@metroatlantaexchange.org
SUMMARY:Partnership for Southern Equity: Power to Stay - A People's Charette
DESCRIPTION:The Partnership for Southern Equity is hosting Power to Stay: A People’s Charette on Tuesday\, April 14th\, from 5:30 PM to 8:30 PM\, at the Partnership for Southern Equity. \nAs the World Cup rapidly approaches and City of Atlanta leaders prepare to make several big decisions that will impact Atlanta’s south and westside neighborhoods for generations to come. What does that mean for your family? How will you leverage your power to stay and co-design the neighborhood you dream of? Join PSE for this People’s Charette\, to put your imagination to work for your family and your community. Learn what others are doing to realize their dreams and prepare to organize and act for the accelerating change to benefit legacy residents. Fuel your body and soul so you can flex those civic muscles! Every participant will leave with new resources\, relationships and energy. \nClick here to register. Click here for a flyer.
URL:https://metroatlantaexchange.org/event/partnership-for-southern-equity-power-to-stay-a-peoples-charette/
LOCATION:Partnership for Southern Equity\, 667 Fairburn Road\, NW\, Atlanta\, GA\, 30331\, United States
CATEGORIES:In-Person Event,Workforce Developer
END:VEVENT
BEGIN:VEVENT
DTSTART;TZID=America/New_York:20260414T180000
DTEND;TZID=America/New_York:20260414T190000
DTSTAMP:20260422T135613
CREATED:20260406T192331Z
LAST-MODIFIED:20260406T192331Z
UID:10036136-1776189600-1776193200@metroatlantaexchange.org
SUMMARY:Fulton County Library System: Computer Class
DESCRIPTION:The Fulton County Library System is hosting a Computer Class every Tuesday\, from 6:00 PM to 7:00 PM\, at the Gladys S. Dennard Library. \nJoin an exciting session designed to boost your digital skills! Whether you’re looking to master your computer\, navigate the internet\, or make the most of your mobile devices and e-readers. \nClick here to learn more and register.
URL:https://metroatlantaexchange.org/event/fulton-county-library-system-computer-class-3/2026-04-14/
LOCATION:Gladys S. Dennard Library\, 4055 Flat Shoals Road\, Union City\, GA\, 30291\, United States
CATEGORIES:Career Development,In-Person Event,Job Seeker
END:VEVENT
BEGIN:VEVENT
DTSTART;TZID=America/New_York:20260414T190000
DTEND;TZID=America/New_York:20260414T200000
DTSTAMP:20260422T135613
CREATED:20260408T170456Z
LAST-MODIFIED:20260408T170456Z
UID:10036188-1776193200-1776196800@metroatlantaexchange.org
SUMMARY:Hiring Our Heroes: SkillBridge Fellowships Information Session
DESCRIPTION:Hiring Our Heroes is hosting a SkillBridge Fellowships Information Session on Tuesday\, April 14th\, starting at 7:00 PM. \nTransitioning service members are invited to learn more about our SkillBridge fellowships\, which offer professional training and hands-on experience in the civilian workforce. These programs are designed to help you transition smoothly into a meaningful civilian career. \nClick here to register via Zoom.
URL:https://metroatlantaexchange.org/event/hiring-our-heroes-skillbridge-fellowships-information-session-6/
LOCATION:GA
CATEGORIES:Career Development,Job Seeker,Veterans/Military,Virtual Event
END:VEVENT
END:VCALENDAR