BEGIN:VCALENDAR
VERSION:2.0
PRODID:-//MAX - ECPv6.15.17.1//NONSGML v1.0//EN
CALSCALE:GREGORIAN
METHOD:PUBLISH
X-ORIGINAL-URL:https://metroatlantaexchange.org
X-WR-CALDESC:Events for MAX
REFRESH-INTERVAL;VALUE=DURATION:PT1H
X-Robots-Tag:noindex
X-PUBLISHED-TTL:PT1H
BEGIN:VTIMEZONE
TZID:America/New_York
BEGIN:DAYLIGHT
TZOFFSETFROM:-0500
TZOFFSETTO:-0400
TZNAME:EDT
DTSTART:20250309T070000
END:DAYLIGHT
BEGIN:STANDARD
TZOFFSETFROM:-0400
TZOFFSETTO:-0500
TZNAME:EST
DTSTART:20251102T060000
END:STANDARD
BEGIN:DAYLIGHT
TZOFFSETFROM:-0500
TZOFFSETTO:-0400
TZNAME:EDT
DTSTART:20260308T070000
END:DAYLIGHT
BEGIN:STANDARD
TZOFFSETFROM:-0400
TZOFFSETTO:-0500
TZNAME:EST
DTSTART:20261101T060000
END:STANDARD
BEGIN:DAYLIGHT
TZOFFSETFROM:-0500
TZOFFSETTO:-0400
TZNAME:EDT
DTSTART:20270314T070000
END:DAYLIGHT
BEGIN:STANDARD
TZOFFSETFROM:-0400
TZOFFSETTO:-0500
TZNAME:EST
DTSTART:20271107T060000
END:STANDARD
END:VTIMEZONE
BEGIN:VEVENT
DTSTART;TZID=America/New_York:20260421T090000
DTEND;TZID=America/New_York:20260421T103000
DTSTAMP:20260422T104539
CREATED:20260408T213720Z
LAST-MODIFIED:20260408T213720Z
UID:10036238-1776762000-1776767400@metroatlantaexchange.org
SUMMARY:Georgia Center for Nonprofits: Revenue Strategy Cohort
DESCRIPTION:The Georgia Center for Nonprofits is hosting a Revenue Strategy Cohort on Tuesday\, April 21st\, from 9:00 AM to 10:30 AM. \nGCN’s Revenue Strategy Cohort is a four-part program designed to help nonprofit leadership teams evaluate their current revenue mix\, explore new funding opportunities\, and build a practical implementation plan that supports long-term sustainability. This cohort moves beyond theory – combining expert facilitation\, peer learning\, and hands-on tools to help your team make confident\, informed decisions about your revenue future. \nClick here to learn more and register.
URL:https://metroatlantaexchange.org/event/georgia-center-for-nonprofits-revenue-strategy-cohort/
LOCATION:GA
CATEGORIES:Virtual Event,Workforce Developer
END:VEVENT
BEGIN:VEVENT
DTSTART;TZID=America/New_York:20260421T120000
DTEND;TZID=America/New_York:20260421T140000
DTSTAMP:20260422T104539
CREATED:20260419T014945Z
LAST-MODIFIED:20260419T014945Z
UID:10036258-1776772800-1776780000@metroatlantaexchange.org
SUMMARY:Walmart: Maintenance Technician Virtual Hiring Event
DESCRIPTION:Walmart is hosting a Maintenance Technician Virtual Hiring Event on Tuesday\, April 21st\, from 12:00 PM to 2:00 PM. \nWalmart is expanding the team and looking for experienced Commercial Maintenance Technicians\, Commercial Food Equipment Maintenance Technicians and Senior Commercial Maintenance Technicians. Walmart gives driven skilled trade technicians stability and opportunity. You’ll find more than just a job – you’ll find a place to learn\, grow\, and succeed. \nClick here to learn more and register.
URL:https://metroatlantaexchange.org/event/walmart-maintenance-technician-virtual-hiring-event/
LOCATION:GA
CATEGORIES:Job Seeker,Virtual Event
END:VEVENT
BEGIN:VEVENT
DTSTART;TZID=America/New_York:20260421T130000
DTEND;TZID=America/New_York:20260421T140000
DTSTAMP:20260422T104539
CREATED:20260408T203943Z
LAST-MODIFIED:20260408T203943Z
UID:10036208-1776776400-1776780000@metroatlantaexchange.org
SUMMARY:Hiring Our Heroes: Preparing for a Virtual Hiring Event
DESCRIPTION:Hiring Our Heroes is hosting a webinar on Preparing for a Virtual Hiring Event on Tuesday\, April 21st\, starting at 1:00 PM. \nAre you ready to connect with your next career opportunity? Before you log in\, learn tips from Hiring Our Heroes to help you prepare for a virtual hiring fair. \nClick here to register via Zoom.
URL:https://metroatlantaexchange.org/event/hiring-our-heroes-preparing-for-a-virtual-hiring-event-2/
LOCATION:GA
CATEGORIES:Career Development,Job Seeker,Veterans/Military,Virtual Event
END:VEVENT
BEGIN:VEVENT
DTSTART;TZID=America/New_York:20260421T140000
DTEND;TZID=America/New_York:20260421T153000
DTSTAMP:20260422T104539
CREATED:20260408T204222Z
LAST-MODIFIED:20260408T204222Z
UID:10036209-1776780000-1776785400@metroatlantaexchange.org
SUMMARY:Department of Veterans Affairs: VA Federal Application
DESCRIPTION:The Department of Veterans Affairs is hosting a VA Federal Application webinar on Tuesday\, April 21st\, from 2:00 PM to 3:30 PM. \nDuring this virtual session\, Veteran and Military Spouse Talent Engagement Program’s (VMSTEP) personnel will present on how to write a federal government two-page resume\, set up a user account and navigate USAJOBS. Get ready to learn tips and tricks for crafting a standout federal application that will get you noticed by top federal employers. \nClick here to learn more and register.
URL:https://metroatlantaexchange.org/event/department-of-veterans-affairs-va-federal-application/
LOCATION:GA
CATEGORIES:Career Development,Job Seeker,Veterans/Military,Virtual Event
END:VEVENT
BEGIN:VEVENT
DTSTART;TZID=America/New_York:20260421T140000
DTEND;TZID=America/New_York:20260421T180000
DTSTAMP:20260422T104539
CREATED:20260406T164737Z
LAST-MODIFIED:20260406T164737Z
UID:10036101-1776780000-1776794400@metroatlantaexchange.org
SUMMARY:Northeast Georgia Health System (NGHS): Virtual Recruitment Event - Registered Nurses (RN)
DESCRIPTION:Northeast Geogia Health System (NGHS) is hosting a Virtual Recruitment Event: Registered Nurses (RN) on Tuesday\, April 21st\, from 2:00 PM to 6:00 PM. \nDon’t miss the chance to discover how teamwork\, innovation\, and outstanding service sets NGHS apart. If you’re a nurse who’s passionate about making a real impact through exceptional care\,NGHS\, named Georgia’s Best Community Hospital by S. News and World Report\, is the place to shine. Here\, you’ll find a welcoming community\, supportive colleagues\, and the chance to make a difference every day. NGHS has available positions within Acute Care\, Intermediate Care\, Emergency Room\, Resource Pool\, Hospice and other departments. Sign-on bonuses will be available for full and part-time roles. \nClick here to learn more and register.
URL:https://metroatlantaexchange.org/event/northeast-georgia-health-system-nghs-virtual-recruitment-event-registered-nurses-rn/
LOCATION:GA
CATEGORIES:Job Seeker,Virtual Event
END:VEVENT
BEGIN:VEVENT
DTSTART;TZID=America/New_York:20260421T163000
DTEND;TZID=America/New_York:20260421T180000
DTSTAMP:20260422T104539
CREATED:20260406T165054Z
LAST-MODIFIED:20260406T165054Z
UID:10036103-1776789000-1776794400@metroatlantaexchange.org
SUMMARY:Fulton County Schools (FCS): Special Education Virtual Career Fair
DESCRIPTION:Fulton County Schools (FCS) is hosting a Special Education Virtual Career Fair on Tuesday\, April 21st\, from 4:30 PM to 6:00 PM. \nDuring this event\, participants will have the opportunity to speak with representatives from FCS about available positions focused on Services for Exceptional Children. FCS offers competitive salaries\, world-class training\, opportunities for growth\, employee wellness programs and more. \nClick here to learn more and register.
URL:https://metroatlantaexchange.org/event/fulton-county-schools-fcs-special-education-virtual-career-fair-3/
LOCATION:GA
CATEGORIES:Job Seeker,Virtual Event
END:VEVENT
END:VCALENDAR