BEGIN:VCALENDAR
VERSION:2.0
PRODID:-//MAX - ECPv6.15.17.1//NONSGML v1.0//EN
CALSCALE:GREGORIAN
METHOD:PUBLISH
X-WR-CALNAME:MAX
X-ORIGINAL-URL:https://metroatlantaexchange.org
X-WR-CALDESC:Events for MAX
REFRESH-INTERVAL;VALUE=DURATION:PT1H
X-Robots-Tag:noindex
X-PUBLISHED-TTL:PT1H
BEGIN:VTIMEZONE
TZID:America/New_York
BEGIN:DAYLIGHT
TZOFFSETFROM:-0500
TZOFFSETTO:-0400
TZNAME:EDT
DTSTART:20250309T070000
END:DAYLIGHT
BEGIN:STANDARD
TZOFFSETFROM:-0400
TZOFFSETTO:-0500
TZNAME:EST
DTSTART:20251102T060000
END:STANDARD
BEGIN:DAYLIGHT
TZOFFSETFROM:-0500
TZOFFSETTO:-0400
TZNAME:EDT
DTSTART:20260308T070000
END:DAYLIGHT
BEGIN:STANDARD
TZOFFSETFROM:-0400
TZOFFSETTO:-0500
TZNAME:EST
DTSTART:20261101T060000
END:STANDARD
BEGIN:DAYLIGHT
TZOFFSETFROM:-0500
TZOFFSETTO:-0400
TZNAME:EDT
DTSTART:20270314T070000
END:DAYLIGHT
BEGIN:STANDARD
TZOFFSETFROM:-0400
TZOFFSETTO:-0500
TZNAME:EST
DTSTART:20271107T060000
END:STANDARD
END:VTIMEZONE
BEGIN:VEVENT
DTSTART;TZID=America/New_York:20260423T090000
DTEND;TZID=America/New_York:20260423T140000
DTSTAMP:20260422T104557
CREATED:20260408T204913Z
LAST-MODIFIED:20260408T204913Z
UID:10036214-1776934800-1776952800@metroatlantaexchange.org
SUMMARY:Goodwill of North Georgia: Welding Skills Orientation
DESCRIPTION:Goodwill of North Georgia is hosting a Welding Skills Orientation on Thursday\, April 23rd and Friday\, April 24th\, from 9:00 AM to 2:00 PM\, at the Cornelia Career Center. \nFor more information\, call 706-894-4905. \nClick here to learn more and register.
URL:https://metroatlantaexchange.org/event/goodwill-of-north-georgia-welding-skills-orientation-3/2026-04-23/
LOCATION:Goodwill of North Georgia – Cornelia Career Center\, 308 Habersham Hills Circle\, Cornelia\, GA\, 30531\, United States
CATEGORIES:Career Development,In-Person Event,Job Seeker
END:VEVENT
BEGIN:VEVENT
DTSTART;TZID=America/New_York:20260423T090000
DTEND;TZID=America/New_York:20260423T160000
DTSTAMP:20260422T104557
CREATED:20260408T204715Z
LAST-MODIFIED:20260408T204715Z
UID:10036212-1776934800-1776960000@metroatlantaexchange.org
SUMMARY:Goodwill of North Georgia: EVS Skills Orientation
DESCRIPTION:Goodwill of North Georgia is hosting an EVS Skills Orientation on Thursday\, April 23rd and Friday\, April 24th\, from 9:00 AM to 4:00 PM\, at the Smyrna Career Center. \nFor more information\, call 678-766-8173. \nClick here to learn more and register.
URL:https://metroatlantaexchange.org/event/goodwill-of-north-georgia-evs-skills-orientation/2026-04-23/
LOCATION:Goodwill of North Georgia – Smyrna Career Center\, 3205 South Cobb Drive\, Smyrna\, GA\, 30080\, United States
CATEGORIES:Career Development,In-Person Event,Job Seeker
GEO:33.8769374;-84.5289443
X-APPLE-STRUCTURED-LOCATION;VALUE=URI;X-ADDRESS=Goodwill of North Georgia – Smyrna Career Center 3205 South Cobb Drive Smyrna GA 30080 United States;X-APPLE-RADIUS=500;X-TITLE=3205 South Cobb Drive:geo:-84.5289443,33.8769374
END:VEVENT
BEGIN:VEVENT
DTSTART;TZID=America/New_York:20260423T103000
DTEND;TZID=America/New_York:20260423T113000
DTSTAMP:20260422T104557
CREATED:20260406T194503Z
LAST-MODIFIED:20260406T194503Z
UID:10036169-1776940200-1776943800@metroatlantaexchange.org
SUMMARY:Goodwill of North Georgia: Typing Thursdays
DESCRIPTION:Goodwill of North Georgia is hosting Typing Thursdays every Thursday\, from 10:30 AM to 11:30 AM\, at the Rome Career Center. \nFor more information\, call 706-292-3304. \nClick here to learn more and register.
URL:https://metroatlantaexchange.org/event/goodwill-of-north-georgia-typing-thursdays/2026-04-23/
LOCATION:Goodwill of North Georgia – Rome Career Center\, 154 Hicks Drive\, Rome\, 30161
CATEGORIES:Career Development,In-Person Event,Job Seeker
END:VEVENT
BEGIN:VEVENT
DTSTART;TZID=America/New_York:20260423T130000
DTEND;TZID=America/New_York:20260423T140000
DTSTAMP:20260422T104557
CREATED:20260408T205106Z
LAST-MODIFIED:20260408T205106Z
UID:10036216-1776949200-1776952800@metroatlantaexchange.org
SUMMARY:Goodwill of North Georgia: Procrastination - Admitting it is the First Step Virtual Event
DESCRIPTION:Goodwill of North Georgia\, in partnership with the @Promise Center\, is hosting a Procrastination: Admitting it is the First Step Virtual Event on Thursday\, April 23rd\, from 1:00 PM to 2:00 PM. \nThis class is geared towards participants ages 16 to 24 years old. You must be registered with @promise to attend. \nClick here to register.
URL:https://metroatlantaexchange.org/event/goodwill-of-north-georgia-procrastination-admitting-it-is-the-first-step-virtual-event/
LOCATION:GA
CATEGORIES:Career Development,Job Seeker,Virtual Event
END:VEVENT
BEGIN:VEVENT
DTSTART;TZID=America/New_York:20260423T183000
DTEND;TZID=America/New_York:20260423T193000
DTSTAMP:20260422T104557
CREATED:20260408T205243Z
LAST-MODIFIED:20260408T205243Z
UID:10036217-1776969000-1776972600@metroatlantaexchange.org
SUMMARY:African American Women Trucking Association (AAWTW): Trucking & Logistics Virtual Meet and Greet
DESCRIPTION:The African American Women Trucking Association (AAWTW) is hosting a Trucking & Logistics Virtual Meet and Greet on Thursday\, April 23rd\, from 6:30 PM to 7:30 PM. \nWhether you’re a new member\, partner\, or exploring opportunities in trucking\, logistics\, and supply chain\, this virtual session is your opportunity to get connected and informed. \nThe African American Women Trucking Association (AAWTA) is a national nonprofit organization committed to advancing equity\, workforce development\, and economic mobility across the transportation industry—and this session is designed to show you exactly how. This event is open to anyone interested in learning more about the trucking and logistics industry\, career and business opportunities and more. \nClick here to learn more and register.
URL:https://metroatlantaexchange.org/event/african-american-women-trucking-association-aawtw-trucking-logistics-virtual-meet-and-greet/
LOCATION:GA
CATEGORIES:Career Development,Job Seeker,Virtual Event
END:VEVENT
END:VCALENDAR