BEGIN:VCALENDAR
VERSION:2.0
PRODID:-//MAX - ECPv6.15.17.1//NONSGML v1.0//EN
CALSCALE:GREGORIAN
METHOD:PUBLISH
X-ORIGINAL-URL:https://metroatlantaexchange.org
X-WR-CALDESC:Events for MAX
REFRESH-INTERVAL;VALUE=DURATION:PT1H
X-Robots-Tag:noindex
X-PUBLISHED-TTL:PT1H
BEGIN:VTIMEZONE
TZID:America/New_York
BEGIN:DAYLIGHT
TZOFFSETFROM:-0500
TZOFFSETTO:-0400
TZNAME:EDT
DTSTART:20250309T070000
END:DAYLIGHT
BEGIN:STANDARD
TZOFFSETFROM:-0400
TZOFFSETTO:-0500
TZNAME:EST
DTSTART:20251102T060000
END:STANDARD
BEGIN:DAYLIGHT
TZOFFSETFROM:-0500
TZOFFSETTO:-0400
TZNAME:EDT
DTSTART:20260308T070000
END:DAYLIGHT
BEGIN:STANDARD
TZOFFSETFROM:-0400
TZOFFSETTO:-0500
TZNAME:EST
DTSTART:20261101T060000
END:STANDARD
BEGIN:DAYLIGHT
TZOFFSETFROM:-0500
TZOFFSETTO:-0400
TZNAME:EDT
DTSTART:20270314T070000
END:DAYLIGHT
BEGIN:STANDARD
TZOFFSETFROM:-0400
TZOFFSETTO:-0500
TZNAME:EST
DTSTART:20271107T060000
END:STANDARD
END:VTIMEZONE
BEGIN:VEVENT
DTSTART;TZID=America/New_York:20260423T110000
DTEND;TZID=America/New_York:20260423T130000
DTSTAMP:20260422T104631
CREATED:20260420T142710Z
LAST-MODIFIED:20260420T142710Z
UID:10036266-1776942000-1776949200@metroatlantaexchange.org
SUMMARY:G.I. Jobs: Military-Friendly Virtual Job Fair
DESCRIPTION:G.I. Jobs is hosting a Military-Friendly Virtual Job Fair on Thursday\, April 23rd\, from 12:00 PM to 4:00 PM. \nExplore hot jobs while you chat with military-friendly recruiters who know the value that veterans bring to their organization. \nClick here to register.
URL:https://metroatlantaexchange.org/event/g-i-jobs-military-friendly-virtual-job-fair-3/
LOCATION:GA
CATEGORIES:Job Seeker,Veterans/Military,Virtual Event
END:VEVENT
BEGIN:VEVENT
DTSTART;TZID=America/New_York:20260423T110000
DTEND;TZID=America/New_York:20260423T140000
DTSTAMP:20260422T104631
CREATED:20260420T142323Z
LAST-MODIFIED:20260420T142323Z
UID:10036264-1776942000-1776952800@metroatlantaexchange.org
SUMMARY:Corporate Gray: Virtual Military-Friendly Job Fair
DESCRIPTION:Corporate Gray is hosting a Virtual Military-Friendly Job Fair on Thursday\, April 23rd\, from 11:00 AM to 2:00 PM. \nThis fair is open to all job seekers to meet with military-friendly employers. \nClick here to learn more and register.
URL:https://metroatlantaexchange.org/event/corporate-gray-virtual-military-friendly-job-fair-4/
LOCATION:GA
CATEGORIES:Job Seeker,Veterans/Military,Virtual Event
END:VEVENT
BEGIN:VEVENT
DTSTART;TZID=America/New_York:20260423T110000
DTEND;TZID=America/New_York:20260423T150000
DTSTAMP:20260422T104631
CREATED:20260420T142132Z
LAST-MODIFIED:20260420T142132Z
UID:10036263-1776942000-1776956400@metroatlantaexchange.org
SUMMARY:CareerEco: Women in Business & Technology Virtual Fair
DESCRIPTION:CareerEco is hosting a Women in Business & Technology Virtual Fair on Thursday\, April 23rd\, from 11:00 AM to 3:00 PM. \nThis national recruiting event is designed to connect prospective students\, recent graduates\, early-career professionals\, and experienced talent with employers and graduate school programs who are committed to advancing gender equity in the business and technology sectors. \nClick here to register.
URL:https://metroatlantaexchange.org/event/careereco-women-in-business-technology-virtual-fair/
LOCATION:GA
CATEGORIES:Job Seeker,Virtual Event
ORGANIZER;CN="CareerEco":MAILTO:Events@CareerEco.com
END:VEVENT
BEGIN:VEVENT
DTSTART;TZID=America/New_York:20260423T130000
DTEND;TZID=America/New_York:20260423T140000
DTSTAMP:20260422T104631
CREATED:20260408T205106Z
LAST-MODIFIED:20260408T205106Z
UID:10036216-1776949200-1776952800@metroatlantaexchange.org
SUMMARY:Goodwill of North Georgia: Procrastination - Admitting it is the First Step Virtual Event
DESCRIPTION:Goodwill of North Georgia\, in partnership with the @Promise Center\, is hosting a Procrastination: Admitting it is the First Step Virtual Event on Thursday\, April 23rd\, from 1:00 PM to 2:00 PM. \nThis class is geared towards participants ages 16 to 24 years old. You must be registered with @promise to attend. \nClick here to register.
URL:https://metroatlantaexchange.org/event/goodwill-of-north-georgia-procrastination-admitting-it-is-the-first-step-virtual-event/
LOCATION:GA
CATEGORIES:Career Development,Job Seeker,Virtual Event
END:VEVENT
BEGIN:VEVENT
DTSTART;TZID=America/New_York:20260423T183000
DTEND;TZID=America/New_York:20260423T193000
DTSTAMP:20260422T104631
CREATED:20260408T205243Z
LAST-MODIFIED:20260408T205243Z
UID:10036217-1776969000-1776972600@metroatlantaexchange.org
SUMMARY:African American Women Trucking Association (AAWTW): Trucking & Logistics Virtual Meet and Greet
DESCRIPTION:The African American Women Trucking Association (AAWTW) is hosting a Trucking & Logistics Virtual Meet and Greet on Thursday\, April 23rd\, from 6:30 PM to 7:30 PM. \nWhether you’re a new member\, partner\, or exploring opportunities in trucking\, logistics\, and supply chain\, this virtual session is your opportunity to get connected and informed. \nThe African American Women Trucking Association (AAWTA) is a national nonprofit organization committed to advancing equity\, workforce development\, and economic mobility across the transportation industry—and this session is designed to show you exactly how. This event is open to anyone interested in learning more about the trucking and logistics industry\, career and business opportunities and more. \nClick here to learn more and register.
URL:https://metroatlantaexchange.org/event/african-american-women-trucking-association-aawtw-trucking-logistics-virtual-meet-and-greet/
LOCATION:GA
CATEGORIES:Career Development,Job Seeker,Virtual Event
END:VEVENT
END:VCALENDAR