BEGIN:VCALENDAR
VERSION:2.0
PRODID:-//MAX - ECPv6.15.17.1//NONSGML v1.0//EN
CALSCALE:GREGORIAN
METHOD:PUBLISH
X-ORIGINAL-URL:https://metroatlantaexchange.org
X-WR-CALDESC:Events for MAX
REFRESH-INTERVAL;VALUE=DURATION:PT1H
X-Robots-Tag:noindex
X-PUBLISHED-TTL:PT1H
BEGIN:VTIMEZONE
TZID:America/New_York
BEGIN:DAYLIGHT
TZOFFSETFROM:-0500
TZOFFSETTO:-0400
TZNAME:EDT
DTSTART:20250309T070000
END:DAYLIGHT
BEGIN:STANDARD
TZOFFSETFROM:-0400
TZOFFSETTO:-0500
TZNAME:EST
DTSTART:20251102T060000
END:STANDARD
BEGIN:DAYLIGHT
TZOFFSETFROM:-0500
TZOFFSETTO:-0400
TZNAME:EDT
DTSTART:20260308T070000
END:DAYLIGHT
BEGIN:STANDARD
TZOFFSETFROM:-0400
TZOFFSETTO:-0500
TZNAME:EST
DTSTART:20261101T060000
END:STANDARD
BEGIN:DAYLIGHT
TZOFFSETFROM:-0500
TZOFFSETTO:-0400
TZNAME:EDT
DTSTART:20270314T070000
END:DAYLIGHT
BEGIN:STANDARD
TZOFFSETFROM:-0400
TZOFFSETTO:-0500
TZNAME:EST
DTSTART:20271107T060000
END:STANDARD
END:VTIMEZONE
BEGIN:VEVENT
DTSTART;TZID=America/New_York:20260425T100000
DTEND;TZID=America/New_York:20260425T130000
DTSTAMP:20260422T135508
CREATED:20260408T214647Z
LAST-MODIFIED:20260408T214647Z
UID:10036242-1777111200-1777122000@metroatlantaexchange.org
SUMMARY:United Way of Greater Atlanta: Justice and Joy Maternal Health Expo
DESCRIPTION:United Way of Greater Atlanta is hosting a Justice and Joy Maternal Health Expo on Saturday\, April 25th\, from 10:00 AM to 1:00 PM\, at the Forest Park Recreation Center. \nThis is a free\, family‑friendly community event celebrating all who give birth\, the families who surround them\, and the deeply rooted village that makes thriving possible. This year’s theme\, “Rooted in Justice & Joy\,” reflects the strength\, resilience\, and progress of mothers and birthing people. The expo will serve as a welcoming community hub where families can connect with tangible health resources\, trusted community partners\, and real‑life tools that support maternal well‑being. Attendees will enjoy access to vendors\, exhibits\, health screenings\, and meaningful connections\, all centered on helping every mother and birthing person feel safe\, supported\, and seen. \nClick here to learn more and register.
URL:https://metroatlantaexchange.org/event/united-way-of-greater-atlanta-justice-and-joy-maternal-health-expo/
LOCATION:City of Forest Park Recreation Center\, 803 Forest Parkway\, Forest Park\, GA\, 30297\, United States
CATEGORIES:Workforce Developer
END:VEVENT
END:VCALENDAR