BEGIN:VCALENDAR
VERSION:2.0
PRODID:-//MAX - ECPv6.15.17.1//NONSGML v1.0//EN
CALSCALE:GREGORIAN
METHOD:PUBLISH
X-WR-CALNAME:MAX
X-ORIGINAL-URL:https://metroatlantaexchange.org
X-WR-CALDESC:Events for MAX
REFRESH-INTERVAL;VALUE=DURATION:PT1H
X-Robots-Tag:noindex
X-PUBLISHED-TTL:PT1H
BEGIN:VTIMEZONE
TZID:America/New_York
BEGIN:DAYLIGHT
TZOFFSETFROM:-0500
TZOFFSETTO:-0400
TZNAME:EDT
DTSTART:20250309T070000
END:DAYLIGHT
BEGIN:STANDARD
TZOFFSETFROM:-0400
TZOFFSETTO:-0500
TZNAME:EST
DTSTART:20251102T060000
END:STANDARD
BEGIN:DAYLIGHT
TZOFFSETFROM:-0500
TZOFFSETTO:-0400
TZNAME:EDT
DTSTART:20260308T070000
END:DAYLIGHT
BEGIN:STANDARD
TZOFFSETFROM:-0400
TZOFFSETTO:-0500
TZNAME:EST
DTSTART:20261101T060000
END:STANDARD
BEGIN:DAYLIGHT
TZOFFSETFROM:-0500
TZOFFSETTO:-0400
TZNAME:EDT
DTSTART:20270314T070000
END:DAYLIGHT
BEGIN:STANDARD
TZOFFSETFROM:-0400
TZOFFSETTO:-0500
TZNAME:EST
DTSTART:20271107T060000
END:STANDARD
END:VTIMEZONE
BEGIN:VEVENT
DTSTART;TZID=America/New_York:20260430T110000
DTEND;TZID=America/New_York:20260430T120000
DTSTAMP:20260422T121429
CREATED:20260408T212122Z
LAST-MODIFIED:20260408T212122Z
UID:10036228-1777546800-1777550400@metroatlantaexchange.org
SUMMARY:Amazon: MassHire x Amazon Warehouse Virtual Information Session
DESCRIPTION:Amazon is hosting a MassHire x Amazon Warehouse Virtual Information Session on Thursday\, April 30th\, from 11:00 AM to 12:00 PM. \nJoin Amazon for an informative conversation about entry-level hourly warehouse roles. Learn about Amazon’s workplace culture\, available positions\, and the many opportunities for career growth within the organization. \nClick here to learn more and register.
URL:https://metroatlantaexchange.org/event/amazon-masshire-x-amazon-warehouse-virtual-information-session/
LOCATION:GA
CATEGORIES:Career Development,Job Seeker,Virtual Event
END:VEVENT
BEGIN:VEVENT
DTSTART;TZID=America/New_York:20260430T120000
DTEND;TZID=America/New_York:20260430T130000
DTSTAMP:20260422T121429
CREATED:20260408T215008Z
LAST-MODIFIED:20260408T215008Z
UID:10036244-1777550400-1777554000@metroatlantaexchange.org
SUMMARY:Society for Human Resource Management (SHRM) – Atlanta: Mentor Power Hour - Prioritization & Project Management
DESCRIPTION:The Society for Human Resource Management (SHRM) – Atlanta is hosting a Mentor Power Hour: Prioritization & Project Management on Thursday\, April 30th\, from 12:00 PM to 1:00 PM. \nTogether with a featured mentor\, SHRM will unpack practical prioritization strategies and proven project management frameworks for today’s fast-moving workplaces. Through a fireside chat-style conversation\, you’ll gain real-world insights on aligning priorities\, managing competing demands\, and driving outcomes across teams. \nThe session will emphasize attendee interaction\, with ample time for live questions\, discussion\, and shared challenges. Whether you’re leading initiatives or supporting organizational goals\, you’ll leave with actionable approaches you can immediately apply to improve focus\, efficiency\, and impact in your HR work. Learn how to prioritize what matters most and keep projects on track successfully. \nClick here to learn more and register.
URL:https://metroatlantaexchange.org/event/society-for-human-resource-management-shrm-atlanta-mentor-power-hour-prioritization-project-management/
LOCATION:GA
CATEGORIES:Virtual Event,Workforce Developer
ORGANIZER;CN="The Society for Human Resource Management":MAILTO:info@shrmatlanta.org
END:VEVENT
END:VCALENDAR