BEGIN:VCALENDAR
VERSION:2.0
PRODID:-//MAX - ECPv6.15.17.1//NONSGML v1.0//EN
CALSCALE:GREGORIAN
METHOD:PUBLISH
X-WR-CALNAME:MAX
X-ORIGINAL-URL:https://metroatlantaexchange.org
X-WR-CALDESC:Events for MAX
REFRESH-INTERVAL;VALUE=DURATION:PT1H
X-Robots-Tag:noindex
X-PUBLISHED-TTL:PT1H
BEGIN:VTIMEZONE
TZID:America/New_York
BEGIN:DAYLIGHT
TZOFFSETFROM:-0500
TZOFFSETTO:-0400
TZNAME:EDT
DTSTART:20250309T070000
END:DAYLIGHT
BEGIN:STANDARD
TZOFFSETFROM:-0400
TZOFFSETTO:-0500
TZNAME:EST
DTSTART:20251102T060000
END:STANDARD
BEGIN:DAYLIGHT
TZOFFSETFROM:-0500
TZOFFSETTO:-0400
TZNAME:EDT
DTSTART:20260308T070000
END:DAYLIGHT
BEGIN:STANDARD
TZOFFSETFROM:-0400
TZOFFSETTO:-0500
TZNAME:EST
DTSTART:20261101T060000
END:STANDARD
BEGIN:DAYLIGHT
TZOFFSETFROM:-0500
TZOFFSETTO:-0400
TZNAME:EDT
DTSTART:20270314T070000
END:DAYLIGHT
BEGIN:STANDARD
TZOFFSETFROM:-0400
TZOFFSETTO:-0500
TZNAME:EST
DTSTART:20271107T060000
END:STANDARD
END:VTIMEZONE
BEGIN:VEVENT
DTSTART;TZID=America/New_York:20260504T173000
DTEND;TZID=America/New_York:20260504T193000
DTSTAMP:20260422T190328
CREATED:20260408T212252Z
LAST-MODIFIED:20260408T212252Z
UID:10036229-1777915800-1777923000@metroatlantaexchange.org
SUMMARY:Women in Technology (WIT): May WIT Technology Uncorked
DESCRIPTION:Women in Technology (WIT) is hosting its May WIT Technology Uncorked event on Monday\, May 4th\, from 5:30 PM to 7:30 PM. \nThe location will be shared once your registration is approved. Technology Uncorked will focus on mid-career women in tech who are ready to invest in their professional growth. WIT recognizes this career phase is a critical turning point. That’s why they’ve created a space where you can connect meaningfully with peers\, learn directly from executive thought leaders\, and gain the tools to take your next step with clarity and confidence. For executive-level attendees\, your experience and insight remain invaluable. WIT will be inviting you to serve as facilitators\, small group leaders\, and mentors to help guide the next wave of women leaders in tech. \nClick here to learn more and register.
URL:https://metroatlantaexchange.org/event/women-in-technology-wit-may-wit-technology-uncorked/
LOCATION:GA
CATEGORIES:Career Development,In-Person Event,Job Seeker
END:VEVENT
END:VCALENDAR