BEGIN:VCALENDAR
VERSION:2.0
PRODID:-//MAX - ECPv6.15.17.1//NONSGML v1.0//EN
CALSCALE:GREGORIAN
METHOD:PUBLISH
X-WR-CALNAME:MAX
X-ORIGINAL-URL:https://metroatlantaexchange.org
X-WR-CALDESC:Events for MAX
REFRESH-INTERVAL;VALUE=DURATION:PT1H
X-Robots-Tag:noindex
X-PUBLISHED-TTL:PT1H
BEGIN:VTIMEZONE
TZID:America/New_York
BEGIN:DAYLIGHT
TZOFFSETFROM:-0500
TZOFFSETTO:-0400
TZNAME:EDT
DTSTART:20250309T070000
END:DAYLIGHT
BEGIN:STANDARD
TZOFFSETFROM:-0400
TZOFFSETTO:-0500
TZNAME:EST
DTSTART:20251102T060000
END:STANDARD
BEGIN:DAYLIGHT
TZOFFSETFROM:-0500
TZOFFSETTO:-0400
TZNAME:EDT
DTSTART:20260308T070000
END:DAYLIGHT
BEGIN:STANDARD
TZOFFSETFROM:-0400
TZOFFSETTO:-0500
TZNAME:EST
DTSTART:20261101T060000
END:STANDARD
BEGIN:DAYLIGHT
TZOFFSETFROM:-0500
TZOFFSETTO:-0400
TZNAME:EDT
DTSTART:20270314T070000
END:DAYLIGHT
BEGIN:STANDARD
TZOFFSETFROM:-0400
TZOFFSETTO:-0500
TZNAME:EST
DTSTART:20271107T060000
END:STANDARD
END:VTIMEZONE
BEGIN:VEVENT
DTSTART;TZID=America/New_York:20260505T081500
DTEND;TZID=America/New_York:20260505T093000
DTSTAMP:20260422T140530
CREATED:20260408T215159Z
LAST-MODIFIED:20260408T215159Z
UID:10036245-1777968900-1777973400@metroatlantaexchange.org
SUMMARY:Greater Hall Chamber of Commerce: Why Managers Often Fail to Lead - And How Not to Be One of Them
DESCRIPTION:The Greater Hall Chamber of Commerce is hosting Why Managers Often Fail to Lead – And How Not to Be One of Them on Tuesday\, May 5th\, from 8:15 AM to 9:30 AM at the Greater Hall Chamber of Commerce. \nMost organizations create a culture where personnel and staff are effective in accomplishing the organizational mission. These same individuals\, however\, are often ineffective when promoted to supervisors and managers in their practice of recognized leadership skills such as communication and dealing with problems and problem employees and managers. Why do effective individuals become ineffective at practicing what we all know as leadership attitudes and behaviors? This program examines factors such as training\, ineffective modeling\, loss of relational connection and accountability- and how to turn these factors around to cultivate effective leaders. \nClick here to learn more and register.
URL:https://metroatlantaexchange.org/event/greater-hall-chamber-of-commerce-why-managers-often-fail-to-lead-and-how-not-to-be-one-of-them/
LOCATION:Greater Hall Chamber of Commerce (Gainesville)\, 230 E.E. Butler Parkway\, Gainesville\, 30501\, United States
CATEGORIES:In-Person Event,Workforce Developer
END:VEVENT
BEGIN:VEVENT
DTSTART;TZID=America/New_York:20260505T100000
DTEND;TZID=America/New_York:20260505T140000
DTSTAMP:20260422T140530
CREATED:20260120T010929Z
LAST-MODIFIED:20260120T010929Z
UID:10035865-1777975200-1777989600@metroatlantaexchange.org
SUMMARY:Fulton County Library System: Mobile Career Center
DESCRIPTION:The Fulton County Library System hosts a Mobile Career Center every first Tuesday of the month\, from 10:00 AM to 2:00 PM\, at the Palmetto Branch Library. \nJoin the Fulton County Library System once a month for a career assistance program that includes job search assistance\, resume writing\, job training\, and digital training. \nClick here to learn more.
URL:https://metroatlantaexchange.org/event/fulton-county-library-system-mobile-career-center/2026-05-05/
LOCATION:Palmetto Branch Library\, 9111 Cascade Palmetto Highway\, Palmetto\, GA\, 30268\, United States
CATEGORIES:Career Development,In-Person Event,Job Seeker
END:VEVENT
BEGIN:VEVENT
DTSTART;TZID=America/New_York:20260505T140000
DTEND;TZID=America/New_York:20260505T150000
DTSTAMP:20260422T140530
CREATED:20260408T215311Z
LAST-MODIFIED:20260408T215311Z
UID:10036246-1777989600-1777993200@metroatlantaexchange.org
SUMMARY:Georgia Center for Nonprofits: Get Centered
DESCRIPTION:The Georgia Center for Nonprofits is hosting a Get Centered webinar on Tuesday\, May 5th\, from 2:00 PM to 3:00 PM. \nGet Centered is a virtual offering from GCN designed to help professionals strengthen the well–being skills that support success at work. These sessions combine practical strategies with opportunities for peer connection\, giving you tools you can immediately apply in your professional life. Exclusively for GCN members\, each Get Centered session will explore different aspects of well-being\, offering fresh ideas and practices that can be adapted to your unique context. By participating\, you’ll gain actionable techniques\, learn from the experiences of others\, and join a supportive community committed to integrating well-being into everyday professional practice. \nClick here to learn more and register.
URL:https://metroatlantaexchange.org/event/georgia-center-for-nonprofits-get-centered/
LOCATION:GA
CATEGORIES:Virtual Event,Workforce Developer
END:VEVENT
BEGIN:VEVENT
DTSTART;TZID=America/New_York:20260505T163000
DTEND;TZID=America/New_York:20260505T173000
DTSTAMP:20260422T140530
CREATED:20260406T191925Z
LAST-MODIFIED:20260406T191925Z
UID:10036130-1777998600-1778002200@metroatlantaexchange.org
SUMMARY:Fulton County Library System: Professional Resume and Cover Letter Class
DESCRIPTION:The Fulton County Library System hosts a Professional Resume and Cover Letter class on Tuesdays\, from 4:30 PM to 5:30 PM\, at the Dogwood Branch. \nThis event will provide tips and strategies for creating a standout resume and cover letter and it is free and open to the public. \nClick here for a flyer.
URL:https://metroatlantaexchange.org/event/fulton-county-library-system-professional-resume-and-cover-letter-class/2026-05-05/
LOCATION:Dogwood Branch\, 1838 Donald Lee Hollowell Parkway\, NW\, Atlanta\, GA\, 30318\, United States
CATEGORIES:Career Development,In-Person Event,Job Seeker
END:VEVENT
BEGIN:VEVENT
DTSTART;TZID=America/New_York:20260505T180000
DTEND;TZID=America/New_York:20260505T190000
DTSTAMP:20260422T140530
CREATED:20250811T054826Z
LAST-MODIFIED:20250811T054826Z
UID:10035007-1778004000-1778007600@metroatlantaexchange.org
SUMMARY:University of Parents (U4P): DadCONNECT
DESCRIPTION:University of Parents (U4P) hosts DadCONNECT on Tuesdays at 6:00 PM\, virtually. \nThis is a monthly virtual and community-based space designed to empower fathers and strengthen families. These monthly sessions are opportunities for fathers\, grandfathers\, stepfathers\, and male caregivers come together for honest conversation\, encouragement\, and practical tools for fatherhood and life. \nClick here to learn more and register.
URL:https://metroatlantaexchange.org/event/university-of-parents-u4p-dadconnect/2026-05-05/
LOCATION:GA
CATEGORIES:Career Development,Virtual Event
END:VEVENT
BEGIN:VEVENT
DTSTART;TZID=America/New_York:20260505T180000
DTEND;TZID=America/New_York:20260505T190000
DTSTAMP:20260422T140530
CREATED:20260406T192331Z
LAST-MODIFIED:20260406T192331Z
UID:10036139-1778004000-1778007600@metroatlantaexchange.org
SUMMARY:Fulton County Library System: Computer Class
DESCRIPTION:The Fulton County Library System is hosting a Computer Class every Tuesday\, from 6:00 PM to 7:00 PM\, at the Gladys S. Dennard Library. \nJoin an exciting session designed to boost your digital skills! Whether you’re looking to master your computer\, navigate the internet\, or make the most of your mobile devices and e-readers. \nClick here to learn more and register.
URL:https://metroatlantaexchange.org/event/fulton-county-library-system-computer-class-3/2026-05-05/
LOCATION:Gladys S. Dennard Library\, 4055 Flat Shoals Road\, Union City\, GA\, 30291\, United States
CATEGORIES:Career Development,In-Person Event,Job Seeker
END:VEVENT
END:VCALENDAR