BEGIN:VCALENDAR
VERSION:2.0
PRODID:-//MAX - ECPv6.15.17.1//NONSGML v1.0//EN
CALSCALE:GREGORIAN
METHOD:PUBLISH
X-WR-CALNAME:MAX
X-ORIGINAL-URL:https://metroatlantaexchange.org
X-WR-CALDESC:Events for MAX
REFRESH-INTERVAL;VALUE=DURATION:PT1H
X-Robots-Tag:noindex
X-PUBLISHED-TTL:PT1H
BEGIN:VTIMEZONE
TZID:America/New_York
BEGIN:DAYLIGHT
TZOFFSETFROM:-0500
TZOFFSETTO:-0400
TZNAME:EDT
DTSTART:20250309T070000
END:DAYLIGHT
BEGIN:STANDARD
TZOFFSETFROM:-0400
TZOFFSETTO:-0500
TZNAME:EST
DTSTART:20251102T060000
END:STANDARD
BEGIN:DAYLIGHT
TZOFFSETFROM:-0500
TZOFFSETTO:-0400
TZNAME:EDT
DTSTART:20260308T070000
END:DAYLIGHT
BEGIN:STANDARD
TZOFFSETFROM:-0400
TZOFFSETTO:-0500
TZNAME:EST
DTSTART:20261101T060000
END:STANDARD
BEGIN:DAYLIGHT
TZOFFSETFROM:-0500
TZOFFSETTO:-0400
TZNAME:EDT
DTSTART:20270314T070000
END:DAYLIGHT
BEGIN:STANDARD
TZOFFSETFROM:-0400
TZOFFSETTO:-0500
TZNAME:EST
DTSTART:20271107T060000
END:STANDARD
END:VTIMEZONE
BEGIN:VEVENT
DTSTART;TZID=America/New_York:20260518T080000
DTEND;TZID=America/New_York:20260520T170000
DTSTAMP:20260422T225216
CREATED:20251203T202316Z
LAST-MODIFIED:20251203T202316Z
UID:10035764-1779091200-1779296400@metroatlantaexchange.org
SUMMARY:National Association of Workforce Development Professionals (NAWDP): 42nd Annual Conference
DESCRIPTION:The National Association of Workforce Development Professionals (NAWDP) is hosting its 42nd Annual Conference starting Monday\, May 18th through Wednesday\, May 20th\, at the Sheraton Phoenix Downtown. \nThis premier event brings together the nation’s most dedicated workforce development professionals and thought leaders from organizations spanning workforce boards\, community colleges\, private sector business\, economic development\, community- and faith-based organizations\, and more. Over three days\, attendees will explore innovative strategies\, gain fresh insights\, and strengthen their ability to adapt in an ever-evolving workforce landscape. The conference will feature inspiring keynote speakers\, interactive workshops\, and forward-thinking discussions that challenge participants to think critically\, act boldly\, and rise to meet the opportunities ahead. This year’s theme\, “Rising to the Challenge\,” celebrates the resilience\, creativity\, and leadership that define our field. As workforce professionals\, we know that every challenge is an opportunity to grow stronger\, collaborate deeper\, and make lasting impact. \nClick here to learn more and register.
URL:https://metroatlantaexchange.org/event/national-association-of-workforce-development-professionals-nawdp-42nd-annual-conference/
LOCATION:Sheraton Grand Phoenix\, 340 N 3rd Street\, Phoenix\, AZ\, 85004\, United States
CATEGORIES:Conferences,In-Person Event,Workforce Developer
ORGANIZER;CN="National Association of Workforce Development Professionals":MAILTO:info@nawdp.org
GEO:33.4522379;-112.0705419
X-APPLE-STRUCTURED-LOCATION;VALUE=URI;X-ADDRESS=Sheraton Grand Phoenix 340 N 3rd Street Phoenix AZ 85004 United States;X-APPLE-RADIUS=500;X-TITLE=340 N 3rd Street:geo:-112.0705419,33.4522379
END:VEVENT
BEGIN:VEVENT
DTSTART;TZID=America/New_York:20260519T163000
DTEND;TZID=America/New_York:20260519T173000
DTSTAMP:20260422T225216
CREATED:20260406T191925Z
LAST-MODIFIED:20260406T191925Z
UID:10036132-1779208200-1779211800@metroatlantaexchange.org
SUMMARY:Fulton County Library System: Professional Resume and Cover Letter Class
DESCRIPTION:The Fulton County Library System hosts a Professional Resume and Cover Letter class on Tuesdays\, from 4:30 PM to 5:30 PM\, at the Dogwood Branch. \nThis event will provide tips and strategies for creating a standout resume and cover letter and it is free and open to the public. \nClick here for a flyer.
URL:https://metroatlantaexchange.org/event/fulton-county-library-system-professional-resume-and-cover-letter-class/2026-05-19/
LOCATION:Dogwood Branch\, 1838 Donald Lee Hollowell Parkway\, NW\, Atlanta\, GA\, 30318\, United States
CATEGORIES:Career Development,In-Person Event,Job Seeker
END:VEVENT
BEGIN:VEVENT
DTSTART;TZID=America/New_York:20260519T180000
DTEND;TZID=America/New_York:20260519T190000
DTSTAMP:20260422T225216
CREATED:20260406T192331Z
LAST-MODIFIED:20260406T192331Z
UID:10036141-1779213600-1779217200@metroatlantaexchange.org
SUMMARY:Fulton County Library System: Computer Class
DESCRIPTION:The Fulton County Library System is hosting a Computer Class every Tuesday\, from 6:00 PM to 7:00 PM\, at the Gladys S. Dennard Library. \nJoin an exciting session designed to boost your digital skills! Whether you’re looking to master your computer\, navigate the internet\, or make the most of your mobile devices and e-readers. \nClick here to learn more and register.
URL:https://metroatlantaexchange.org/event/fulton-county-library-system-computer-class-3/2026-05-19/
LOCATION:Gladys S. Dennard Library\, 4055 Flat Shoals Road\, Union City\, GA\, 30291\, United States
CATEGORIES:Career Development,In-Person Event,Job Seeker
END:VEVENT
END:VCALENDAR