BEGIN:VCALENDAR
VERSION:2.0
PRODID:-//MAX - ECPv6.15.17.1//NONSGML v1.0//EN
CALSCALE:GREGORIAN
METHOD:PUBLISH
X-WR-CALNAME:MAX
X-ORIGINAL-URL:https://metroatlantaexchange.org
X-WR-CALDESC:Events for MAX
REFRESH-INTERVAL;VALUE=DURATION:PT1H
X-Robots-Tag:noindex
X-PUBLISHED-TTL:PT1H
BEGIN:VTIMEZONE
TZID:America/New_York
BEGIN:DAYLIGHT
TZOFFSETFROM:-0500
TZOFFSETTO:-0400
TZNAME:EDT
DTSTART:20250309T070000
END:DAYLIGHT
BEGIN:STANDARD
TZOFFSETFROM:-0400
TZOFFSETTO:-0500
TZNAME:EST
DTSTART:20251102T060000
END:STANDARD
BEGIN:DAYLIGHT
TZOFFSETFROM:-0500
TZOFFSETTO:-0400
TZNAME:EDT
DTSTART:20260308T070000
END:DAYLIGHT
BEGIN:STANDARD
TZOFFSETFROM:-0400
TZOFFSETTO:-0500
TZNAME:EST
DTSTART:20261101T060000
END:STANDARD
BEGIN:DAYLIGHT
TZOFFSETFROM:-0500
TZOFFSETTO:-0400
TZNAME:EDT
DTSTART:20270314T070000
END:DAYLIGHT
BEGIN:STANDARD
TZOFFSETFROM:-0400
TZOFFSETTO:-0500
TZNAME:EST
DTSTART:20271107T060000
END:STANDARD
END:VTIMEZONE
BEGIN:VEVENT
DTSTART;TZID=America/New_York:20260527T090000
DTEND;TZID=America/New_York:20260527T100000
DTSTAMP:20260422T190443
CREATED:20250902T220734Z
LAST-MODIFIED:20250902T220734Z
UID:10035285-1779872400-1779876000@metroatlantaexchange.org
SUMMARY:Goodwill of North Georgia: NorthStar Testing Session
DESCRIPTION:Goodwill of North Georgia is hosting a NorthStar Testing Session every Wednesday\, from 9:00 AM to 10:00 AM\, at the Woodstock Career Center. \nFor more information\, call 770-874-0901. \nClick here to learn more and register.
URL:https://metroatlantaexchange.org/event/goodwill-of-north-georgia-northstar-testing-session/2026-05-27/
LOCATION:Goodwill of North Georgia – Woodstock Career Center\, 9425 Highway 92\, Woodstock\, GA\, 30188\, United States
CATEGORIES:Career Development,In-Person Event,Job Seeker
GEO:34.0872637;-84.5325399
X-APPLE-STRUCTURED-LOCATION;VALUE=URI;X-ADDRESS=Goodwill of North Georgia – Woodstock Career Center 9425 Highway 92 Woodstock GA 30188 United States;X-APPLE-RADIUS=500;X-TITLE=9425 Highway 92:geo:-84.5325399,34.0872637
END:VEVENT
BEGIN:VEVENT
DTSTART;TZID=America/New_York:20260527T103000
DTEND;TZID=America/New_York:20260527T110000
DTSTAMP:20260422T190443
CREATED:20260406T193002Z
LAST-MODIFIED:20260406T193002Z
UID:10036153-1779877800-1779879600@metroatlantaexchange.org
SUMMARY:Clayton County Library System: One-on-One Tech Class
DESCRIPTION:The Clayton County Library System hosts One-on-One Tech classes on Wednesdays\, from 10:30 AM to 11:00 AM\, at the Riverdale Branch. \nWork one-on-one with a librarian to explore your Pines account\, access online databases\, and use Microsoft Word. Bring your device for personalized help. \nClick here to register.
URL:https://metroatlantaexchange.org/event/clayton-county-library-system-one-on-one-tech-class/2026-05-27/
LOCATION:Clayton County Public Library – Riverdale\, 420 Valley Hill Road\, Riverdale\, GA\, 30274\, United States
CATEGORIES:Career Development,In-Person Event,Job Seeker
GEO:33.5701123;-84.4039771
X-APPLE-STRUCTURED-LOCATION;VALUE=URI;X-ADDRESS=Clayton County Public Library – Riverdale 420 Valley Hill Road Riverdale GA 30274 United States;X-APPLE-RADIUS=500;X-TITLE=420 Valley Hill Road:geo:-84.4039771,33.5701123
END:VEVENT
BEGIN:VEVENT
DTSTART;TZID=America/New_York:20260527T103000
DTEND;TZID=America/New_York:20260527T113000
DTSTAMP:20260422T190443
CREATED:20260406T193423Z
LAST-MODIFIED:20260406T193552Z
UID:10036161-1779877800-1779881400@metroatlantaexchange.org
SUMMARY:Goodwill of North Georgia: In-Person Interview Lab
DESCRIPTION:Goodwill of North Georgia\, in partnership with the @Promise Center\, is hosting an In-Person Interview Lab on Wednesdays\, from 10:30 AM to 11:30 AM\, at the @Promise Center. \nThis class is geared towards participants ages 16 to 24 years old. You must be registered with @promise to attend. \nClick here to register.
URL:https://metroatlantaexchange.org/event/goodwill-of-north-georgia-in-person-interview-lab/2026-05-27/
LOCATION:@Promise Center (MLK)\, 2175 Martin Luther King Jr. SW\, Atlanta\, 30310\, United States
CATEGORIES:Career Development,In-Person Event,Job Seeker
END:VEVENT
END:VCALENDAR