BEGIN:VCALENDAR
VERSION:2.0
PRODID:-//MAX - ECPv6.15.17.1//NONSGML v1.0//EN
CALSCALE:GREGORIAN
METHOD:PUBLISH
X-WR-CALNAME:MAX
X-ORIGINAL-URL:https://metroatlantaexchange.org
X-WR-CALDESC:Events for MAX
REFRESH-INTERVAL;VALUE=DURATION:PT1H
X-Robots-Tag:noindex
X-PUBLISHED-TTL:PT1H
BEGIN:VTIMEZONE
TZID:America/New_York
BEGIN:DAYLIGHT
TZOFFSETFROM:-0500
TZOFFSETTO:-0400
TZNAME:EDT
DTSTART:20250309T070000
END:DAYLIGHT
BEGIN:STANDARD
TZOFFSETFROM:-0400
TZOFFSETTO:-0500
TZNAME:EST
DTSTART:20251102T060000
END:STANDARD
BEGIN:DAYLIGHT
TZOFFSETFROM:-0500
TZOFFSETTO:-0400
TZNAME:EDT
DTSTART:20260308T070000
END:DAYLIGHT
BEGIN:STANDARD
TZOFFSETFROM:-0400
TZOFFSETTO:-0500
TZNAME:EST
DTSTART:20261101T060000
END:STANDARD
BEGIN:DAYLIGHT
TZOFFSETFROM:-0500
TZOFFSETTO:-0400
TZNAME:EDT
DTSTART:20270314T070000
END:DAYLIGHT
BEGIN:STANDARD
TZOFFSETFROM:-0400
TZOFFSETTO:-0500
TZNAME:EST
DTSTART:20271107T060000
END:STANDARD
END:VTIMEZONE
BEGIN:VEVENT
DTSTART;TZID=America/New_York:20260101T120000
DTEND;TZID=America/New_York:20260101T130000
DTSTAMP:20260424T221529
CREATED:20251202T153659Z
LAST-MODIFIED:20251202T153659Z
UID:10035669-1767268800-1767272400@metroatlantaexchange.org
SUMMARY:Goodwill of North Georgia: Resumes and Cover Letters Workshop
DESCRIPTION:Goodwill of North Georgia is hosting a Resumes and Cover Letters Workshop every Thursday\, from 12:00 PM to 1:00 PM\, at the Decatur Career Center. \nFor more information\, call 404-554-9600. \nClick here to learn more and register.
URL:https://metroatlantaexchange.org/event/goodwill-of-north-georgia-resumes-and-cover-letters-workshop/2026-01-01/
LOCATION:Goodwill of North Georgia – Decatur Career Center\, 2201 Lawrenceville Highway\, Suite 200\, Decatur\, GA\, 30033\, United States
CATEGORIES:Career Development,In-Person Event,Job Seeker
GEO:33.8114213;-84.2699313
X-APPLE-STRUCTURED-LOCATION;VALUE=URI;X-ADDRESS=Goodwill of North Georgia – Decatur Career Center 2201 Lawrenceville Highway Suite 200 Decatur GA 30033 United States;X-APPLE-RADIUS=500;X-TITLE=2201 Lawrenceville Highway\, Suite 200:geo:-84.2699313,33.8114213
END:VEVENT
BEGIN:VEVENT
DTSTART;TZID=America/New_York:20260107T090000
DTEND;TZID=America/New_York:20260107T100000
DTSTAMP:20260424T221529
CREATED:20250902T220734Z
LAST-MODIFIED:20250902T220734Z
UID:10035265-1767776400-1767780000@metroatlantaexchange.org
SUMMARY:Goodwill of North Georgia: NorthStar Testing Session
DESCRIPTION:Goodwill of North Georgia is hosting a NorthStar Testing Session every Wednesday\, from 9:00 AM to 10:00 AM\, at the Woodstock Career Center. \nFor more information\, call 770-874-0901. \nClick here to learn more and register.
URL:https://metroatlantaexchange.org/event/goodwill-of-north-georgia-northstar-testing-session/2026-01-07/
LOCATION:Goodwill of North Georgia – Woodstock Career Center\, 9425 Highway 92\, Woodstock\, GA\, 30188\, United States
CATEGORIES:Career Development,In-Person Event,Job Seeker
GEO:34.0872637;-84.5325399
X-APPLE-STRUCTURED-LOCATION;VALUE=URI;X-ADDRESS=Goodwill of North Georgia – Woodstock Career Center 9425 Highway 92 Woodstock GA 30188 United States;X-APPLE-RADIUS=500;X-TITLE=9425 Highway 92:geo:-84.5325399,34.0872637
END:VEVENT
BEGIN:VEVENT
DTSTART;TZID=America/New_York:20260108T120000
DTEND;TZID=America/New_York:20260108T130000
DTSTAMP:20260424T221529
CREATED:20251202T153659Z
LAST-MODIFIED:20251202T153659Z
UID:10035670-1767873600-1767877200@metroatlantaexchange.org
SUMMARY:Goodwill of North Georgia: Resumes and Cover Letters Workshop
DESCRIPTION:Goodwill of North Georgia is hosting a Resumes and Cover Letters Workshop every Thursday\, from 12:00 PM to 1:00 PM\, at the Decatur Career Center. \nFor more information\, call 404-554-9600. \nClick here to learn more and register.
URL:https://metroatlantaexchange.org/event/goodwill-of-north-georgia-resumes-and-cover-letters-workshop/2026-01-08/
LOCATION:Goodwill of North Georgia – Decatur Career Center\, 2201 Lawrenceville Highway\, Suite 200\, Decatur\, GA\, 30033\, United States
CATEGORIES:Career Development,In-Person Event,Job Seeker
GEO:33.8114213;-84.2699313
X-APPLE-STRUCTURED-LOCATION;VALUE=URI;X-ADDRESS=Goodwill of North Georgia – Decatur Career Center 2201 Lawrenceville Highway Suite 200 Decatur GA 30033 United States;X-APPLE-RADIUS=500;X-TITLE=2201 Lawrenceville Highway\, Suite 200:geo:-84.2699313,33.8114213
END:VEVENT
BEGIN:VEVENT
DTSTART;TZID=America/New_York:20260114T090000
DTEND;TZID=America/New_York:20260114T100000
DTSTAMP:20260424T221529
CREATED:20250902T220734Z
LAST-MODIFIED:20250902T220734Z
UID:10035266-1768381200-1768384800@metroatlantaexchange.org
SUMMARY:Goodwill of North Georgia: NorthStar Testing Session
DESCRIPTION:Goodwill of North Georgia is hosting a NorthStar Testing Session every Wednesday\, from 9:00 AM to 10:00 AM\, at the Woodstock Career Center. \nFor more information\, call 770-874-0901. \nClick here to learn more and register.
URL:https://metroatlantaexchange.org/event/goodwill-of-north-georgia-northstar-testing-session/2026-01-14/
LOCATION:Goodwill of North Georgia – Woodstock Career Center\, 9425 Highway 92\, Woodstock\, GA\, 30188\, United States
CATEGORIES:Career Development,In-Person Event,Job Seeker
GEO:34.0872637;-84.5325399
X-APPLE-STRUCTURED-LOCATION;VALUE=URI;X-ADDRESS=Goodwill of North Georgia – Woodstock Career Center 9425 Highway 92 Woodstock GA 30188 United States;X-APPLE-RADIUS=500;X-TITLE=9425 Highway 92:geo:-84.5325399,34.0872637
END:VEVENT
BEGIN:VEVENT
DTSTART;TZID=America/New_York:20260115T120000
DTEND;TZID=America/New_York:20260115T130000
DTSTAMP:20260424T221529
CREATED:20251202T153659Z
LAST-MODIFIED:20251202T153659Z
UID:10035671-1768478400-1768482000@metroatlantaexchange.org
SUMMARY:Goodwill of North Georgia: Resumes and Cover Letters Workshop
DESCRIPTION:Goodwill of North Georgia is hosting a Resumes and Cover Letters Workshop every Thursday\, from 12:00 PM to 1:00 PM\, at the Decatur Career Center. \nFor more information\, call 404-554-9600. \nClick here to learn more and register.
URL:https://metroatlantaexchange.org/event/goodwill-of-north-georgia-resumes-and-cover-letters-workshop/2026-01-15/
LOCATION:Goodwill of North Georgia – Decatur Career Center\, 2201 Lawrenceville Highway\, Suite 200\, Decatur\, GA\, 30033\, United States
CATEGORIES:Career Development,In-Person Event,Job Seeker
GEO:33.8114213;-84.2699313
X-APPLE-STRUCTURED-LOCATION;VALUE=URI;X-ADDRESS=Goodwill of North Georgia – Decatur Career Center 2201 Lawrenceville Highway Suite 200 Decatur GA 30033 United States;X-APPLE-RADIUS=500;X-TITLE=2201 Lawrenceville Highway\, Suite 200:geo:-84.2699313,33.8114213
END:VEVENT
BEGIN:VEVENT
DTSTART;TZID=America/New_York:20260120T140000
DTEND;TZID=America/New_York:20260120T160000
DTSTAMP:20260424T221529
CREATED:20260120T011731Z
LAST-MODIFIED:20260120T011731Z
UID:10035876-1768917600-1768924800@metroatlantaexchange.org
SUMMARY:Goodwill of North Georgia: IBM Skills Build Technology Training
DESCRIPTION:Goodwill of North Georgia is hosting an IBM Skills Build Technology Training every Tuesday\, from 2:00 PM to 4:00 PM\, at the Woodstock Career Center. \nFor more information\, call 770-874-0901. \nClick here to learn more and register.
URL:https://metroatlantaexchange.org/event/goodwill-of-north-georgia-ibm-skills-build-technology-training-2/2026-01-20/
LOCATION:Goodwill of North Georgia – Woodstock Career Center\, 9425 Highway 92\, Woodstock\, GA\, 30188\, United States
CATEGORIES:Career Development,In-Person Event,Job Seeker
GEO:34.0872637;-84.5325399
X-APPLE-STRUCTURED-LOCATION;VALUE=URI;X-ADDRESS=Goodwill of North Georgia – Woodstock Career Center 9425 Highway 92 Woodstock GA 30188 United States;X-APPLE-RADIUS=500;X-TITLE=9425 Highway 92:geo:-84.5325399,34.0872637
END:VEVENT
BEGIN:VEVENT
DTSTART;TZID=America/New_York:20260121T090000
DTEND;TZID=America/New_York:20260121T100000
DTSTAMP:20260424T221529
CREATED:20250902T220734Z
LAST-MODIFIED:20250902T220734Z
UID:10035267-1768986000-1768989600@metroatlantaexchange.org
SUMMARY:Goodwill of North Georgia: NorthStar Testing Session
DESCRIPTION:Goodwill of North Georgia is hosting a NorthStar Testing Session every Wednesday\, from 9:00 AM to 10:00 AM\, at the Woodstock Career Center. \nFor more information\, call 770-874-0901. \nClick here to learn more and register.
URL:https://metroatlantaexchange.org/event/goodwill-of-north-georgia-northstar-testing-session/2026-01-21/
LOCATION:Goodwill of North Georgia – Woodstock Career Center\, 9425 Highway 92\, Woodstock\, GA\, 30188\, United States
CATEGORIES:Career Development,In-Person Event,Job Seeker
GEO:34.0872637;-84.5325399
X-APPLE-STRUCTURED-LOCATION;VALUE=URI;X-ADDRESS=Goodwill of North Georgia – Woodstock Career Center 9425 Highway 92 Woodstock GA 30188 United States;X-APPLE-RADIUS=500;X-TITLE=9425 Highway 92:geo:-84.5325399,34.0872637
END:VEVENT
BEGIN:VEVENT
DTSTART;TZID=America/New_York:20260121T093000
DTEND;TZID=America/New_York:20260121T123000
DTSTAMP:20260424T221529
CREATED:20260120T010307Z
LAST-MODIFIED:20260120T010307Z
UID:10035859-1768987800-1768998600@metroatlantaexchange.org
SUMMARY:Goodwill of North Georgia: English as a Second Language Class
DESCRIPTION:Goodwill of North Georgia is hosting an English as a Second Language Class every Monday and Wednesday\, from 9:30 AM to 12:30 PM\, at the Decatur Career Center. \nFor more information\, call 404-554-9600. \nClick here to learn more and register.
URL:https://metroatlantaexchange.org/event/goodwill-of-north-georgia-english-as-a-second-language-class/2026-01-21/
LOCATION:Goodwill of North Georgia – Decatur Career Center\, 2201 Lawrenceville Highway\, Suite 200\, Decatur\, GA\, 30033\, United States
CATEGORIES:Career Development,In-Person Event,Job Seeker
GEO:33.8114213;-84.2699313
X-APPLE-STRUCTURED-LOCATION;VALUE=URI;X-ADDRESS=Goodwill of North Georgia – Decatur Career Center 2201 Lawrenceville Highway Suite 200 Decatur GA 30033 United States;X-APPLE-RADIUS=500;X-TITLE=2201 Lawrenceville Highway\, Suite 200:geo:-84.2699313,33.8114213
END:VEVENT
BEGIN:VEVENT
DTSTART;TZID=America/New_York:20260122T093000
DTEND;TZID=America/New_York:20260122T160000
DTSTAMP:20260424T221529
CREATED:20260120T013610Z
LAST-MODIFIED:20260120T013610Z
UID:10035887-1769074200-1769097600@metroatlantaexchange.org
SUMMARY:Goodwill of North Georgia: Google AI Essentials Training
DESCRIPTION:Goodwill of North Georgia is hosting Google AI Essentials Training on Thursday\, January 22nd\, from 9:30 AM to 4:00 PM\, at the Woodstock Career Center. \nFor more information\, call 770-874-0901. \nClick here to learn more and register.
URL:https://metroatlantaexchange.org/event/goodwill-of-north-georgia-google-ai-essentials-training/
LOCATION:Goodwill of North Georgia – Woodstock Career Center\, 9425 Highway 92\, Woodstock\, GA\, 30188\, United States
CATEGORIES:Career Development,In-Person Event,Job Seeker
GEO:34.0872637;-84.5325399
X-APPLE-STRUCTURED-LOCATION;VALUE=URI;X-ADDRESS=Goodwill of North Georgia – Woodstock Career Center 9425 Highway 92 Woodstock GA 30188 United States;X-APPLE-RADIUS=500;X-TITLE=9425 Highway 92:geo:-84.5325399,34.0872637
END:VEVENT
BEGIN:VEVENT
DTSTART;TZID=America/New_York:20260122T100000
DTEND;TZID=America/New_York:20260122T140000
DTSTAMP:20260424T221529
CREATED:20260119T173707Z
LAST-MODIFIED:20260119T173707Z
UID:10035805-1769076000-1769090400@metroatlantaexchange.org
SUMMARY:Georgia Association of Colleges and Employers (GACE): GACE Innovation Crawl
DESCRIPTION:The Georgia Association of Colleges and Employers (GACE) is hosting the GACE Innovation Crawl on Thursday\, January 22nd\, from 10:00 AM to 2:00 PM\, at Norfolk Southern. \nThis year’s Innovation Crawl features visits with Cargill and Norfolk Southern. Both employers will offer an inside look at their operations\, talent needs\, and recruitment practices. Attendees will hear from company representatives\, ask questions\, and gain a better sense of what it looks like to build and grow a career in these environments. Students are welcome to attend and will benefit from direct exposure to employers and a clearer understanding of possible career paths. The event is open to GACE members\, with space reserved for students who would like to join. \nClick here to learn more and register.
URL:https://metroatlantaexchange.org/event/georgia-association-of-colleges-and-employers-gace-gace-innovation-crawl/
LOCATION:Norfolk Southern\, 650 West Peachtree Street\, NE\, Atlanta\, 30308\, United States
CATEGORIES:Career Development,In-Person Event,Job Seeker
END:VEVENT
BEGIN:VEVENT
DTSTART;TZID=America/New_York:20260122T120000
DTEND;TZID=America/New_York:20260122T130000
DTSTAMP:20260424T221529
CREATED:20251202T153659Z
LAST-MODIFIED:20251202T153659Z
UID:10035672-1769083200-1769086800@metroatlantaexchange.org
SUMMARY:Goodwill of North Georgia: Resumes and Cover Letters Workshop
DESCRIPTION:Goodwill of North Georgia is hosting a Resumes and Cover Letters Workshop every Thursday\, from 12:00 PM to 1:00 PM\, at the Decatur Career Center. \nFor more information\, call 404-554-9600. \nClick here to learn more and register.
URL:https://metroatlantaexchange.org/event/goodwill-of-north-georgia-resumes-and-cover-letters-workshop/2026-01-22/
LOCATION:Goodwill of North Georgia – Decatur Career Center\, 2201 Lawrenceville Highway\, Suite 200\, Decatur\, GA\, 30033\, United States
CATEGORIES:Career Development,In-Person Event,Job Seeker
GEO:33.8114213;-84.2699313
X-APPLE-STRUCTURED-LOCATION;VALUE=URI;X-ADDRESS=Goodwill of North Georgia – Decatur Career Center 2201 Lawrenceville Highway Suite 200 Decatur GA 30033 United States;X-APPLE-RADIUS=500;X-TITLE=2201 Lawrenceville Highway\, Suite 200:geo:-84.2699313,33.8114213
END:VEVENT
BEGIN:VEVENT
DTSTART;TZID=America/New_York:20260122T163000
DTEND;TZID=America/New_York:20260122T200000
DTSTAMP:20260424T221529
CREATED:20260120T012657Z
LAST-MODIFIED:20260120T012657Z
UID:10035885-1769099400-1769112000@metroatlantaexchange.org
SUMMARY:Project Build SWFL: Free Workforce Development Training
DESCRIPTION:Project Build SWFL is hosting Free Workforce Development Training on Thursday\, January 22nd\, from 4:30 PM to 8:00 PM\, at Project Build SWFL. \nProject Build SWFL hosts free development training and certifications for anyone ages 7-25. Additionally\, free mentoring and support will be provided to prepare young people for lasting careers in the construction industry. \nClick here to learn more and register.
URL:https://metroatlantaexchange.org/event/project-build-swfl-free-workforce-development-training/
LOCATION:Project Build SWFL\, 2250 North Druid Hills Road\, Atlanta\, GA\, 30329\, United States
CATEGORIES:Career Development,In-Person Event,Job Seeker
END:VEVENT
BEGIN:VEVENT
DTSTART;TZID=America/New_York:20260123T100000
DTEND;TZID=America/New_York:20260123T110000
DTSTAMP:20260424T221529
CREATED:20260120T014305Z
LAST-MODIFIED:20260120T014305Z
UID:10035890-1769162400-1769166000@metroatlantaexchange.org
SUMMARY:Goodwill of North Georgia: On-Site Resume Workshop
DESCRIPTION:Goodwill of North Georgia is hosting an On-Site Resume Workshop on Friday\, January 23rd\, from 10:00 AM to 11:00 AM\, at the Woodstock Career Center. \nFor more information\, call 770-874-0901. \nClick here to learn more and register.
URL:https://metroatlantaexchange.org/event/goodwill-of-north-georgia-on-site-resume-workshop/
LOCATION:Goodwill of North Georgia – Woodstock Career Center\, 9425 Highway 92\, Woodstock\, GA\, 30188\, United States
CATEGORIES:Career Development,In-Person Event,Job Seeker
GEO:34.0872637;-84.5325399
X-APPLE-STRUCTURED-LOCATION;VALUE=URI;X-ADDRESS=Goodwill of North Georgia – Woodstock Career Center 9425 Highway 92 Woodstock GA 30188 United States;X-APPLE-RADIUS=500;X-TITLE=9425 Highway 92:geo:-84.5325399,34.0872637
END:VEVENT
BEGIN:VEVENT
DTSTART;TZID=America/New_York:20260126T093000
DTEND;TZID=America/New_York:20260126T123000
DTSTAMP:20260424T221529
CREATED:20260120T010307Z
LAST-MODIFIED:20260120T010307Z
UID:10035860-1769419800-1769430600@metroatlantaexchange.org
SUMMARY:Goodwill of North Georgia: English as a Second Language Class
DESCRIPTION:Goodwill of North Georgia is hosting an English as a Second Language Class every Monday and Wednesday\, from 9:30 AM to 12:30 PM\, at the Decatur Career Center. \nFor more information\, call 404-554-9600. \nClick here to learn more and register.
URL:https://metroatlantaexchange.org/event/goodwill-of-north-georgia-english-as-a-second-language-class/2026-01-26/
LOCATION:Goodwill of North Georgia – Decatur Career Center\, 2201 Lawrenceville Highway\, Suite 200\, Decatur\, GA\, 30033\, United States
CATEGORIES:Career Development,In-Person Event,Job Seeker
GEO:33.8114213;-84.2699313
X-APPLE-STRUCTURED-LOCATION;VALUE=URI;X-ADDRESS=Goodwill of North Georgia – Decatur Career Center 2201 Lawrenceville Highway Suite 200 Decatur GA 30033 United States;X-APPLE-RADIUS=500;X-TITLE=2201 Lawrenceville Highway\, Suite 200:geo:-84.2699313,33.8114213
END:VEVENT
BEGIN:VEVENT
DTSTART;TZID=America/New_York:20260127T140000
DTEND;TZID=America/New_York:20260127T160000
DTSTAMP:20260424T221529
CREATED:20260120T011731Z
LAST-MODIFIED:20260120T011731Z
UID:10035877-1769522400-1769529600@metroatlantaexchange.org
SUMMARY:Goodwill of North Georgia: IBM Skills Build Technology Training
DESCRIPTION:Goodwill of North Georgia is hosting an IBM Skills Build Technology Training every Tuesday\, from 2:00 PM to 4:00 PM\, at the Woodstock Career Center. \nFor more information\, call 770-874-0901. \nClick here to learn more and register.
URL:https://metroatlantaexchange.org/event/goodwill-of-north-georgia-ibm-skills-build-technology-training-2/2026-01-27/
LOCATION:Goodwill of North Georgia – Woodstock Career Center\, 9425 Highway 92\, Woodstock\, GA\, 30188\, United States
CATEGORIES:Career Development,In-Person Event,Job Seeker
GEO:34.0872637;-84.5325399
X-APPLE-STRUCTURED-LOCATION;VALUE=URI;X-ADDRESS=Goodwill of North Georgia – Woodstock Career Center 9425 Highway 92 Woodstock GA 30188 United States;X-APPLE-RADIUS=500;X-TITLE=9425 Highway 92:geo:-84.5325399,34.0872637
END:VEVENT
BEGIN:VEVENT
DTSTART;TZID=America/New_York:20260128T090000
DTEND;TZID=America/New_York:20260128T100000
DTSTAMP:20260424T221529
CREATED:20250902T220734Z
LAST-MODIFIED:20250902T220734Z
UID:10035268-1769590800-1769594400@metroatlantaexchange.org
SUMMARY:Goodwill of North Georgia: NorthStar Testing Session
DESCRIPTION:Goodwill of North Georgia is hosting a NorthStar Testing Session every Wednesday\, from 9:00 AM to 10:00 AM\, at the Woodstock Career Center. \nFor more information\, call 770-874-0901. \nClick here to learn more and register.
URL:https://metroatlantaexchange.org/event/goodwill-of-north-georgia-northstar-testing-session/2026-01-28/
LOCATION:Goodwill of North Georgia – Woodstock Career Center\, 9425 Highway 92\, Woodstock\, GA\, 30188\, United States
CATEGORIES:Career Development,In-Person Event,Job Seeker
GEO:34.0872637;-84.5325399
X-APPLE-STRUCTURED-LOCATION;VALUE=URI;X-ADDRESS=Goodwill of North Georgia – Woodstock Career Center 9425 Highway 92 Woodstock GA 30188 United States;X-APPLE-RADIUS=500;X-TITLE=9425 Highway 92:geo:-84.5325399,34.0872637
END:VEVENT
BEGIN:VEVENT
DTSTART;TZID=America/New_York:20260128T093000
DTEND;TZID=America/New_York:20260128T123000
DTSTAMP:20260424T221529
CREATED:20260120T010307Z
LAST-MODIFIED:20260120T010307Z
UID:10035861-1769592600-1769603400@metroatlantaexchange.org
SUMMARY:Goodwill of North Georgia: English as a Second Language Class
DESCRIPTION:Goodwill of North Georgia is hosting an English as a Second Language Class every Monday and Wednesday\, from 9:30 AM to 12:30 PM\, at the Decatur Career Center. \nFor more information\, call 404-554-9600. \nClick here to learn more and register.
URL:https://metroatlantaexchange.org/event/goodwill-of-north-georgia-english-as-a-second-language-class/2026-01-28/
LOCATION:Goodwill of North Georgia – Decatur Career Center\, 2201 Lawrenceville Highway\, Suite 200\, Decatur\, GA\, 30033\, United States
CATEGORIES:Career Development,In-Person Event,Job Seeker
GEO:33.8114213;-84.2699313
X-APPLE-STRUCTURED-LOCATION;VALUE=URI;X-ADDRESS=Goodwill of North Georgia – Decatur Career Center 2201 Lawrenceville Highway Suite 200 Decatur GA 30033 United States;X-APPLE-RADIUS=500;X-TITLE=2201 Lawrenceville Highway\, Suite 200:geo:-84.2699313,33.8114213
END:VEVENT
BEGIN:VEVENT
DTSTART;TZID=America/New_York:20260128T100000
DTEND;TZID=America/New_York:20260128T120000
DTSTAMP:20260424T221529
CREATED:20260120T015908Z
LAST-MODIFIED:20260120T015908Z
UID:10035897-1769594400-1769601600@metroatlantaexchange.org
SUMMARY:Atlanta Center for Self Sufficiency (ACSS): Level Up! Jump Start Your Career
DESCRIPTION:The Atlanta Center for Self Sufficiency (ACSS) is hosting a Level Up! Jump Start Your Career event on Wednesday\, January 28th\, from 10:00 AM to 12:00 PM\, at the Community Grounds Café. \nThe Atlanta Center for Self-Sufficiency (ACSS) team will be available to answer all of your questions and provide workforce development services like resume writing sessions\, mock interviews\, career accelerator bootcamps\, career advising and more. \nClick here to learn more and register.
URL:https://metroatlantaexchange.org/event/atlanta-center-for-self-sufficiency-acss-level-up-jump-start-your-career/
LOCATION:Community Grounds Cafe\, 1297 McDonough Boulevard\, SE\, Atlanta\, GA\, 30315\, United States
CATEGORIES:Career Development,In-Person Event,Job Seeker
END:VEVENT
BEGIN:VEVENT
DTSTART;TZID=America/New_York:20260129T120000
DTEND;TZID=America/New_York:20260129T130000
DTSTAMP:20260424T221529
CREATED:20251202T153659Z
LAST-MODIFIED:20251202T153659Z
UID:10035673-1769688000-1769691600@metroatlantaexchange.org
SUMMARY:Goodwill of North Georgia: Resumes and Cover Letters Workshop
DESCRIPTION:Goodwill of North Georgia is hosting a Resumes and Cover Letters Workshop every Thursday\, from 12:00 PM to 1:00 PM\, at the Decatur Career Center. \nFor more information\, call 404-554-9600. \nClick here to learn more and register.
URL:https://metroatlantaexchange.org/event/goodwill-of-north-georgia-resumes-and-cover-letters-workshop/2026-01-29/
LOCATION:Goodwill of North Georgia – Decatur Career Center\, 2201 Lawrenceville Highway\, Suite 200\, Decatur\, GA\, 30033\, United States
CATEGORIES:Career Development,In-Person Event,Job Seeker
GEO:33.8114213;-84.2699313
X-APPLE-STRUCTURED-LOCATION;VALUE=URI;X-ADDRESS=Goodwill of North Georgia – Decatur Career Center 2201 Lawrenceville Highway Suite 200 Decatur GA 30033 United States;X-APPLE-RADIUS=500;X-TITLE=2201 Lawrenceville Highway\, Suite 200:geo:-84.2699313,33.8114213
END:VEVENT
END:VCALENDAR