BEGIN:VCALENDAR
VERSION:2.0
PRODID:-//MAX - ECPv6.15.17.1//NONSGML v1.0//EN
CALSCALE:GREGORIAN
METHOD:PUBLISH
X-WR-CALNAME:MAX
X-ORIGINAL-URL:https://metroatlantaexchange.org
X-WR-CALDESC:Events for MAX
REFRESH-INTERVAL;VALUE=DURATION:PT1H
X-Robots-Tag:noindex
X-PUBLISHED-TTL:PT1H
BEGIN:VTIMEZONE
TZID:America/New_York
BEGIN:DAYLIGHT
TZOFFSETFROM:-0500
TZOFFSETTO:-0400
TZNAME:EDT
DTSTART:20250309T070000
END:DAYLIGHT
BEGIN:STANDARD
TZOFFSETFROM:-0400
TZOFFSETTO:-0500
TZNAME:EST
DTSTART:20251102T060000
END:STANDARD
BEGIN:DAYLIGHT
TZOFFSETFROM:-0500
TZOFFSETTO:-0400
TZNAME:EDT
DTSTART:20260308T070000
END:DAYLIGHT
BEGIN:STANDARD
TZOFFSETFROM:-0400
TZOFFSETTO:-0500
TZNAME:EST
DTSTART:20261101T060000
END:STANDARD
BEGIN:DAYLIGHT
TZOFFSETFROM:-0500
TZOFFSETTO:-0400
TZNAME:EDT
DTSTART:20270314T070000
END:DAYLIGHT
BEGIN:STANDARD
TZOFFSETFROM:-0400
TZOFFSETTO:-0500
TZNAME:EST
DTSTART:20271107T060000
END:STANDARD
END:VTIMEZONE
BEGIN:VEVENT
DTSTART;TZID=America/New_York:20260211T090000
DTEND;TZID=America/New_York:20260211T100000
DTSTAMP:20260424T203325
CREATED:20250902T220734Z
LAST-MODIFIED:20250902T220734Z
UID:10035270-1770800400-1770804000@metroatlantaexchange.org
SUMMARY:Goodwill of North Georgia: NorthStar Testing Session
DESCRIPTION:Goodwill of North Georgia is hosting a NorthStar Testing Session every Wednesday\, from 9:00 AM to 10:00 AM\, at the Woodstock Career Center. \nFor more information\, call 770-874-0901. \nClick here to learn more and register.
URL:https://metroatlantaexchange.org/event/goodwill-of-north-georgia-northstar-testing-session/2026-02-11/
LOCATION:Goodwill of North Georgia – Woodstock Career Center\, 9425 Highway 92\, Woodstock\, GA\, 30188\, United States
CATEGORIES:Career Development,In-Person Event,Job Seeker
GEO:34.0872637;-84.5325399
X-APPLE-STRUCTURED-LOCATION;VALUE=URI;X-ADDRESS=Goodwill of North Georgia – Woodstock Career Center 9425 Highway 92 Woodstock GA 30188 United States;X-APPLE-RADIUS=500;X-TITLE=9425 Highway 92:geo:-84.5325399,34.0872637
END:VEVENT
BEGIN:VEVENT
DTSTART;TZID=America/New_York:20260211T150000
DTEND;TZID=America/New_York:20260211T160000
DTSTAMP:20260424T203325
CREATED:20251203T141942Z
LAST-MODIFIED:20251203T141942Z
UID:10035720-1770822000-1770825600@metroatlantaexchange.org
SUMMARY:Manufacturing Institute: Zooming Ahead - Mastering Virtual Career Fairs and Employer Engagement
DESCRIPTION:The Manufacturing Institute is hosting Zooming Ahead: Mastering Virtual Career Fairs and Employer Engagement on Wednesday\, February 11th\, from 3:00 PM to 4:00 PM. \nThis interactive session is designed to help you confidently navigate virtual career fairs and stand out to employers. \nClick here to learn more and register.
URL:https://metroatlantaexchange.org/event/manufacturing-institute-zooming-ahead-mastering-virtual-career-fairs-and-employer-engagement/
CATEGORIES:Career Development,Job Seeker,Virtual Event
END:VEVENT
END:VCALENDAR