BEGIN:VCALENDAR
VERSION:2.0
PRODID:-//MAX - ECPv6.15.17.1//NONSGML v1.0//EN
CALSCALE:GREGORIAN
METHOD:PUBLISH
X-WR-CALNAME:MAX
X-ORIGINAL-URL:https://metroatlantaexchange.org
X-WR-CALDESC:Events for MAX
REFRESH-INTERVAL;VALUE=DURATION:PT1H
X-Robots-Tag:noindex
X-PUBLISHED-TTL:PT1H
BEGIN:VTIMEZONE
TZID:America/New_York
BEGIN:DAYLIGHT
TZOFFSETFROM:-0500
TZOFFSETTO:-0400
TZNAME:EDT
DTSTART:20250309T070000
END:DAYLIGHT
BEGIN:STANDARD
TZOFFSETFROM:-0400
TZOFFSETTO:-0500
TZNAME:EST
DTSTART:20251102T060000
END:STANDARD
BEGIN:DAYLIGHT
TZOFFSETFROM:-0500
TZOFFSETTO:-0400
TZNAME:EDT
DTSTART:20260308T070000
END:DAYLIGHT
BEGIN:STANDARD
TZOFFSETFROM:-0400
TZOFFSETTO:-0500
TZNAME:EST
DTSTART:20261101T060000
END:STANDARD
BEGIN:DAYLIGHT
TZOFFSETFROM:-0500
TZOFFSETTO:-0400
TZNAME:EDT
DTSTART:20270314T070000
END:DAYLIGHT
BEGIN:STANDARD
TZOFFSETFROM:-0400
TZOFFSETTO:-0500
TZNAME:EST
DTSTART:20271107T060000
END:STANDARD
END:VTIMEZONE
BEGIN:VEVENT
DTSTART;TZID=America/New_York:20260408T150000
DTEND;TZID=America/New_York:20260408T160000
DTSTAMP:20260424T191326
CREATED:20260406T193930Z
LAST-MODIFIED:20260406T193930Z
UID:10036163-1775660400-1775664000@metroatlantaexchange.org
SUMMARY:Hiring Our Heroes: IBM SkillsBuild Virtual Info Session
DESCRIPTION:Hiring Our Heroes is hosting an IBM SkillsBuild Virtual Info Session on Wednesday\, April 8th\, starting at 3:00 PM. \nJoin Hiring Our Heroes for an information session about IBM SkillsBuild\, now open to the entire military community! IBM SkillsBuild makes it easy to upskill in minutes. Explore a curated selection of courses in today’s most in-demand fields\, plus career resources to help you stand out. Perfect for a lunch break or a weekend deep dive—you can choose quick 5-minute lessons or dive into full programs for deeper learning. Earn digital badges and credentials to showcase your expertise. \nClick here to register via Zoom.
URL:https://metroatlantaexchange.org/event/hiring-our-heroes-ibm-skillsbuild-virtual-info-session/
CATEGORIES:Career Development,Job Seeker,Veterans/Military,Virtual Event
END:VEVENT
BEGIN:VEVENT
DTSTART;TZID=America/New_York:20260408T150000
DTEND;TZID=America/New_York:20260408T160000
DTSTAMP:20260424T191326
CREATED:20260406T194053Z
LAST-MODIFIED:20260406T194053Z
UID:10036164-1775660400-1775664000@metroatlantaexchange.org
SUMMARY:Manufacturing Institute: Heroes Connect - Plastics Pipe Institute
DESCRIPTION:The Manufacturing Institute is hosting a Heroes Connect: Plastics Pipe Institute on Wednesday\, April 8th\, from 3:00 PM to 4:00 PM. \nTake a behind-the-scenes look at life and careers in the Plastics Pipe industry. In this interactive session\, you’ll meet company leaders\, explore their veteran-friendly culture\, and learn about open roles where you can make an impact. \nClick here to learn more and register.
URL:https://metroatlantaexchange.org/event/manufacturing-institute-heroes-connect-plastics-pipe-institute-2/
CATEGORIES:Career Development,Job Seeker,Veterans/Military,Virtual Event
END:VEVENT
END:VCALENDAR