BEGIN:VCALENDAR
VERSION:2.0
PRODID:-//MAX - ECPv6.15.17.1//NONSGML v1.0//EN
CALSCALE:GREGORIAN
METHOD:PUBLISH
X-ORIGINAL-URL:https://metroatlantaexchange.org
X-WR-CALDESC:Events for MAX
REFRESH-INTERVAL;VALUE=DURATION:PT1H
X-Robots-Tag:noindex
X-PUBLISHED-TTL:PT1H
BEGIN:VTIMEZONE
TZID:America/New_York
BEGIN:DAYLIGHT
TZOFFSETFROM:-0500
TZOFFSETTO:-0400
TZNAME:EDT
DTSTART:20250309T070000
END:DAYLIGHT
BEGIN:STANDARD
TZOFFSETFROM:-0400
TZOFFSETTO:-0500
TZNAME:EST
DTSTART:20251102T060000
END:STANDARD
BEGIN:DAYLIGHT
TZOFFSETFROM:-0500
TZOFFSETTO:-0400
TZNAME:EDT
DTSTART:20260308T070000
END:DAYLIGHT
BEGIN:STANDARD
TZOFFSETFROM:-0400
TZOFFSETTO:-0500
TZNAME:EST
DTSTART:20261101T060000
END:STANDARD
BEGIN:DAYLIGHT
TZOFFSETFROM:-0500
TZOFFSETTO:-0400
TZNAME:EDT
DTSTART:20270314T070000
END:DAYLIGHT
BEGIN:STANDARD
TZOFFSETFROM:-0400
TZOFFSETTO:-0500
TZNAME:EST
DTSTART:20271107T060000
END:STANDARD
END:VTIMEZONE
BEGIN:VEVENT
DTSTART;TZID=America/New_York:20260321T100000
DTEND;TZID=America/New_York:20260321T130000
DTSTAMP:20260422T185816
CREATED:20260310T191625Z
LAST-MODIFIED:20260310T191625Z
UID:10036008-1774087200-1774098000@metroatlantaexchange.org
SUMMARY:Clayton County Public Schools (CCPS): School-Based Hiring Event
DESCRIPTION:Clayton County Public Schools (CCPS) is hosting a School-Based Hiring Event on Saturday\, March 21st\, from 10:00 AM to 1:00 PM\, at Morrow High School. \nClayton County Public Schools invites passionate professionals to explore exciting career opportunities at our upcoming Hiring Event for the 2026–2027 School Year! Whether you are an experienced educator\, a recent graduate\, or a professional seeking a meaningful career supporting students and schools\, CCPS offers opportunities to grow\, lead\, and make a lasting impact in our community. \nClick here for a flyer containing a QR code to register.
URL:https://metroatlantaexchange.org/event/clayton-county-public-schools-ccps-school-based-hiring-event/
LOCATION:Morrow High School\, 4930 Steele Road\, Ellenwood\, Georgia\, 30294
CATEGORIES:Educators,In-Person Event,Job Seeker
END:VEVENT
BEGIN:VEVENT
DTSTART;TZID=America/New_York:20260321T113000
DTEND;TZID=America/New_York:20260321T130000
DTSTAMP:20260422T185816
CREATED:20260310T191733Z
LAST-MODIFIED:20260310T191733Z
UID:10036009-1774092600-1774098000@metroatlantaexchange.org
SUMMARY:Southwest Georgia RESA: Virtual Job Fair
DESCRIPTION:Southwest Georgia RESA is hosting a Virtual Job Fair on Saturday\, March 21st\, from 11:30 AM to 1:00 PM. \nReady for your next teaching opportunity? Join the Virtual Teacher Job Fair hosted by SWGA RESA & connect with school systems across Southwest Georgia! Explore career opportunities and learn about the GaTAPP program\, an alternative\, job-embedded certification program for professionals with a bachelor’s degree or higher in non-education fields. Whether you’re a new graduate\, experienced educator\, or exploring new opportunities\, this event is for you! Please have an electronic copy of your résumé ready to share. \nClick here to register.
URL:https://metroatlantaexchange.org/event/southwest-georgia-resa-virtual-job-fair/
LOCATION:GA
CATEGORIES:Educators,Job Seeker,Virtual Event
END:VEVENT
END:VCALENDAR