BEGIN:VCALENDAR
VERSION:2.0
PRODID:-//MAX - ECPv6.15.17.1//NONSGML v1.0//EN
CALSCALE:GREGORIAN
METHOD:PUBLISH
X-WR-CALNAME:MAX
X-ORIGINAL-URL:https://metroatlantaexchange.org
X-WR-CALDESC:Events for MAX
REFRESH-INTERVAL;VALUE=DURATION:PT1H
X-Robots-Tag:noindex
X-PUBLISHED-TTL:PT1H
BEGIN:VTIMEZONE
TZID:America/New_York
BEGIN:DAYLIGHT
TZOFFSETFROM:-0500
TZOFFSETTO:-0400
TZNAME:EDT
DTSTART:20250309T070000
END:DAYLIGHT
BEGIN:STANDARD
TZOFFSETFROM:-0400
TZOFFSETTO:-0500
TZNAME:EST
DTSTART:20251102T060000
END:STANDARD
BEGIN:DAYLIGHT
TZOFFSETFROM:-0500
TZOFFSETTO:-0400
TZNAME:EDT
DTSTART:20260308T070000
END:DAYLIGHT
BEGIN:STANDARD
TZOFFSETFROM:-0400
TZOFFSETTO:-0500
TZNAME:EST
DTSTART:20261101T060000
END:STANDARD
BEGIN:DAYLIGHT
TZOFFSETFROM:-0500
TZOFFSETTO:-0400
TZNAME:EDT
DTSTART:20270314T070000
END:DAYLIGHT
BEGIN:STANDARD
TZOFFSETFROM:-0400
TZOFFSETTO:-0500
TZNAME:EST
DTSTART:20271107T060000
END:STANDARD
END:VTIMEZONE
BEGIN:VEVENT
DTSTART;TZID=America/New_York:20260303T100000
DTEND;TZID=America/New_York:20260303T140000
DTSTAMP:20260422T211005
CREATED:20260120T010929Z
LAST-MODIFIED:20260120T010929Z
UID:10035863-1772532000-1772546400@metroatlantaexchange.org
SUMMARY:Fulton County Library System: Mobile Career Center
DESCRIPTION:The Fulton County Library System hosts a Mobile Career Center every first Tuesday of the month\, from 10:00 AM to 2:00 PM\, at the Palmetto Branch Library. \nJoin the Fulton County Library System once a month for a career assistance program that includes job search assistance\, resume writing\, job training\, and digital training. \nClick here to learn more.
URL:https://metroatlantaexchange.org/event/fulton-county-library-system-mobile-career-center/2026-03-03/
LOCATION:Palmetto Branch Library\, 9111 Cascade Palmetto Highway\, Palmetto\, GA\, 30268\, United States
CATEGORIES:Career Development,In-Person Event,Job Seeker
END:VEVENT
BEGIN:VEVENT
DTSTART;TZID=America/New_York:20260304T090000
DTEND;TZID=America/New_York:20260304T100000
DTSTAMP:20260422T211005
CREATED:20250902T220734Z
LAST-MODIFIED:20250902T220734Z
UID:10035273-1772614800-1772618400@metroatlantaexchange.org
SUMMARY:Goodwill of North Georgia: NorthStar Testing Session
DESCRIPTION:Goodwill of North Georgia is hosting a NorthStar Testing Session every Wednesday\, from 9:00 AM to 10:00 AM\, at the Woodstock Career Center. \nFor more information\, call 770-874-0901. \nClick here to learn more and register.
URL:https://metroatlantaexchange.org/event/goodwill-of-north-georgia-northstar-testing-session/2026-03-04/
LOCATION:Goodwill of North Georgia – Woodstock Career Center\, 9425 Highway 92\, Woodstock\, GA\, 30188\, United States
CATEGORIES:Career Development,In-Person Event,Job Seeker
GEO:34.0872637;-84.5325399
X-APPLE-STRUCTURED-LOCATION;VALUE=URI;X-ADDRESS=Goodwill of North Georgia – Woodstock Career Center 9425 Highway 92 Woodstock GA 30188 United States;X-APPLE-RADIUS=500;X-TITLE=9425 Highway 92:geo:-84.5325399,34.0872637
END:VEVENT
BEGIN:VEVENT
DTSTART;TZID=America/New_York:20260306T080000
DTEND;TZID=America/New_York:20260308T170000
DTSTAMP:20260422T211005
CREATED:20251220T224211Z
LAST-MODIFIED:20251220T224211Z
UID:10035798-1772784000-1772989200@metroatlantaexchange.org
SUMMARY:Credle Inspired Enterprises:  8th Annual Sister Circle Summit: Bold\, Brave\, and Boundless
DESCRIPTION:Credle Inspired Enterprises is hosting its 8th Annual Sister Circle Summit: Bold\, Brave\, and Boundless on Friday\, March 6th through Sunday\, March 8th\, at the Atlanta Marriott Northeast. \nThis year’s summit is designed to celebrate courage\, fuel purpose\, and expand the vision for what’s possible when women support women. Attendees will participate in interactive workshops that inspire an entrepreneurial mindset\, mental wellness\, and community impact. Panel discussions with women leaders will turn purpose into impact while participants learn from small-group circles that foster endless networking possibilities. This is more than an event—it’s a transformative experience. You’ll leave feeling uplifted\, equipped\, and fired up to live boldly\, lead bravely\, and pursue life without limits. \nClick here to learn more and register.
URL:https://metroatlantaexchange.org/event/credle-inspired-enterprises-8th-annual-sister-circle-summit-bold-brave-and-boundless/
LOCATION:Atlanta Marriot Northeast\, 2000 Century Boulevard\, NE\, Atlanta\, GA\, 30345\, United States
CATEGORIES:Career Development,In-Person Event
END:VEVENT
BEGIN:VEVENT
DTSTART;TZID=America/New_York:20260311T090000
DTEND;TZID=America/New_York:20260311T100000
DTSTAMP:20260422T211005
CREATED:20250902T220734Z
LAST-MODIFIED:20250902T220734Z
UID:10035274-1773219600-1773223200@metroatlantaexchange.org
SUMMARY:Goodwill of North Georgia: NorthStar Testing Session
DESCRIPTION:Goodwill of North Georgia is hosting a NorthStar Testing Session every Wednesday\, from 9:00 AM to 10:00 AM\, at the Woodstock Career Center. \nFor more information\, call 770-874-0901. \nClick here to learn more and register.
URL:https://metroatlantaexchange.org/event/goodwill-of-north-georgia-northstar-testing-session/2026-03-11/
LOCATION:Goodwill of North Georgia – Woodstock Career Center\, 9425 Highway 92\, Woodstock\, GA\, 30188\, United States
CATEGORIES:Career Development,In-Person Event,Job Seeker
GEO:34.0872637;-84.5325399
X-APPLE-STRUCTURED-LOCATION;VALUE=URI;X-ADDRESS=Goodwill of North Georgia – Woodstock Career Center 9425 Highway 92 Woodstock GA 30188 United States;X-APPLE-RADIUS=500;X-TITLE=9425 Highway 92:geo:-84.5325399,34.0872637
END:VEVENT
BEGIN:VEVENT
DTSTART;TZID=America/New_York:20260312T100000
DTEND;TZID=America/New_York:20260312T120000
DTSTAMP:20260422T211005
CREATED:20260310T203536Z
LAST-MODIFIED:20260310T203536Z
UID:10036032-1773309600-1773316800@metroatlantaexchange.org
SUMMARY:Our Village United: Headshots\, Handshakes\, and Hugs
DESCRIPTION:Our Village United is hosting Headshots\, Handshakes\, and Hugs on Thursday\, March 12th\, from 10:00 AM to 12:00 PM\, at Pittsburgh Yards. \nThis is a community-centered networking event where you can update your professional headshot and build meaningful business connections. Come get a high-quality\, professional headshot to elevate your online presence\, from LinkedIn to your website and speaker profiles. Headshots will be provided by Carol of Colurwrk\, a photographer known for capturing vibrant\, authentic images that help professionals and brands stand out. \nConnect with fellow entrepreneurs\, professionals\, and community leaders. This is a space for real conversations and genuine connections\, not forced networking. \nClick here to learn more and register.
URL:https://metroatlantaexchange.org/event/our-village-united-headshots-handshakes-and-hugs/
LOCATION:Pittsburgh Yards\, 352 University Avenue\, SW\, Atlanta\, GA\, 30310\, United States
CATEGORIES:Career Development,In-Person Event,Job Seeker
END:VEVENT
BEGIN:VEVENT
DTSTART;TZID=America/New_York:20260318T090000
DTEND;TZID=America/New_York:20260318T100000
DTSTAMP:20260422T211005
CREATED:20250902T220734Z
LAST-MODIFIED:20250902T220734Z
UID:10035275-1773824400-1773828000@metroatlantaexchange.org
SUMMARY:Goodwill of North Georgia: NorthStar Testing Session
DESCRIPTION:Goodwill of North Georgia is hosting a NorthStar Testing Session every Wednesday\, from 9:00 AM to 10:00 AM\, at the Woodstock Career Center. \nFor more information\, call 770-874-0901. \nClick here to learn more and register.
URL:https://metroatlantaexchange.org/event/goodwill-of-north-georgia-northstar-testing-session/2026-03-18/
LOCATION:Goodwill of North Georgia – Woodstock Career Center\, 9425 Highway 92\, Woodstock\, GA\, 30188\, United States
CATEGORIES:Career Development,In-Person Event,Job Seeker
GEO:34.0872637;-84.5325399
X-APPLE-STRUCTURED-LOCATION;VALUE=URI;X-ADDRESS=Goodwill of North Georgia – Woodstock Career Center 9425 Highway 92 Woodstock GA 30188 United States;X-APPLE-RADIUS=500;X-TITLE=9425 Highway 92:geo:-84.5325399,34.0872637
END:VEVENT
BEGIN:VEVENT
DTSTART;TZID=America/New_York:20260325T090000
DTEND;TZID=America/New_York:20260325T100000
DTSTAMP:20260422T211005
CREATED:20250902T220734Z
LAST-MODIFIED:20250902T220734Z
UID:10035276-1774429200-1774432800@metroatlantaexchange.org
SUMMARY:Goodwill of North Georgia: NorthStar Testing Session
DESCRIPTION:Goodwill of North Georgia is hosting a NorthStar Testing Session every Wednesday\, from 9:00 AM to 10:00 AM\, at the Woodstock Career Center. \nFor more information\, call 770-874-0901. \nClick here to learn more and register.
URL:https://metroatlantaexchange.org/event/goodwill-of-north-georgia-northstar-testing-session/2026-03-25/
LOCATION:Goodwill of North Georgia – Woodstock Career Center\, 9425 Highway 92\, Woodstock\, GA\, 30188\, United States
CATEGORIES:Career Development,In-Person Event,Job Seeker
GEO:34.0872637;-84.5325399
X-APPLE-STRUCTURED-LOCATION;VALUE=URI;X-ADDRESS=Goodwill of North Georgia – Woodstock Career Center 9425 Highway 92 Woodstock GA 30188 United States;X-APPLE-RADIUS=500;X-TITLE=9425 Highway 92:geo:-84.5325399,34.0872637
END:VEVENT
END:VCALENDAR