BEGIN:VCALENDAR
VERSION:2.0
PRODID:-//MAX - ECPv6.15.17.1//NONSGML v1.0//EN
CALSCALE:GREGORIAN
METHOD:PUBLISH
X-WR-CALNAME:MAX
X-ORIGINAL-URL:https://metroatlantaexchange.org
X-WR-CALDESC:Events for MAX
REFRESH-INTERVAL;VALUE=DURATION:PT1H
X-Robots-Tag:noindex
X-PUBLISHED-TTL:PT1H
BEGIN:VTIMEZONE
TZID:America/New_York
BEGIN:DAYLIGHT
TZOFFSETFROM:-0500
TZOFFSETTO:-0400
TZNAME:EDT
DTSTART:20250309T070000
END:DAYLIGHT
BEGIN:STANDARD
TZOFFSETFROM:-0400
TZOFFSETTO:-0500
TZNAME:EST
DTSTART:20251102T060000
END:STANDARD
BEGIN:DAYLIGHT
TZOFFSETFROM:-0500
TZOFFSETTO:-0400
TZNAME:EDT
DTSTART:20260308T070000
END:DAYLIGHT
BEGIN:STANDARD
TZOFFSETFROM:-0400
TZOFFSETTO:-0500
TZNAME:EST
DTSTART:20261101T060000
END:STANDARD
BEGIN:DAYLIGHT
TZOFFSETFROM:-0500
TZOFFSETTO:-0400
TZNAME:EDT
DTSTART:20270314T070000
END:DAYLIGHT
BEGIN:STANDARD
TZOFFSETFROM:-0400
TZOFFSETTO:-0500
TZNAME:EST
DTSTART:20271107T060000
END:STANDARD
END:VTIMEZONE
BEGIN:VEVENT
DTSTART;TZID=America/New_York:20260128T090000
DTEND;TZID=America/New_York:20260128T100000
DTSTAMP:20260423T010832
CREATED:20250902T220734Z
LAST-MODIFIED:20250902T220734Z
UID:10035268-1769590800-1769594400@metroatlantaexchange.org
SUMMARY:Goodwill of North Georgia: NorthStar Testing Session
DESCRIPTION:Goodwill of North Georgia is hosting a NorthStar Testing Session every Wednesday\, from 9:00 AM to 10:00 AM\, at the Woodstock Career Center. \nFor more information\, call 770-874-0901. \nClick here to learn more and register.
URL:https://metroatlantaexchange.org/event/goodwill-of-north-georgia-northstar-testing-session/2026-01-28/
LOCATION:Goodwill of North Georgia – Woodstock Career Center\, 9425 Highway 92\, Woodstock\, GA\, 30188\, United States
CATEGORIES:Career Development,In-Person Event,Job Seeker
GEO:34.0872637;-84.5325399
X-APPLE-STRUCTURED-LOCATION;VALUE=URI;X-ADDRESS=Goodwill of North Georgia – Woodstock Career Center 9425 Highway 92 Woodstock GA 30188 United States;X-APPLE-RADIUS=500;X-TITLE=9425 Highway 92:geo:-84.5325399,34.0872637
END:VEVENT
BEGIN:VEVENT
DTSTART;TZID=America/New_York:20260128T093000
DTEND;TZID=America/New_York:20260128T123000
DTSTAMP:20260423T010832
CREATED:20260120T010307Z
LAST-MODIFIED:20260120T010307Z
UID:10035861-1769592600-1769603400@metroatlantaexchange.org
SUMMARY:Goodwill of North Georgia: English as a Second Language Class
DESCRIPTION:Goodwill of North Georgia is hosting an English as a Second Language Class every Monday and Wednesday\, from 9:30 AM to 12:30 PM\, at the Decatur Career Center. \nFor more information\, call 404-554-9600. \nClick here to learn more and register.
URL:https://metroatlantaexchange.org/event/goodwill-of-north-georgia-english-as-a-second-language-class/2026-01-28/
LOCATION:Goodwill of North Georgia – Decatur Career Center\, 2201 Lawrenceville Highway\, Suite 200\, Decatur\, GA\, 30033\, United States
CATEGORIES:Career Development,In-Person Event,Job Seeker
GEO:33.8114213;-84.2699313
X-APPLE-STRUCTURED-LOCATION;VALUE=URI;X-ADDRESS=Goodwill of North Georgia – Decatur Career Center 2201 Lawrenceville Highway Suite 200 Decatur GA 30033 United States;X-APPLE-RADIUS=500;X-TITLE=2201 Lawrenceville Highway\, Suite 200:geo:-84.2699313,33.8114213
END:VEVENT
BEGIN:VEVENT
DTSTART;TZID=America/New_York:20260128T100000
DTEND;TZID=America/New_York:20260128T120000
DTSTAMP:20260423T010832
CREATED:20260120T015908Z
LAST-MODIFIED:20260120T015908Z
UID:10035897-1769594400-1769601600@metroatlantaexchange.org
SUMMARY:Atlanta Center for Self Sufficiency (ACSS): Level Up! Jump Start Your Career
DESCRIPTION:The Atlanta Center for Self Sufficiency (ACSS) is hosting a Level Up! Jump Start Your Career event on Wednesday\, January 28th\, from 10:00 AM to 12:00 PM\, at the Community Grounds Café. \nThe Atlanta Center for Self-Sufficiency (ACSS) team will be available to answer all of your questions and provide workforce development services like resume writing sessions\, mock interviews\, career accelerator bootcamps\, career advising and more. \nClick here to learn more and register.
URL:https://metroatlantaexchange.org/event/atlanta-center-for-self-sufficiency-acss-level-up-jump-start-your-career/
LOCATION:Community Grounds Cafe\, 1297 McDonough Boulevard\, SE\, Atlanta\, GA\, 30315\, United States
CATEGORIES:Career Development,In-Person Event,Job Seeker
END:VEVENT
BEGIN:VEVENT
DTSTART;TZID=America/New_York:20260128T100000
DTEND;TZID=America/New_York:20260128T130000
DTSTAMP:20260423T010832
CREATED:20260119T175917Z
LAST-MODIFIED:20260126T182622Z
UID:10035821-1769594400-1769605200@metroatlantaexchange.org
SUMMARY:Goodwill of North Georgia: Unitus Security Hiring Event
DESCRIPTION:Goodwill of North Georgia is hosting a Unitus Security Hiring Event on Wednesday\, January 28th\, from 10:00 AM to 1:00 PM\, at the Metropolitan Parkway Career Center. \nFor more information\, call 770-795-4204. \nClick here to learn more and register.
URL:https://metroatlantaexchange.org/event/goodwill-of-north-georgia-unitus-security-hiring-event/
LOCATION:Goodwill of North Georgia – Metropolitan Parkway Career Center\, 2160 Metropolitan Parkway\, Atlanta\, GA\, 30315\, United States
CATEGORIES:In-Person Event,Job Seeker
END:VEVENT
BEGIN:VEVENT
DTSTART;TZID=America/New_York:20260128T100000
DTEND;TZID=America/New_York:20260128T130000
DTSTAMP:20260423T010832
CREATED:20260119T182506Z
LAST-MODIFIED:20260119T182506Z
UID:10035823-1769594400-1769605200@metroatlantaexchange.org
SUMMARY:Goodwill of North Georgia: Multi-Industry Job Fair
DESCRIPTION:Goodwill of North Georgia is hosting a Multi-Industry Job Fair on Wednesday\, January 28th\, from 10:00 AM to 1:00 PM\, at the Decatur Career Center. \nFor more information\, call 404-554-9600. \nClick here to learn more and register.
URL:https://metroatlantaexchange.org/event/goodwill-of-north-georgia-multi-industry-job-fair-7/
LOCATION:Goodwill of North Georgia – Decatur Career Center\, 2201 Lawrenceville Highway\, Suite 200\, Decatur\, GA\, 30033\, United States
CATEGORIES:In-Person Event,Job Seeker
GEO:33.8114213;-84.2699313
X-APPLE-STRUCTURED-LOCATION;VALUE=URI;X-ADDRESS=Goodwill of North Georgia – Decatur Career Center 2201 Lawrenceville Highway Suite 200 Decatur GA 30033 United States;X-APPLE-RADIUS=500;X-TITLE=2201 Lawrenceville Highway\, Suite 200:geo:-84.2699313,33.8114213
END:VEVENT
END:VCALENDAR