BEGIN:VCALENDAR
VERSION:2.0
PRODID:-//MAX - ECPv6.15.17.1//NONSGML v1.0//EN
CALSCALE:GREGORIAN
METHOD:PUBLISH
X-WR-CALNAME:MAX
X-ORIGINAL-URL:https://metroatlantaexchange.org
X-WR-CALDESC:Events for MAX
REFRESH-INTERVAL;VALUE=DURATION:PT1H
X-Robots-Tag:noindex
X-PUBLISHED-TTL:PT1H
BEGIN:VTIMEZONE
TZID:America/New_York
BEGIN:DAYLIGHT
TZOFFSETFROM:-0500
TZOFFSETTO:-0400
TZNAME:EDT
DTSTART:20250309T070000
END:DAYLIGHT
BEGIN:STANDARD
TZOFFSETFROM:-0400
TZOFFSETTO:-0500
TZNAME:EST
DTSTART:20251102T060000
END:STANDARD
BEGIN:DAYLIGHT
TZOFFSETFROM:-0500
TZOFFSETTO:-0400
TZNAME:EDT
DTSTART:20260308T070000
END:DAYLIGHT
BEGIN:STANDARD
TZOFFSETFROM:-0400
TZOFFSETTO:-0500
TZNAME:EST
DTSTART:20261101T060000
END:STANDARD
BEGIN:DAYLIGHT
TZOFFSETFROM:-0500
TZOFFSETTO:-0400
TZNAME:EDT
DTSTART:20270314T070000
END:DAYLIGHT
BEGIN:STANDARD
TZOFFSETFROM:-0400
TZOFFSETTO:-0500
TZNAME:EST
DTSTART:20271107T060000
END:STANDARD
END:VTIMEZONE
BEGIN:VEVENT
DTSTART;TZID=America/New_York:20260205T080000
DTEND;TZID=America/New_York:20260206T170000
DTSTAMP:20260423T010044
CREATED:20251203T201033Z
LAST-MODIFIED:20251203T201033Z
UID:10035756-1770278400-1770397200@metroatlantaexchange.org
SUMMARY:National Skills Coalition: 2026 Skills Summit
DESCRIPTION:The National Skills Coalition is hosting its 2026 Skills Summit on Thursday\, February 5th and Friday\, February 6th\, at the Capital Hilton. \nThe 2026 Skills Summit is an advocacy-focused convening for workforce policy champions who are eager to protect workforce investments that workers\, local businesses\, and our economy rely on – while shaping a more fair and prosperous future for everyone. The Skills Summit is a chance for NSC’s network of practitioners\, workers\, students\, and employers to influence members of Congress at a pivotal moment – before key funding and implementation decisions are made. At a time of political and economic uncertainty\, the Skills Summit is a call to action. Together\, we’ll work to protect the policies that workers count on to train for and land quality jobs – and the policies that local businesses depend on to grow and diversify their workforce. We’ll fight for our vision of an America where every person is guaranteed skills training\, good jobs\, and economic prosperity. \nClick here to learn more and register.
URL:https://metroatlantaexchange.org/event/national-skills-coalition-2026-skills-summit/
LOCATION:Capital Hilton Hotel\, 1001 16th Street\, NW\, Washington\, DC\, 20036\, United States
CATEGORIES:Conferences,In-Person Event,Workforce Developer
ORGANIZER;CN="National Skills Coalition":MAILTO:info@nationalskillscoalition.org
END:VEVENT
END:VCALENDAR