BEGIN:VCALENDAR
VERSION:2.0
PRODID:-//MAX - ECPv6.15.17.1//NONSGML v1.0//EN
CALSCALE:GREGORIAN
METHOD:PUBLISH
X-ORIGINAL-URL:https://metroatlantaexchange.org
X-WR-CALDESC:Events for MAX
REFRESH-INTERVAL;VALUE=DURATION:PT1H
X-Robots-Tag:noindex
X-PUBLISHED-TTL:PT1H
BEGIN:VTIMEZONE
TZID:America/New_York
BEGIN:DAYLIGHT
TZOFFSETFROM:-0500
TZOFFSETTO:-0400
TZNAME:EDT
DTSTART:20250309T070000
END:DAYLIGHT
BEGIN:STANDARD
TZOFFSETFROM:-0400
TZOFFSETTO:-0500
TZNAME:EST
DTSTART:20251102T060000
END:STANDARD
BEGIN:DAYLIGHT
TZOFFSETFROM:-0500
TZOFFSETTO:-0400
TZNAME:EDT
DTSTART:20260308T070000
END:DAYLIGHT
BEGIN:STANDARD
TZOFFSETFROM:-0400
TZOFFSETTO:-0500
TZNAME:EST
DTSTART:20261101T060000
END:STANDARD
BEGIN:DAYLIGHT
TZOFFSETFROM:-0500
TZOFFSETTO:-0400
TZNAME:EDT
DTSTART:20270314T070000
END:DAYLIGHT
BEGIN:STANDARD
TZOFFSETFROM:-0400
TZOFFSETTO:-0500
TZNAME:EST
DTSTART:20271107T060000
END:STANDARD
END:VTIMEZONE
BEGIN:VEVENT
DTSTART;TZID=America/New_York:20260205T083000
DTEND;TZID=America/New_York:20260205T173000
DTSTAMP:20260423T010227
CREATED:20260202T232325Z
LAST-MODIFIED:20260202T232325Z
UID:10035900-1770280200-1770312600@metroatlantaexchange.org
SUMMARY:Goodyear Commercial Tire and Service Center: In-Person Job Fair
DESCRIPTION:Goodyear Commercial Tire and Service Center is hosting an In-Person Job Fair on Wednesday\, February 4th and Thursday\, February 5th\, from 8:30 AM to 4:30 PM each day\, at Goodyear Commercial Tire and Service Center. \nGoodyear Commercial Tire and Service Center is interviewing for all opportunities throughout Georgia\, to include Roadside Technician and Assistant Manager \nClick each position link above to learn more and register.
URL:https://metroatlantaexchange.org/event/goodyear-commercial-tire-and-service-center-in-person-job-fair/2026-02-05/
LOCATION:Goodyear Commercial Tire and Service Center\, 3455 Moreland Avenue\, Conley\, GA\, 30288\, United States
CATEGORIES:In-Person Event,Job Seeker
END:VEVENT
BEGIN:VEVENT
DTSTART;TZID=America/New_York:20260205T100000
DTEND;TZID=America/New_York:20260205T120000
DTSTAMP:20260423T010227
CREATED:20260202T233058Z
LAST-MODIFIED:20260202T233138Z
UID:10035903-1770285600-1770292800@metroatlantaexchange.org
SUMMARY:Goodwill of North Georgia: Chase Staffing Open Position Interviews
DESCRIPTION:Goodwill of North Georgia is hosting Chase Staffing Open Position Interviews every Thursday\, from 10:00 AM to 12:00 PM\, at the Cartersville Career Center. \nFor more information\, call 770-276-7036. \nClick here to learn more and register.
URL:https://metroatlantaexchange.org/event/goodwill-of-north-georgia-chase-staffing-open-position-interviews-3/2026-02-05/
LOCATION:Goodwill of North Georgia – Cartersville Career Center\, 929 Joe Frank Harris Parkway\, Cartersville\, GA\, 30120\, United States
CATEGORIES:In-Person Event,Job Seeker
GEO:34.1974793;-84.7941559
X-APPLE-STRUCTURED-LOCATION;VALUE=URI;X-ADDRESS=Goodwill of North Georgia – Cartersville Career Center 929 Joe Frank Harris Parkway Cartersville GA 30120 United States;X-APPLE-RADIUS=500;X-TITLE=929 Joe Frank Harris Parkway:geo:-84.7941559,34.1974793
END:VEVENT
BEGIN:VEVENT
DTSTART;TZID=America/New_York:20260205T100000
DTEND;TZID=America/New_York:20260205T130000
DTSTAMP:20260423T010227
CREATED:20260202T232855Z
LAST-MODIFIED:20260202T232855Z
UID:10035902-1770285600-1770296400@metroatlantaexchange.org
SUMMARY:Goodwill of North Georgia: Catching Your Career Path Job and Resource Fair
DESCRIPTION:Goodwill of North Georgia is hosting a Catching Your Career Path Job and Resource Fair on Thursday\, February 5th\, from 10:00 AM to 1:00 PM\, at the East Athens Career Center. \nFor more information\, call 706-395-1558. \nClick here to learn more and register.
URL:https://metroatlantaexchange.org/event/goodwill-of-north-georgia-catching-your-career-path-job-and-resource-fair/
LOCATION:Goodwill of North Georgia – East Athens Career Center\, 4070 Lexington Road\, Athens\, GA\, 30605\, United States
CATEGORIES:In-Person Event,Job Seeker
END:VEVENT
BEGIN:VEVENT
DTSTART;TZID=America/New_York:20260205T140000
DTEND;TZID=America/New_York:20260205T160000
DTSTAMP:20260423T010227
CREATED:20260202T233659Z
LAST-MODIFIED:20260202T233659Z
UID:10035911-1770300000-1770307200@metroatlantaexchange.org
SUMMARY:Goodwill of North Georgia: Spherion Hiring Event
DESCRIPTION:Goodwill of North Georgia is hosting a Spherion Hiring Event every Thursday\, from 2:00 PM to 4:00 PM\, at the Cornelia Career Center. \nFor more information\, call 706-894-4905. \nClick here to learn more and register.
URL:https://metroatlantaexchange.org/event/goodwill-of-north-georgia-spherion-hiring-event/2026-02-05/
LOCATION:Goodwill of North Georgia – Cornelia Career Center\, 308 Habersham Hills Circle\, Cornelia\, GA\, 30531\, United States
CATEGORIES:In-Person Event,Job Seeker
END:VEVENT
BEGIN:VEVENT
DTSTART;TZID=America/New_York:20260205T160000
DTEND;TZID=America/New_York:20260205T190000
DTSTAMP:20260423T010227
CREATED:20260202T233829Z
LAST-MODIFIED:20260202T233829Z
UID:10035915-1770307200-1770318000@metroatlantaexchange.org
SUMMARY:Northside Hospital: Atlanta Rehab Therapy Interview Day
DESCRIPTION:Northside Hospital is hosting an Atlanta Rehab Therapy Interview Day on Thursday\, February 5th\, from 4:00 PM to 7:00 PM\, at the Hyatt House/Hilton – Perimeter. \nNorthside Hospital is seeking Physical Therapists\, Occupational Therapists\, Speech-Language Pathologists\, and Audiologists. After applying\, candidates will be contacted by a recruiter with interview scheduling details and event instructions. \nClick here to learn more and register.
URL:https://metroatlantaexchange.org/event/northside-hospital-atlanta-rehab-therapy-interview-day/
LOCATION:Hyatt House Atlanta – Perimeter\, 5785 Peachtree Dunwoody Road\, Atlanta\, GA\, 30342\, United States
CATEGORIES:In-Person Event,Job Seeker
END:VEVENT
END:VCALENDAR