BEGIN:VCALENDAR
VERSION:2.0
PRODID:-//MAX - ECPv6.15.17.1//NONSGML v1.0//EN
CALSCALE:GREGORIAN
METHOD:PUBLISH
X-ORIGINAL-URL:https://metroatlantaexchange.org
X-WR-CALDESC:Events for MAX
REFRESH-INTERVAL;VALUE=DURATION:PT1H
X-Robots-Tag:noindex
X-PUBLISHED-TTL:PT1H
BEGIN:VTIMEZONE
TZID:America/New_York
BEGIN:DAYLIGHT
TZOFFSETFROM:-0500
TZOFFSETTO:-0400
TZNAME:EDT
DTSTART:20250309T070000
END:DAYLIGHT
BEGIN:STANDARD
TZOFFSETFROM:-0400
TZOFFSETTO:-0500
TZNAME:EST
DTSTART:20251102T060000
END:STANDARD
BEGIN:DAYLIGHT
TZOFFSETFROM:-0500
TZOFFSETTO:-0400
TZNAME:EDT
DTSTART:20260308T070000
END:DAYLIGHT
BEGIN:STANDARD
TZOFFSETFROM:-0400
TZOFFSETTO:-0500
TZNAME:EST
DTSTART:20261101T060000
END:STANDARD
BEGIN:DAYLIGHT
TZOFFSETFROM:-0500
TZOFFSETTO:-0400
TZNAME:EDT
DTSTART:20270314T070000
END:DAYLIGHT
BEGIN:STANDARD
TZOFFSETFROM:-0400
TZOFFSETTO:-0500
TZNAME:EST
DTSTART:20271107T060000
END:STANDARD
END:VTIMEZONE
BEGIN:VEVENT
DTSTART;TZID=America/New_York:20260206T080000
DTEND;TZID=America/New_York:20260209T170000
DTSTAMP:20260422T231604
CREATED:20250824T213231Z
LAST-MODIFIED:20250824T213231Z
UID:10035179-1770364800-1770656400@metroatlantaexchange.org
SUMMARY:Aspen Institute: 2026 Socrates Winter Seminars
DESCRIPTION:The Aspen Institute is hosting its 2026 Socrates Winter Seminars starting Friday\, February 6th through Monday\, February 9th\, at the Aspen Meadows Resort. \nThe Socrates Seminaris a collaborative weekend-long event for participants from different fields. Participants contribute their understanding of and reactions to carefully selected readings\, with the guidance of moderators who are experts in their sector. This is not a panel discussion\, nor is it a tutorial where the experts share their knowledge.  The seminars take place on Aspen Meadows Resort campus. \nClick here to learn more.
URL:https://metroatlantaexchange.org/event/aspen-institute-2026-socrates-winter-seminars/
LOCATION:Aspen Meadows Resort\, 845 Meadows Road\, Aspen\, CO\, 81611\, United States
CATEGORIES:Conferences,In-Person Event,Workforce Developer
END:VEVENT
BEGIN:VEVENT
DTSTART;TZID=America/New_York:20260209T090000
DTEND;TZID=America/New_York:20260209T160000
DTSTAMP:20260422T231604
CREATED:20260202T234341Z
LAST-MODIFIED:20260202T234341Z
UID:10035920-1770627600-1770652800@metroatlantaexchange.org
SUMMARY:Honda Carland: Career Fair
DESCRIPTION:Honda Carland is hosting a Career Fair on Monday\, February 9th\, from 9:00 AM to 4:00 PM\, at Honda Carland. \nHonda Carland is seeking Automotive Sales professionals who are ready to start a new career with paid training and lots of growth opportunities. If you’re currently working in hospitality\, restaurants\, customer service\, retail\, or another hourly role — and you want career growth\, professional training\, and income based on performance\, this event is for you. \nClick here to learn more and register.
URL:https://metroatlantaexchange.org/event/honda-carland-career-fair/
LOCATION:Honda Carland\, 11085 Alpharetta Highway\, Roswell\, GA\, 30076\, United States
CATEGORIES:In-Person Event,Job Seeker
END:VEVENT
BEGIN:VEVENT
DTSTART;TZID=America/New_York:20260209T093000
DTEND;TZID=America/New_York:20260209T110000
DTSTAMP:20260422T231604
CREATED:20260208T200240Z
LAST-MODIFIED:20260208T200240Z
UID:10035928-1770629400-1770634800@metroatlantaexchange.org
SUMMARY:Goodwill of North Georgia: B&D Cleaning Hiring Event
DESCRIPTION: Goodwill of North Georgia is hosting a B&D Cleaning Hiring Event every Monday\, from 9:30 AM to 11:00 AM\, at the Oakwood Career Center. \nFor more information\, call 770-538-4209. \nClick here to learn more and register.
URL:https://metroatlantaexchange.org/event/goodwill-of-north-georgia-bd-cleaning-hiring-event/2026-02-09/
LOCATION:Goodwill of North Georgia – Oakwood Career Center\, 3715 Mundy Mill Road\, Oakwood\, GA\, 30566\, United States
CATEGORIES:In-Person Event,Job Seeker
GEO:34.2290795;-83.8701636
X-APPLE-STRUCTURED-LOCATION;VALUE=URI;X-ADDRESS=Goodwill of North Georgia – Oakwood Career Center 3715 Mundy Mill Road Oakwood GA 30566 United States;X-APPLE-RADIUS=500;X-TITLE=3715 Mundy Mill Road:geo:-83.8701636,34.2290795
END:VEVENT
END:VCALENDAR